BEGIN:VCALENDAR
VERSION:2.0
PRODID:-//Central Aroostook Chamber of Commerce - ECPv6.15.20//NONSGML v1.0//EN
CALSCALE:GREGORIAN
METHOD:PUBLISH
X-ORIGINAL-URL:https://centralaroostookchamber.com
X-WR-CALDESC:Events for Central Aroostook Chamber of Commerce
REFRESH-INTERVAL;VALUE=DURATION:PT1H
X-Robots-Tag:noindex
X-PUBLISHED-TTL:PT1H
BEGIN:VTIMEZONE
TZID:America/New_York
BEGIN:DAYLIGHT
TZOFFSETFROM:-0500
TZOFFSETTO:-0400
TZNAME:EDT
DTSTART:20250309T070000
END:DAYLIGHT
BEGIN:STANDARD
TZOFFSETFROM:-0400
TZOFFSETTO:-0500
TZNAME:EST
DTSTART:20251102T060000
END:STANDARD
BEGIN:DAYLIGHT
TZOFFSETFROM:-0500
TZOFFSETTO:-0400
TZNAME:EDT
DTSTART:20260308T070000
END:DAYLIGHT
BEGIN:STANDARD
TZOFFSETFROM:-0400
TZOFFSETTO:-0500
TZNAME:EST
DTSTART:20261101T060000
END:STANDARD
BEGIN:DAYLIGHT
TZOFFSETFROM:-0500
TZOFFSETTO:-0400
TZNAME:EDT
DTSTART:20270314T070000
END:DAYLIGHT
BEGIN:STANDARD
TZOFFSETFROM:-0400
TZOFFSETTO:-0500
TZNAME:EST
DTSTART:20271107T060000
END:STANDARD
END:VTIMEZONE
BEGIN:VEVENT
DTSTART;TZID=America/New_York:20260410T170000
DTEND;TZID=America/New_York:20260410T190000
DTSTAMP:20260424T173748
CREATED:20260319T195924Z
LAST-MODIFIED:20260407T125447Z
UID:10001826-1775840400-1775847600@centralaroostookchamber.com
SUMMARY:Empty Bowls
DESCRIPTION:Want to enjoy great food while supporting your community? The University of Maine at Presque Isle and Wintergreen Arts Center are teaming up to present Empty Bowls\, a fundraiser that offers up hand-crafted bowls and soup to fight hunger on a local scale. The event will take place at Wintergreen Arts Center in the Aroostook Centre Mall on Friday\, April 10\, 5-7 p.m. Organizers are looking for volunteers to help with day-of activities; if interested\, please fill out this online volunteer form. FMI: Dylan Ouellette\, dylan.m.ouellette@maine.edu\, or Gretchen Violette\, gviolette1@hotmail.com.
URL:https://centralaroostookchamber.com/community-event/empty-bowls-2/
LOCATION:Wintergreen Arts Center\, 830 Main St\, Presque Isle\, ME\, 04769\, United States
ATTACH;FMTTYPE=image/webp:https://centralaroostookchamber.com/wp-content/uploads/2026/03/EMPTY-BOWLS-LOGO-resized.webp
ORGANIZER;CN="University of Maine at Presque Isle (UMPI)":MAILTO:dylan.m.ouellette@maine.edu
END:VEVENT
END:VCALENDAR