BEGIN:VCALENDAR
VERSION:2.0
PRODID:-//Central Aroostook Chamber of Commerce - ECPv6.15.20//NONSGML v1.0//EN
CALSCALE:GREGORIAN
METHOD:PUBLISH
X-ORIGINAL-URL:https://centralaroostookchamber.com
X-WR-CALDESC:Events for Central Aroostook Chamber of Commerce
REFRESH-INTERVAL;VALUE=DURATION:PT1H
X-Robots-Tag:noindex
X-PUBLISHED-TTL:PT1H
BEGIN:VTIMEZONE
TZID:America/New_York
BEGIN:DAYLIGHT
TZOFFSETFROM:-0500
TZOFFSETTO:-0400
TZNAME:EDT
DTSTART:20270314T070000
END:DAYLIGHT
BEGIN:STANDARD
TZOFFSETFROM:-0400
TZOFFSETTO:-0500
TZNAME:EST
DTSTART:20271107T060000
END:STANDARD
BEGIN:DAYLIGHT
TZOFFSETFROM:-0500
TZOFFSETTO:-0400
TZNAME:EDT
DTSTART:20280312T070000
END:DAYLIGHT
BEGIN:STANDARD
TZOFFSETFROM:-0400
TZOFFSETTO:-0500
TZNAME:EST
DTSTART:20281105T060000
END:STANDARD
BEGIN:DAYLIGHT
TZOFFSETFROM:-0500
TZOFFSETTO:-0400
TZNAME:EDT
DTSTART:20290311T070000
END:DAYLIGHT
BEGIN:STANDARD
TZOFFSETFROM:-0400
TZOFFSETTO:-0500
TZNAME:EST
DTSTART:20291104T060000
END:STANDARD
END:VTIMEZONE
BEGIN:VEVENT
DTSTART;TZID=America/New_York:20280101T083000
DTEND;TZID=America/New_York:20280101T123000
DTSTAMP:20260422T205203
CREATED:20260413T143847Z
LAST-MODIFIED:20260413T143847Z
UID:10001917-1830328200-1830342600@centralaroostookchamber.com
SUMMARY:Presque Isle Farmers Market
DESCRIPTION:You’ll find a wide variety of vendors bringing baked goods\, handcrafted items\, and so much more. It’s more than just shopping—it’s a place to connect\, explore\, and enjoy a morning surrounded by the energy of your community.
URL:https://centralaroostookchamber.com/community-event/presque-isle-farmers-market-6/2028-01-01/
LOCATION:Presque Isle Pavilion\, 19 Riverside Dr\, Presque Isle\, ME\, 04769\, United States
END:VEVENT
BEGIN:VEVENT
DTSTART;TZID=America/New_York:20280108T083000
DTEND;TZID=America/New_York:20280108T123000
DTSTAMP:20260422T205203
CREATED:20260413T143847Z
LAST-MODIFIED:20260413T143847Z
UID:10001918-1830933000-1830947400@centralaroostookchamber.com
SUMMARY:Presque Isle Farmers Market
DESCRIPTION:You’ll find a wide variety of vendors bringing baked goods\, handcrafted items\, and so much more. It’s more than just shopping—it’s a place to connect\, explore\, and enjoy a morning surrounded by the energy of your community.
URL:https://centralaroostookchamber.com/community-event/presque-isle-farmers-market-6/2028-01-08/
LOCATION:Presque Isle Pavilion\, 19 Riverside Dr\, Presque Isle\, ME\, 04769\, United States
END:VEVENT
BEGIN:VEVENT
DTSTART;TZID=America/New_York:20280115T083000
DTEND;TZID=America/New_York:20280115T123000
DTSTAMP:20260422T205203
CREATED:20260413T143847Z
LAST-MODIFIED:20260413T143847Z
UID:10001919-1831537800-1831552200@centralaroostookchamber.com
SUMMARY:Presque Isle Farmers Market
DESCRIPTION:You’ll find a wide variety of vendors bringing baked goods\, handcrafted items\, and so much more. It’s more than just shopping—it’s a place to connect\, explore\, and enjoy a morning surrounded by the energy of your community.
URL:https://centralaroostookchamber.com/community-event/presque-isle-farmers-market-6/2028-01-15/
LOCATION:Presque Isle Pavilion\, 19 Riverside Dr\, Presque Isle\, ME\, 04769\, United States
END:VEVENT
BEGIN:VEVENT
DTSTART;TZID=America/New_York:20280122T083000
DTEND;TZID=America/New_York:20280122T123000
DTSTAMP:20260422T205203
CREATED:20260413T143847Z
LAST-MODIFIED:20260413T143847Z
UID:10001920-1832142600-1832157000@centralaroostookchamber.com
SUMMARY:Presque Isle Farmers Market
DESCRIPTION:You’ll find a wide variety of vendors bringing baked goods\, handcrafted items\, and so much more. It’s more than just shopping—it’s a place to connect\, explore\, and enjoy a morning surrounded by the energy of your community.
URL:https://centralaroostookchamber.com/community-event/presque-isle-farmers-market-6/2028-01-22/
LOCATION:Presque Isle Pavilion\, 19 Riverside Dr\, Presque Isle\, ME\, 04769\, United States
END:VEVENT
BEGIN:VEVENT
DTSTART;TZID=America/New_York:20280129T083000
DTEND;TZID=America/New_York:20280129T123000
DTSTAMP:20260422T205203
CREATED:20260413T143847Z
LAST-MODIFIED:20260413T143847Z
UID:10001921-1832747400-1832761800@centralaroostookchamber.com
SUMMARY:Presque Isle Farmers Market
DESCRIPTION:You’ll find a wide variety of vendors bringing baked goods\, handcrafted items\, and so much more. It’s more than just shopping—it’s a place to connect\, explore\, and enjoy a morning surrounded by the energy of your community.
URL:https://centralaroostookchamber.com/community-event/presque-isle-farmers-market-6/2028-01-29/
LOCATION:Presque Isle Pavilion\, 19 Riverside Dr\, Presque Isle\, ME\, 04769\, United States
END:VEVENT
BEGIN:VEVENT
DTSTART;TZID=America/New_York:20280205T083000
DTEND;TZID=America/New_York:20280205T123000
DTSTAMP:20260422T205203
CREATED:20260413T143847Z
LAST-MODIFIED:20260413T143847Z
UID:10001922-1833352200-1833366600@centralaroostookchamber.com
SUMMARY:Presque Isle Farmers Market
DESCRIPTION:You’ll find a wide variety of vendors bringing baked goods\, handcrafted items\, and so much more. It’s more than just shopping—it’s a place to connect\, explore\, and enjoy a morning surrounded by the energy of your community.
URL:https://centralaroostookchamber.com/community-event/presque-isle-farmers-market-6/2028-02-05/
LOCATION:Presque Isle Pavilion\, 19 Riverside Dr\, Presque Isle\, ME\, 04769\, United States
END:VEVENT
BEGIN:VEVENT
DTSTART;TZID=America/New_York:20280212T083000
DTEND;TZID=America/New_York:20280212T123000
DTSTAMP:20260422T205203
CREATED:20260413T143847Z
LAST-MODIFIED:20260413T143847Z
UID:10001923-1833957000-1833971400@centralaroostookchamber.com
SUMMARY:Presque Isle Farmers Market
DESCRIPTION:You’ll find a wide variety of vendors bringing baked goods\, handcrafted items\, and so much more. It’s more than just shopping—it’s a place to connect\, explore\, and enjoy a morning surrounded by the energy of your community.
URL:https://centralaroostookchamber.com/community-event/presque-isle-farmers-market-6/2028-02-12/
LOCATION:Presque Isle Pavilion\, 19 Riverside Dr\, Presque Isle\, ME\, 04769\, United States
END:VEVENT
BEGIN:VEVENT
DTSTART;TZID=America/New_York:20280219T083000
DTEND;TZID=America/New_York:20280219T123000
DTSTAMP:20260422T205203
CREATED:20260413T143847Z
LAST-MODIFIED:20260413T143847Z
UID:10001924-1834561800-1834576200@centralaroostookchamber.com
SUMMARY:Presque Isle Farmers Market
DESCRIPTION:You’ll find a wide variety of vendors bringing baked goods\, handcrafted items\, and so much more. It’s more than just shopping—it’s a place to connect\, explore\, and enjoy a morning surrounded by the energy of your community.
URL:https://centralaroostookchamber.com/community-event/presque-isle-farmers-market-6/2028-02-19/
LOCATION:Presque Isle Pavilion\, 19 Riverside Dr\, Presque Isle\, ME\, 04769\, United States
END:VEVENT
BEGIN:VEVENT
DTSTART;TZID=America/New_York:20280226T083000
DTEND;TZID=America/New_York:20280226T123000
DTSTAMP:20260422T205203
CREATED:20260413T143847Z
LAST-MODIFIED:20260413T143847Z
UID:10001925-1835166600-1835181000@centralaroostookchamber.com
SUMMARY:Presque Isle Farmers Market
DESCRIPTION:You’ll find a wide variety of vendors bringing baked goods\, handcrafted items\, and so much more. It’s more than just shopping—it’s a place to connect\, explore\, and enjoy a morning surrounded by the energy of your community.
URL:https://centralaroostookchamber.com/community-event/presque-isle-farmers-market-6/2028-02-26/
LOCATION:Presque Isle Pavilion\, 19 Riverside Dr\, Presque Isle\, ME\, 04769\, United States
END:VEVENT
BEGIN:VEVENT
DTSTART;TZID=America/New_York:20280304T083000
DTEND;TZID=America/New_York:20280304T123000
DTSTAMP:20260422T205203
CREATED:20260413T143847Z
LAST-MODIFIED:20260413T143847Z
UID:10001926-1835771400-1835785800@centralaroostookchamber.com
SUMMARY:Presque Isle Farmers Market
DESCRIPTION:You’ll find a wide variety of vendors bringing baked goods\, handcrafted items\, and so much more. It’s more than just shopping—it’s a place to connect\, explore\, and enjoy a morning surrounded by the energy of your community.
URL:https://centralaroostookchamber.com/community-event/presque-isle-farmers-market-6/2028-03-04/
LOCATION:Presque Isle Pavilion\, 19 Riverside Dr\, Presque Isle\, ME\, 04769\, United States
END:VEVENT
BEGIN:VEVENT
DTSTART;TZID=America/New_York:20280311T083000
DTEND;TZID=America/New_York:20280311T123000
DTSTAMP:20260422T205203
CREATED:20260413T143847Z
LAST-MODIFIED:20260413T143847Z
UID:10001927-1836376200-1836390600@centralaroostookchamber.com
SUMMARY:Presque Isle Farmers Market
DESCRIPTION:You’ll find a wide variety of vendors bringing baked goods\, handcrafted items\, and so much more. It’s more than just shopping—it’s a place to connect\, explore\, and enjoy a morning surrounded by the energy of your community.
URL:https://centralaroostookchamber.com/community-event/presque-isle-farmers-market-6/2028-03-11/
LOCATION:Presque Isle Pavilion\, 19 Riverside Dr\, Presque Isle\, ME\, 04769\, United States
END:VEVENT
BEGIN:VEVENT
DTSTART;TZID=America/New_York:20280318T083000
DTEND;TZID=America/New_York:20280318T123000
DTSTAMP:20260422T205203
CREATED:20260413T143847Z
LAST-MODIFIED:20260413T143847Z
UID:10001928-1836981000-1836995400@centralaroostookchamber.com
SUMMARY:Presque Isle Farmers Market
DESCRIPTION:You’ll find a wide variety of vendors bringing baked goods\, handcrafted items\, and so much more. It’s more than just shopping—it’s a place to connect\, explore\, and enjoy a morning surrounded by the energy of your community.
URL:https://centralaroostookchamber.com/community-event/presque-isle-farmers-market-6/2028-03-18/
LOCATION:Presque Isle Pavilion\, 19 Riverside Dr\, Presque Isle\, ME\, 04769\, United States
END:VEVENT
BEGIN:VEVENT
DTSTART;TZID=America/New_York:20280325T083000
DTEND;TZID=America/New_York:20280325T123000
DTSTAMP:20260422T205203
CREATED:20260413T143847Z
LAST-MODIFIED:20260413T143847Z
UID:10001929-1837585800-1837600200@centralaroostookchamber.com
SUMMARY:Presque Isle Farmers Market
DESCRIPTION:You’ll find a wide variety of vendors bringing baked goods\, handcrafted items\, and so much more. It’s more than just shopping—it’s a place to connect\, explore\, and enjoy a morning surrounded by the energy of your community.
URL:https://centralaroostookchamber.com/community-event/presque-isle-farmers-market-6/2028-03-25/
LOCATION:Presque Isle Pavilion\, 19 Riverside Dr\, Presque Isle\, ME\, 04769\, United States
END:VEVENT
BEGIN:VEVENT
DTSTART;TZID=America/New_York:20280401T083000
DTEND;TZID=America/New_York:20280401T123000
DTSTAMP:20260422T205203
CREATED:20260413T143847Z
LAST-MODIFIED:20260413T143847Z
UID:10001930-1838190600-1838205000@centralaroostookchamber.com
SUMMARY:Presque Isle Farmers Market
DESCRIPTION:You’ll find a wide variety of vendors bringing baked goods\, handcrafted items\, and so much more. It’s more than just shopping—it’s a place to connect\, explore\, and enjoy a morning surrounded by the energy of your community.
URL:https://centralaroostookchamber.com/community-event/presque-isle-farmers-market-6/2028-04-01/
LOCATION:Presque Isle Pavilion\, 19 Riverside Dr\, Presque Isle\, ME\, 04769\, United States
END:VEVENT
BEGIN:VEVENT
DTSTART;TZID=America/New_York:20280408T083000
DTEND;TZID=America/New_York:20280408T123000
DTSTAMP:20260422T205203
CREATED:20260413T143847Z
LAST-MODIFIED:20260413T143847Z
UID:10001931-1838795400-1838809800@centralaroostookchamber.com
SUMMARY:Presque Isle Farmers Market
DESCRIPTION:You’ll find a wide variety of vendors bringing baked goods\, handcrafted items\, and so much more. It’s more than just shopping—it’s a place to connect\, explore\, and enjoy a morning surrounded by the energy of your community.
URL:https://centralaroostookchamber.com/community-event/presque-isle-farmers-market-6/2028-04-08/
LOCATION:Presque Isle Pavilion\, 19 Riverside Dr\, Presque Isle\, ME\, 04769\, United States
END:VEVENT
BEGIN:VEVENT
DTSTART;TZID=America/New_York:20280415T083000
DTEND;TZID=America/New_York:20280415T123000
DTSTAMP:20260422T205203
CREATED:20260413T143847Z
LAST-MODIFIED:20260413T143847Z
UID:10001932-1839400200-1839414600@centralaroostookchamber.com
SUMMARY:Presque Isle Farmers Market
DESCRIPTION:You’ll find a wide variety of vendors bringing baked goods\, handcrafted items\, and so much more. It’s more than just shopping—it’s a place to connect\, explore\, and enjoy a morning surrounded by the energy of your community.
URL:https://centralaroostookchamber.com/community-event/presque-isle-farmers-market-6/2028-04-15/
LOCATION:Presque Isle Pavilion\, 19 Riverside Dr\, Presque Isle\, ME\, 04769\, United States
END:VEVENT
BEGIN:VEVENT
DTSTART;TZID=America/New_York:20280422T083000
DTEND;TZID=America/New_York:20280422T123000
DTSTAMP:20260422T205203
CREATED:20260413T143847Z
LAST-MODIFIED:20260413T143847Z
UID:10001933-1840005000-1840019400@centralaroostookchamber.com
SUMMARY:Presque Isle Farmers Market
DESCRIPTION:You’ll find a wide variety of vendors bringing baked goods\, handcrafted items\, and so much more. It’s more than just shopping—it’s a place to connect\, explore\, and enjoy a morning surrounded by the energy of your community.
URL:https://centralaroostookchamber.com/community-event/presque-isle-farmers-market-6/2028-04-22/
LOCATION:Presque Isle Pavilion\, 19 Riverside Dr\, Presque Isle\, ME\, 04769\, United States
END:VEVENT
BEGIN:VEVENT
DTSTART;TZID=America/New_York:20280429T083000
DTEND;TZID=America/New_York:20280429T123000
DTSTAMP:20260422T205203
CREATED:20260413T143847Z
LAST-MODIFIED:20260413T143847Z
UID:10001934-1840609800-1840624200@centralaroostookchamber.com
SUMMARY:Presque Isle Farmers Market
DESCRIPTION:You’ll find a wide variety of vendors bringing baked goods\, handcrafted items\, and so much more. It’s more than just shopping—it’s a place to connect\, explore\, and enjoy a morning surrounded by the energy of your community.
URL:https://centralaroostookchamber.com/community-event/presque-isle-farmers-market-6/2028-04-29/
LOCATION:Presque Isle Pavilion\, 19 Riverside Dr\, Presque Isle\, ME\, 04769\, United States
END:VEVENT
BEGIN:VEVENT
DTSTART;TZID=America/New_York:20280506T083000
DTEND;TZID=America/New_York:20280506T123000
DTSTAMP:20260422T205203
CREATED:20260413T143847Z
LAST-MODIFIED:20260413T143847Z
UID:10001935-1841214600-1841229000@centralaroostookchamber.com
SUMMARY:Presque Isle Farmers Market
DESCRIPTION:You’ll find a wide variety of vendors bringing baked goods\, handcrafted items\, and so much more. It’s more than just shopping—it’s a place to connect\, explore\, and enjoy a morning surrounded by the energy of your community.
URL:https://centralaroostookchamber.com/community-event/presque-isle-farmers-market-6/2028-05-06/
LOCATION:Presque Isle Pavilion\, 19 Riverside Dr\, Presque Isle\, ME\, 04769\, United States
END:VEVENT
BEGIN:VEVENT
DTSTART;TZID=America/New_York:20280513T083000
DTEND;TZID=America/New_York:20280513T123000
DTSTAMP:20260422T205203
CREATED:20260413T143847Z
LAST-MODIFIED:20260413T143847Z
UID:10001936-1841819400-1841833800@centralaroostookchamber.com
SUMMARY:Presque Isle Farmers Market
DESCRIPTION:You’ll find a wide variety of vendors bringing baked goods\, handcrafted items\, and so much more. It’s more than just shopping—it’s a place to connect\, explore\, and enjoy a morning surrounded by the energy of your community.
URL:https://centralaroostookchamber.com/community-event/presque-isle-farmers-market-6/2028-05-13/
LOCATION:Presque Isle Pavilion\, 19 Riverside Dr\, Presque Isle\, ME\, 04769\, United States
END:VEVENT
BEGIN:VEVENT
DTSTART;TZID=America/New_York:20280520T083000
DTEND;TZID=America/New_York:20280520T123000
DTSTAMP:20260422T205203
CREATED:20260413T143847Z
LAST-MODIFIED:20260413T143847Z
UID:10001937-1842424200-1842438600@centralaroostookchamber.com
SUMMARY:Presque Isle Farmers Market
DESCRIPTION:You’ll find a wide variety of vendors bringing baked goods\, handcrafted items\, and so much more. It’s more than just shopping—it’s a place to connect\, explore\, and enjoy a morning surrounded by the energy of your community.
URL:https://centralaroostookchamber.com/community-event/presque-isle-farmers-market-6/2028-05-20/
LOCATION:Presque Isle Pavilion\, 19 Riverside Dr\, Presque Isle\, ME\, 04769\, United States
END:VEVENT
BEGIN:VEVENT
DTSTART;TZID=America/New_York:20280527T083000
DTEND;TZID=America/New_York:20280527T123000
DTSTAMP:20260422T205203
CREATED:20260413T143847Z
LAST-MODIFIED:20260413T143847Z
UID:10001938-1843029000-1843043400@centralaroostookchamber.com
SUMMARY:Presque Isle Farmers Market
DESCRIPTION:You’ll find a wide variety of vendors bringing baked goods\, handcrafted items\, and so much more. It’s more than just shopping—it’s a place to connect\, explore\, and enjoy a morning surrounded by the energy of your community.
URL:https://centralaroostookchamber.com/community-event/presque-isle-farmers-market-6/2028-05-27/
LOCATION:Presque Isle Pavilion\, 19 Riverside Dr\, Presque Isle\, ME\, 04769\, United States
END:VEVENT
BEGIN:VEVENT
DTSTART;TZID=America/New_York:20280603T083000
DTEND;TZID=America/New_York:20280603T123000
DTSTAMP:20260422T205203
CREATED:20260413T143847Z
LAST-MODIFIED:20260413T143847Z
UID:10001939-1843633800-1843648200@centralaroostookchamber.com
SUMMARY:Presque Isle Farmers Market
DESCRIPTION:You’ll find a wide variety of vendors bringing baked goods\, handcrafted items\, and so much more. It’s more than just shopping—it’s a place to connect\, explore\, and enjoy a morning surrounded by the energy of your community.
URL:https://centralaroostookchamber.com/community-event/presque-isle-farmers-market-6/2028-06-03/
LOCATION:Presque Isle Pavilion\, 19 Riverside Dr\, Presque Isle\, ME\, 04769\, United States
END:VEVENT
BEGIN:VEVENT
DTSTART;TZID=America/New_York:20280610T083000
DTEND;TZID=America/New_York:20280610T123000
DTSTAMP:20260422T205203
CREATED:20260413T143847Z
LAST-MODIFIED:20260413T143847Z
UID:10001940-1844238600-1844253000@centralaroostookchamber.com
SUMMARY:Presque Isle Farmers Market
DESCRIPTION:You’ll find a wide variety of vendors bringing baked goods\, handcrafted items\, and so much more. It’s more than just shopping—it’s a place to connect\, explore\, and enjoy a morning surrounded by the energy of your community.
URL:https://centralaroostookchamber.com/community-event/presque-isle-farmers-market-6/2028-06-10/
LOCATION:Presque Isle Pavilion\, 19 Riverside Dr\, Presque Isle\, ME\, 04769\, United States
END:VEVENT
BEGIN:VEVENT
DTSTART;TZID=America/New_York:20280617T083000
DTEND;TZID=America/New_York:20280617T123000
DTSTAMP:20260422T205203
CREATED:20260413T143847Z
LAST-MODIFIED:20260413T143847Z
UID:10001941-1844843400-1844857800@centralaroostookchamber.com
SUMMARY:Presque Isle Farmers Market
DESCRIPTION:You’ll find a wide variety of vendors bringing baked goods\, handcrafted items\, and so much more. It’s more than just shopping—it’s a place to connect\, explore\, and enjoy a morning surrounded by the energy of your community.
URL:https://centralaroostookchamber.com/community-event/presque-isle-farmers-market-6/2028-06-17/
LOCATION:Presque Isle Pavilion\, 19 Riverside Dr\, Presque Isle\, ME\, 04769\, United States
END:VEVENT
BEGIN:VEVENT
DTSTART;TZID=America/New_York:20280624T083000
DTEND;TZID=America/New_York:20280624T123000
DTSTAMP:20260422T205203
CREATED:20260413T143847Z
LAST-MODIFIED:20260413T143847Z
UID:10001942-1845448200-1845462600@centralaroostookchamber.com
SUMMARY:Presque Isle Farmers Market
DESCRIPTION:You’ll find a wide variety of vendors bringing baked goods\, handcrafted items\, and so much more. It’s more than just shopping—it’s a place to connect\, explore\, and enjoy a morning surrounded by the energy of your community.
URL:https://centralaroostookchamber.com/community-event/presque-isle-farmers-market-6/2028-06-24/
LOCATION:Presque Isle Pavilion\, 19 Riverside Dr\, Presque Isle\, ME\, 04769\, United States
END:VEVENT
BEGIN:VEVENT
DTSTART;TZID=America/New_York:20280701T083000
DTEND;TZID=America/New_York:20280701T123000
DTSTAMP:20260422T205203
CREATED:20260413T143847Z
LAST-MODIFIED:20260413T143847Z
UID:10001943-1846053000-1846067400@centralaroostookchamber.com
SUMMARY:Presque Isle Farmers Market
DESCRIPTION:You’ll find a wide variety of vendors bringing baked goods\, handcrafted items\, and so much more. It’s more than just shopping—it’s a place to connect\, explore\, and enjoy a morning surrounded by the energy of your community.
URL:https://centralaroostookchamber.com/community-event/presque-isle-farmers-market-6/2028-07-01/
LOCATION:Presque Isle Pavilion\, 19 Riverside Dr\, Presque Isle\, ME\, 04769\, United States
END:VEVENT
BEGIN:VEVENT
DTSTART;TZID=America/New_York:20280708T083000
DTEND;TZID=America/New_York:20280708T123000
DTSTAMP:20260422T205203
CREATED:20260413T143847Z
LAST-MODIFIED:20260413T143847Z
UID:10001944-1846657800-1846672200@centralaroostookchamber.com
SUMMARY:Presque Isle Farmers Market
DESCRIPTION:You’ll find a wide variety of vendors bringing baked goods\, handcrafted items\, and so much more. It’s more than just shopping—it’s a place to connect\, explore\, and enjoy a morning surrounded by the energy of your community.
URL:https://centralaroostookchamber.com/community-event/presque-isle-farmers-market-6/2028-07-08/
LOCATION:Presque Isle Pavilion\, 19 Riverside Dr\, Presque Isle\, ME\, 04769\, United States
END:VEVENT
BEGIN:VEVENT
DTSTART;TZID=America/New_York:20280715T083000
DTEND;TZID=America/New_York:20280715T123000
DTSTAMP:20260422T205203
CREATED:20260413T143847Z
LAST-MODIFIED:20260413T143847Z
UID:10001945-1847262600-1847277000@centralaroostookchamber.com
SUMMARY:Presque Isle Farmers Market
DESCRIPTION:You’ll find a wide variety of vendors bringing baked goods\, handcrafted items\, and so much more. It’s more than just shopping—it’s a place to connect\, explore\, and enjoy a morning surrounded by the energy of your community.
URL:https://centralaroostookchamber.com/community-event/presque-isle-farmers-market-6/2028-07-15/
LOCATION:Presque Isle Pavilion\, 19 Riverside Dr\, Presque Isle\, ME\, 04769\, United States
END:VEVENT
BEGIN:VEVENT
DTSTART;TZID=America/New_York:20280722T083000
DTEND;TZID=America/New_York:20280722T123000
DTSTAMP:20260422T205203
CREATED:20260413T143847Z
LAST-MODIFIED:20260413T143847Z
UID:10001946-1847867400-1847881800@centralaroostookchamber.com
SUMMARY:Presque Isle Farmers Market
DESCRIPTION:You’ll find a wide variety of vendors bringing baked goods\, handcrafted items\, and so much more. It’s more than just shopping—it’s a place to connect\, explore\, and enjoy a morning surrounded by the energy of your community.
URL:https://centralaroostookchamber.com/community-event/presque-isle-farmers-market-6/2028-07-22/
LOCATION:Presque Isle Pavilion\, 19 Riverside Dr\, Presque Isle\, ME\, 04769\, United States
END:VEVENT
END:VCALENDAR