BEGIN:VCALENDAR
VERSION:2.0
PRODID:-//Central Aroostook Chamber of Commerce - ECPv6.15.20//NONSGML v1.0//EN
CALSCALE:GREGORIAN
METHOD:PUBLISH
X-WR-CALNAME:Central Aroostook Chamber of Commerce
X-ORIGINAL-URL:https://centralaroostookchamber.com
X-WR-CALDESC:Events for Central Aroostook Chamber of Commerce
REFRESH-INTERVAL;VALUE=DURATION:PT1H
X-Robots-Tag:noindex
X-PUBLISHED-TTL:PT1H
BEGIN:VTIMEZONE
TZID:America/New_York
BEGIN:DAYLIGHT
TZOFFSETFROM:-0500
TZOFFSETTO:-0400
TZNAME:EDT
DTSTART:20260308T070000
END:DAYLIGHT
BEGIN:STANDARD
TZOFFSETFROM:-0400
TZOFFSETTO:-0500
TZNAME:EST
DTSTART:20261101T060000
END:STANDARD
BEGIN:DAYLIGHT
TZOFFSETFROM:-0500
TZOFFSETTO:-0400
TZNAME:EDT
DTSTART:20270314T070000
END:DAYLIGHT
BEGIN:STANDARD
TZOFFSETFROM:-0400
TZOFFSETTO:-0500
TZNAME:EST
DTSTART:20271107T060000
END:STANDARD
BEGIN:DAYLIGHT
TZOFFSETFROM:-0500
TZOFFSETTO:-0400
TZNAME:EDT
DTSTART:20280312T070000
END:DAYLIGHT
BEGIN:STANDARD
TZOFFSETFROM:-0400
TZOFFSETTO:-0500
TZNAME:EST
DTSTART:20281105T060000
END:STANDARD
BEGIN:DAYLIGHT
TZOFFSETFROM:-0500
TZOFFSETTO:-0400
TZNAME:EDT
DTSTART:20290311T070000
END:DAYLIGHT
BEGIN:STANDARD
TZOFFSETFROM:-0400
TZOFFSETTO:-0500
TZNAME:EST
DTSTART:20291104T060000
END:STANDARD
END:VTIMEZONE
BEGIN:VEVENT
DTSTART;TZID=America/New_York:20270717T083000
DTEND;TZID=America/New_York:20270717T123000
DTSTAMP:20260421T134858
CREATED:20260413T143847Z
LAST-MODIFIED:20260413T143847Z
UID:10001893-1815813000-1815827400@centralaroostookchamber.com
SUMMARY:Presque Isle Farmers Market
DESCRIPTION:You’ll find a wide variety of vendors bringing baked goods\, handcrafted items\, and so much more. It’s more than just shopping—it’s a place to connect\, explore\, and enjoy a morning surrounded by the energy of your community.
URL:https://centralaroostookchamber.com/community-event/presque-isle-farmers-market-6/2027-07-17/
LOCATION:Presque Isle Pavilion\, 19 Riverside Dr\, Presque Isle\, ME\, 04769\, United States
END:VEVENT
BEGIN:VEVENT
DTSTART;TZID=America/New_York:20270724T083000
DTEND;TZID=America/New_York:20270724T123000
DTSTAMP:20260421T134858
CREATED:20260413T143847Z
LAST-MODIFIED:20260413T143847Z
UID:10001894-1816417800-1816432200@centralaroostookchamber.com
SUMMARY:Presque Isle Farmers Market
DESCRIPTION:You’ll find a wide variety of vendors bringing baked goods\, handcrafted items\, and so much more. It’s more than just shopping—it’s a place to connect\, explore\, and enjoy a morning surrounded by the energy of your community.
URL:https://centralaroostookchamber.com/community-event/presque-isle-farmers-market-6/2027-07-24/
LOCATION:Presque Isle Pavilion\, 19 Riverside Dr\, Presque Isle\, ME\, 04769\, United States
END:VEVENT
BEGIN:VEVENT
DTSTART;TZID=America/New_York:20270731T083000
DTEND;TZID=America/New_York:20270731T123000
DTSTAMP:20260421T134858
CREATED:20260413T143847Z
LAST-MODIFIED:20260413T143847Z
UID:10001895-1817022600-1817037000@centralaroostookchamber.com
SUMMARY:Presque Isle Farmers Market
DESCRIPTION:You’ll find a wide variety of vendors bringing baked goods\, handcrafted items\, and so much more. It’s more than just shopping—it’s a place to connect\, explore\, and enjoy a morning surrounded by the energy of your community.
URL:https://centralaroostookchamber.com/community-event/presque-isle-farmers-market-6/2027-07-31/
LOCATION:Presque Isle Pavilion\, 19 Riverside Dr\, Presque Isle\, ME\, 04769\, United States
END:VEVENT
BEGIN:VEVENT
DTSTART;TZID=America/New_York:20270807T083000
DTEND;TZID=America/New_York:20270807T123000
DTSTAMP:20260421T134858
CREATED:20260413T143847Z
LAST-MODIFIED:20260413T143847Z
UID:10001896-1817627400-1817641800@centralaroostookchamber.com
SUMMARY:Presque Isle Farmers Market
DESCRIPTION:You’ll find a wide variety of vendors bringing baked goods\, handcrafted items\, and so much more. It’s more than just shopping—it’s a place to connect\, explore\, and enjoy a morning surrounded by the energy of your community.
URL:https://centralaroostookchamber.com/community-event/presque-isle-farmers-market-6/2027-08-07/
LOCATION:Presque Isle Pavilion\, 19 Riverside Dr\, Presque Isle\, ME\, 04769\, United States
END:VEVENT
BEGIN:VEVENT
DTSTART;TZID=America/New_York:20270814T083000
DTEND;TZID=America/New_York:20270814T123000
DTSTAMP:20260421T134858
CREATED:20260413T143847Z
LAST-MODIFIED:20260413T143847Z
UID:10001897-1818232200-1818246600@centralaroostookchamber.com
SUMMARY:Presque Isle Farmers Market
DESCRIPTION:You’ll find a wide variety of vendors bringing baked goods\, handcrafted items\, and so much more. It’s more than just shopping—it’s a place to connect\, explore\, and enjoy a morning surrounded by the energy of your community.
URL:https://centralaroostookchamber.com/community-event/presque-isle-farmers-market-6/2027-08-14/
LOCATION:Presque Isle Pavilion\, 19 Riverside Dr\, Presque Isle\, ME\, 04769\, United States
END:VEVENT
BEGIN:VEVENT
DTSTART;TZID=America/New_York:20270821T083000
DTEND;TZID=America/New_York:20270821T123000
DTSTAMP:20260421T134858
CREATED:20260413T143847Z
LAST-MODIFIED:20260413T143847Z
UID:10001898-1818837000-1818851400@centralaroostookchamber.com
SUMMARY:Presque Isle Farmers Market
DESCRIPTION:You’ll find a wide variety of vendors bringing baked goods\, handcrafted items\, and so much more. It’s more than just shopping—it’s a place to connect\, explore\, and enjoy a morning surrounded by the energy of your community.
URL:https://centralaroostookchamber.com/community-event/presque-isle-farmers-market-6/2027-08-21/
LOCATION:Presque Isle Pavilion\, 19 Riverside Dr\, Presque Isle\, ME\, 04769\, United States
END:VEVENT
BEGIN:VEVENT
DTSTART;TZID=America/New_York:20270828T083000
DTEND;TZID=America/New_York:20270828T123000
DTSTAMP:20260421T134858
CREATED:20260413T143847Z
LAST-MODIFIED:20260413T143847Z
UID:10001899-1819441800-1819456200@centralaroostookchamber.com
SUMMARY:Presque Isle Farmers Market
DESCRIPTION:You’ll find a wide variety of vendors bringing baked goods\, handcrafted items\, and so much more. It’s more than just shopping—it’s a place to connect\, explore\, and enjoy a morning surrounded by the energy of your community.
URL:https://centralaroostookchamber.com/community-event/presque-isle-farmers-market-6/2027-08-28/
LOCATION:Presque Isle Pavilion\, 19 Riverside Dr\, Presque Isle\, ME\, 04769\, United States
END:VEVENT
BEGIN:VEVENT
DTSTART;TZID=America/New_York:20270904T083000
DTEND;TZID=America/New_York:20270904T123000
DTSTAMP:20260421T134858
CREATED:20260413T143847Z
LAST-MODIFIED:20260413T143847Z
UID:10001900-1820046600-1820061000@centralaroostookchamber.com
SUMMARY:Presque Isle Farmers Market
DESCRIPTION:You’ll find a wide variety of vendors bringing baked goods\, handcrafted items\, and so much more. It’s more than just shopping—it’s a place to connect\, explore\, and enjoy a morning surrounded by the energy of your community.
URL:https://centralaroostookchamber.com/community-event/presque-isle-farmers-market-6/2027-09-04/
LOCATION:Presque Isle Pavilion\, 19 Riverside Dr\, Presque Isle\, ME\, 04769\, United States
END:VEVENT
BEGIN:VEVENT
DTSTART;TZID=America/New_York:20270911T083000
DTEND;TZID=America/New_York:20270911T123000
DTSTAMP:20260421T134858
CREATED:20260413T143847Z
LAST-MODIFIED:20260413T143847Z
UID:10001901-1820651400-1820665800@centralaroostookchamber.com
SUMMARY:Presque Isle Farmers Market
DESCRIPTION:You’ll find a wide variety of vendors bringing baked goods\, handcrafted items\, and so much more. It’s more than just shopping—it’s a place to connect\, explore\, and enjoy a morning surrounded by the energy of your community.
URL:https://centralaroostookchamber.com/community-event/presque-isle-farmers-market-6/2027-09-11/
LOCATION:Presque Isle Pavilion\, 19 Riverside Dr\, Presque Isle\, ME\, 04769\, United States
END:VEVENT
BEGIN:VEVENT
DTSTART;TZID=America/New_York:20270918T083000
DTEND;TZID=America/New_York:20270918T123000
DTSTAMP:20260421T134858
CREATED:20260413T143847Z
LAST-MODIFIED:20260413T143847Z
UID:10001902-1821256200-1821270600@centralaroostookchamber.com
SUMMARY:Presque Isle Farmers Market
DESCRIPTION:You’ll find a wide variety of vendors bringing baked goods\, handcrafted items\, and so much more. It’s more than just shopping—it’s a place to connect\, explore\, and enjoy a morning surrounded by the energy of your community.
URL:https://centralaroostookchamber.com/community-event/presque-isle-farmers-market-6/2027-09-18/
LOCATION:Presque Isle Pavilion\, 19 Riverside Dr\, Presque Isle\, ME\, 04769\, United States
END:VEVENT
BEGIN:VEVENT
DTSTART;TZID=America/New_York:20270925T083000
DTEND;TZID=America/New_York:20270925T123000
DTSTAMP:20260421T134858
CREATED:20260413T143847Z
LAST-MODIFIED:20260413T143847Z
UID:10001903-1821861000-1821875400@centralaroostookchamber.com
SUMMARY:Presque Isle Farmers Market
DESCRIPTION:You’ll find a wide variety of vendors bringing baked goods\, handcrafted items\, and so much more. It’s more than just shopping—it’s a place to connect\, explore\, and enjoy a morning surrounded by the energy of your community.
URL:https://centralaroostookchamber.com/community-event/presque-isle-farmers-market-6/2027-09-25/
LOCATION:Presque Isle Pavilion\, 19 Riverside Dr\, Presque Isle\, ME\, 04769\, United States
END:VEVENT
BEGIN:VEVENT
DTSTART;TZID=America/New_York:20271002T083000
DTEND;TZID=America/New_York:20271002T123000
DTSTAMP:20260421T134858
CREATED:20260413T143847Z
LAST-MODIFIED:20260413T143847Z
UID:10001904-1822465800-1822480200@centralaroostookchamber.com
SUMMARY:Presque Isle Farmers Market
DESCRIPTION:You’ll find a wide variety of vendors bringing baked goods\, handcrafted items\, and so much more. It’s more than just shopping—it’s a place to connect\, explore\, and enjoy a morning surrounded by the energy of your community.
URL:https://centralaroostookchamber.com/community-event/presque-isle-farmers-market-6/2027-10-02/
LOCATION:Presque Isle Pavilion\, 19 Riverside Dr\, Presque Isle\, ME\, 04769\, United States
END:VEVENT
BEGIN:VEVENT
DTSTART;TZID=America/New_York:20271009T083000
DTEND;TZID=America/New_York:20271009T123000
DTSTAMP:20260421T134858
CREATED:20260413T143847Z
LAST-MODIFIED:20260413T143847Z
UID:10001905-1823070600-1823085000@centralaroostookchamber.com
SUMMARY:Presque Isle Farmers Market
DESCRIPTION:You’ll find a wide variety of vendors bringing baked goods\, handcrafted items\, and so much more. It’s more than just shopping—it’s a place to connect\, explore\, and enjoy a morning surrounded by the energy of your community.
URL:https://centralaroostookchamber.com/community-event/presque-isle-farmers-market-6/2027-10-09/
LOCATION:Presque Isle Pavilion\, 19 Riverside Dr\, Presque Isle\, ME\, 04769\, United States
END:VEVENT
BEGIN:VEVENT
DTSTART;TZID=America/New_York:20271016T083000
DTEND;TZID=America/New_York:20271016T123000
DTSTAMP:20260421T134858
CREATED:20260413T143847Z
LAST-MODIFIED:20260413T143847Z
UID:10001906-1823675400-1823689800@centralaroostookchamber.com
SUMMARY:Presque Isle Farmers Market
DESCRIPTION:You’ll find a wide variety of vendors bringing baked goods\, handcrafted items\, and so much more. It’s more than just shopping—it’s a place to connect\, explore\, and enjoy a morning surrounded by the energy of your community.
URL:https://centralaroostookchamber.com/community-event/presque-isle-farmers-market-6/2027-10-16/
LOCATION:Presque Isle Pavilion\, 19 Riverside Dr\, Presque Isle\, ME\, 04769\, United States
END:VEVENT
BEGIN:VEVENT
DTSTART;TZID=America/New_York:20271023T083000
DTEND;TZID=America/New_York:20271023T123000
DTSTAMP:20260421T134858
CREATED:20260413T143847Z
LAST-MODIFIED:20260413T143847Z
UID:10001907-1824280200-1824294600@centralaroostookchamber.com
SUMMARY:Presque Isle Farmers Market
DESCRIPTION:You’ll find a wide variety of vendors bringing baked goods\, handcrafted items\, and so much more. It’s more than just shopping—it’s a place to connect\, explore\, and enjoy a morning surrounded by the energy of your community.
URL:https://centralaroostookchamber.com/community-event/presque-isle-farmers-market-6/2027-10-23/
LOCATION:Presque Isle Pavilion\, 19 Riverside Dr\, Presque Isle\, ME\, 04769\, United States
END:VEVENT
BEGIN:VEVENT
DTSTART;TZID=America/New_York:20271030T083000
DTEND;TZID=America/New_York:20271030T123000
DTSTAMP:20260421T134858
CREATED:20260413T143847Z
LAST-MODIFIED:20260413T143847Z
UID:10001908-1824885000-1824899400@centralaroostookchamber.com
SUMMARY:Presque Isle Farmers Market
DESCRIPTION:You’ll find a wide variety of vendors bringing baked goods\, handcrafted items\, and so much more. It’s more than just shopping—it’s a place to connect\, explore\, and enjoy a morning surrounded by the energy of your community.
URL:https://centralaroostookchamber.com/community-event/presque-isle-farmers-market-6/2027-10-30/
LOCATION:Presque Isle Pavilion\, 19 Riverside Dr\, Presque Isle\, ME\, 04769\, United States
END:VEVENT
BEGIN:VEVENT
DTSTART;TZID=America/New_York:20271106T083000
DTEND;TZID=America/New_York:20271106T123000
DTSTAMP:20260421T134858
CREATED:20260413T143847Z
LAST-MODIFIED:20260413T143847Z
UID:10001909-1825489800-1825504200@centralaroostookchamber.com
SUMMARY:Presque Isle Farmers Market
DESCRIPTION:You’ll find a wide variety of vendors bringing baked goods\, handcrafted items\, and so much more. It’s more than just shopping—it’s a place to connect\, explore\, and enjoy a morning surrounded by the energy of your community.
URL:https://centralaroostookchamber.com/community-event/presque-isle-farmers-market-6/2027-11-06/
LOCATION:Presque Isle Pavilion\, 19 Riverside Dr\, Presque Isle\, ME\, 04769\, United States
END:VEVENT
BEGIN:VEVENT
DTSTART;TZID=America/New_York:20271113T083000
DTEND;TZID=America/New_York:20271113T123000
DTSTAMP:20260421T134858
CREATED:20260413T143847Z
LAST-MODIFIED:20260413T143847Z
UID:10001910-1826094600-1826109000@centralaroostookchamber.com
SUMMARY:Presque Isle Farmers Market
DESCRIPTION:You’ll find a wide variety of vendors bringing baked goods\, handcrafted items\, and so much more. It’s more than just shopping—it’s a place to connect\, explore\, and enjoy a morning surrounded by the energy of your community.
URL:https://centralaroostookchamber.com/community-event/presque-isle-farmers-market-6/2027-11-13/
LOCATION:Presque Isle Pavilion\, 19 Riverside Dr\, Presque Isle\, ME\, 04769\, United States
END:VEVENT
BEGIN:VEVENT
DTSTART;TZID=America/New_York:20271120T083000
DTEND;TZID=America/New_York:20271120T123000
DTSTAMP:20260421T134858
CREATED:20260413T143847Z
LAST-MODIFIED:20260413T143847Z
UID:10001911-1826699400-1826713800@centralaroostookchamber.com
SUMMARY:Presque Isle Farmers Market
DESCRIPTION:You’ll find a wide variety of vendors bringing baked goods\, handcrafted items\, and so much more. It’s more than just shopping—it’s a place to connect\, explore\, and enjoy a morning surrounded by the energy of your community.
URL:https://centralaroostookchamber.com/community-event/presque-isle-farmers-market-6/2027-11-20/
LOCATION:Presque Isle Pavilion\, 19 Riverside Dr\, Presque Isle\, ME\, 04769\, United States
END:VEVENT
BEGIN:VEVENT
DTSTART;TZID=America/New_York:20271127T083000
DTEND;TZID=America/New_York:20271127T123000
DTSTAMP:20260421T134858
CREATED:20260413T143847Z
LAST-MODIFIED:20260413T143847Z
UID:10001912-1827304200-1827318600@centralaroostookchamber.com
SUMMARY:Presque Isle Farmers Market
DESCRIPTION:You’ll find a wide variety of vendors bringing baked goods\, handcrafted items\, and so much more. It’s more than just shopping—it’s a place to connect\, explore\, and enjoy a morning surrounded by the energy of your community.
URL:https://centralaroostookchamber.com/community-event/presque-isle-farmers-market-6/2027-11-27/
LOCATION:Presque Isle Pavilion\, 19 Riverside Dr\, Presque Isle\, ME\, 04769\, United States
END:VEVENT
BEGIN:VEVENT
DTSTART;TZID=America/New_York:20271204T083000
DTEND;TZID=America/New_York:20271204T123000
DTSTAMP:20260421T134858
CREATED:20260413T143847Z
LAST-MODIFIED:20260413T143847Z
UID:10001913-1827909000-1827923400@centralaroostookchamber.com
SUMMARY:Presque Isle Farmers Market
DESCRIPTION:You’ll find a wide variety of vendors bringing baked goods\, handcrafted items\, and so much more. It’s more than just shopping—it’s a place to connect\, explore\, and enjoy a morning surrounded by the energy of your community.
URL:https://centralaroostookchamber.com/community-event/presque-isle-farmers-market-6/2027-12-04/
LOCATION:Presque Isle Pavilion\, 19 Riverside Dr\, Presque Isle\, ME\, 04769\, United States
END:VEVENT
BEGIN:VEVENT
DTSTART;TZID=America/New_York:20271211T083000
DTEND;TZID=America/New_York:20271211T123000
DTSTAMP:20260421T134858
CREATED:20260413T143847Z
LAST-MODIFIED:20260413T143847Z
UID:10001914-1828513800-1828528200@centralaroostookchamber.com
SUMMARY:Presque Isle Farmers Market
DESCRIPTION:You’ll find a wide variety of vendors bringing baked goods\, handcrafted items\, and so much more. It’s more than just shopping—it’s a place to connect\, explore\, and enjoy a morning surrounded by the energy of your community.
URL:https://centralaroostookchamber.com/community-event/presque-isle-farmers-market-6/2027-12-11/
LOCATION:Presque Isle Pavilion\, 19 Riverside Dr\, Presque Isle\, ME\, 04769\, United States
END:VEVENT
BEGIN:VEVENT
DTSTART;TZID=America/New_York:20271218T083000
DTEND;TZID=America/New_York:20271218T123000
DTSTAMP:20260421T134858
CREATED:20260413T143847Z
LAST-MODIFIED:20260413T143847Z
UID:10001915-1829118600-1829133000@centralaroostookchamber.com
SUMMARY:Presque Isle Farmers Market
DESCRIPTION:You’ll find a wide variety of vendors bringing baked goods\, handcrafted items\, and so much more. It’s more than just shopping—it’s a place to connect\, explore\, and enjoy a morning surrounded by the energy of your community.
URL:https://centralaroostookchamber.com/community-event/presque-isle-farmers-market-6/2027-12-18/
LOCATION:Presque Isle Pavilion\, 19 Riverside Dr\, Presque Isle\, ME\, 04769\, United States
END:VEVENT
BEGIN:VEVENT
DTSTART;TZID=America/New_York:20271225T083000
DTEND;TZID=America/New_York:20271225T123000
DTSTAMP:20260421T134858
CREATED:20260413T143847Z
LAST-MODIFIED:20260413T143847Z
UID:10001916-1829723400-1829737800@centralaroostookchamber.com
SUMMARY:Presque Isle Farmers Market
DESCRIPTION:You’ll find a wide variety of vendors bringing baked goods\, handcrafted items\, and so much more. It’s more than just shopping—it’s a place to connect\, explore\, and enjoy a morning surrounded by the energy of your community.
URL:https://centralaroostookchamber.com/community-event/presque-isle-farmers-market-6/2027-12-25/
LOCATION:Presque Isle Pavilion\, 19 Riverside Dr\, Presque Isle\, ME\, 04769\, United States
END:VEVENT
BEGIN:VEVENT
DTSTART;TZID=America/New_York:20280101T083000
DTEND;TZID=America/New_York:20280101T123000
DTSTAMP:20260421T134858
CREATED:20260413T143847Z
LAST-MODIFIED:20260413T143847Z
UID:10001917-1830328200-1830342600@centralaroostookchamber.com
SUMMARY:Presque Isle Farmers Market
DESCRIPTION:You’ll find a wide variety of vendors bringing baked goods\, handcrafted items\, and so much more. It’s more than just shopping—it’s a place to connect\, explore\, and enjoy a morning surrounded by the energy of your community.
URL:https://centralaroostookchamber.com/community-event/presque-isle-farmers-market-6/2028-01-01/
LOCATION:Presque Isle Pavilion\, 19 Riverside Dr\, Presque Isle\, ME\, 04769\, United States
END:VEVENT
BEGIN:VEVENT
DTSTART;TZID=America/New_York:20280108T083000
DTEND;TZID=America/New_York:20280108T123000
DTSTAMP:20260421T134858
CREATED:20260413T143847Z
LAST-MODIFIED:20260413T143847Z
UID:10001918-1830933000-1830947400@centralaroostookchamber.com
SUMMARY:Presque Isle Farmers Market
DESCRIPTION:You’ll find a wide variety of vendors bringing baked goods\, handcrafted items\, and so much more. It’s more than just shopping—it’s a place to connect\, explore\, and enjoy a morning surrounded by the energy of your community.
URL:https://centralaroostookchamber.com/community-event/presque-isle-farmers-market-6/2028-01-08/
LOCATION:Presque Isle Pavilion\, 19 Riverside Dr\, Presque Isle\, ME\, 04769\, United States
END:VEVENT
BEGIN:VEVENT
DTSTART;TZID=America/New_York:20280115T083000
DTEND;TZID=America/New_York:20280115T123000
DTSTAMP:20260421T134858
CREATED:20260413T143847Z
LAST-MODIFIED:20260413T143847Z
UID:10001919-1831537800-1831552200@centralaroostookchamber.com
SUMMARY:Presque Isle Farmers Market
DESCRIPTION:You’ll find a wide variety of vendors bringing baked goods\, handcrafted items\, and so much more. It’s more than just shopping—it’s a place to connect\, explore\, and enjoy a morning surrounded by the energy of your community.
URL:https://centralaroostookchamber.com/community-event/presque-isle-farmers-market-6/2028-01-15/
LOCATION:Presque Isle Pavilion\, 19 Riverside Dr\, Presque Isle\, ME\, 04769\, United States
END:VEVENT
BEGIN:VEVENT
DTSTART;TZID=America/New_York:20280122T083000
DTEND;TZID=America/New_York:20280122T123000
DTSTAMP:20260421T134858
CREATED:20260413T143847Z
LAST-MODIFIED:20260413T143847Z
UID:10001920-1832142600-1832157000@centralaroostookchamber.com
SUMMARY:Presque Isle Farmers Market
DESCRIPTION:You’ll find a wide variety of vendors bringing baked goods\, handcrafted items\, and so much more. It’s more than just shopping—it’s a place to connect\, explore\, and enjoy a morning surrounded by the energy of your community.
URL:https://centralaroostookchamber.com/community-event/presque-isle-farmers-market-6/2028-01-22/
LOCATION:Presque Isle Pavilion\, 19 Riverside Dr\, Presque Isle\, ME\, 04769\, United States
END:VEVENT
BEGIN:VEVENT
DTSTART;TZID=America/New_York:20280129T083000
DTEND;TZID=America/New_York:20280129T123000
DTSTAMP:20260421T134858
CREATED:20260413T143847Z
LAST-MODIFIED:20260413T143847Z
UID:10001921-1832747400-1832761800@centralaroostookchamber.com
SUMMARY:Presque Isle Farmers Market
DESCRIPTION:You’ll find a wide variety of vendors bringing baked goods\, handcrafted items\, and so much more. It’s more than just shopping—it’s a place to connect\, explore\, and enjoy a morning surrounded by the energy of your community.
URL:https://centralaroostookchamber.com/community-event/presque-isle-farmers-market-6/2028-01-29/
LOCATION:Presque Isle Pavilion\, 19 Riverside Dr\, Presque Isle\, ME\, 04769\, United States
END:VEVENT
BEGIN:VEVENT
DTSTART;TZID=America/New_York:20280205T083000
DTEND;TZID=America/New_York:20280205T123000
DTSTAMP:20260421T134858
CREATED:20260413T143847Z
LAST-MODIFIED:20260413T143847Z
UID:10001922-1833352200-1833366600@centralaroostookchamber.com
SUMMARY:Presque Isle Farmers Market
DESCRIPTION:You’ll find a wide variety of vendors bringing baked goods\, handcrafted items\, and so much more. It’s more than just shopping—it’s a place to connect\, explore\, and enjoy a morning surrounded by the energy of your community.
URL:https://centralaroostookchamber.com/community-event/presque-isle-farmers-market-6/2028-02-05/
LOCATION:Presque Isle Pavilion\, 19 Riverside Dr\, Presque Isle\, ME\, 04769\, United States
END:VEVENT
END:VCALENDAR