BEGIN:VCALENDAR
VERSION:2.0
PRODID:-//Central Aroostook Chamber of Commerce - ECPv6.15.20//NONSGML v1.0//EN
CALSCALE:GREGORIAN
METHOD:PUBLISH
X-ORIGINAL-URL:https://centralaroostookchamber.com
X-WR-CALDESC:Events for Central Aroostook Chamber of Commerce
REFRESH-INTERVAL;VALUE=DURATION:PT1H
X-Robots-Tag:noindex
X-PUBLISHED-TTL:PT1H
BEGIN:VTIMEZONE
TZID:America/New_York
BEGIN:DAYLIGHT
TZOFFSETFROM:-0500
TZOFFSETTO:-0400
TZNAME:EDT
DTSTART:20250309T070000
END:DAYLIGHT
BEGIN:STANDARD
TZOFFSETFROM:-0400
TZOFFSETTO:-0500
TZNAME:EST
DTSTART:20251102T060000
END:STANDARD
BEGIN:DAYLIGHT
TZOFFSETFROM:-0500
TZOFFSETTO:-0400
TZNAME:EDT
DTSTART:20260308T070000
END:DAYLIGHT
BEGIN:STANDARD
TZOFFSETFROM:-0400
TZOFFSETTO:-0500
TZNAME:EST
DTSTART:20261101T060000
END:STANDARD
BEGIN:DAYLIGHT
TZOFFSETFROM:-0500
TZOFFSETTO:-0400
TZNAME:EDT
DTSTART:20270314T070000
END:DAYLIGHT
BEGIN:STANDARD
TZOFFSETFROM:-0400
TZOFFSETTO:-0500
TZNAME:EST
DTSTART:20271107T060000
END:STANDARD
BEGIN:DAYLIGHT
TZOFFSETFROM:-0500
TZOFFSETTO:-0400
TZNAME:EDT
DTSTART:20280312T070000
END:DAYLIGHT
BEGIN:STANDARD
TZOFFSETFROM:-0400
TZOFFSETTO:-0500
TZNAME:EST
DTSTART:20281105T060000
END:STANDARD
END:VTIMEZONE
BEGIN:VEVENT
DTSTART;TZID=America/New_York:20260815T083000
DTEND;TZID=America/New_York:20260815T123000
DTSTAMP:20260420T155145
CREATED:20260413T143847Z
LAST-MODIFIED:20260413T143847Z
UID:10001845-1786782600-1786797000@centralaroostookchamber.com
SUMMARY:Presque Isle Farmers Market
DESCRIPTION:You’ll find a wide variety of vendors bringing baked goods\, handcrafted items\, and so much more. It’s more than just shopping—it’s a place to connect\, explore\, and enjoy a morning surrounded by the energy of your community.
URL:https://centralaroostookchamber.com/community-event/presque-isle-farmers-market-6/2026-08-15/
LOCATION:Presque Isle Pavilion\, 19 Riverside Dr\, Presque Isle\, ME\, 04769\, United States
END:VEVENT
BEGIN:VEVENT
DTSTART;TZID=America/New_York:20260822T083000
DTEND;TZID=America/New_York:20260822T123000
DTSTAMP:20260420T155145
CREATED:20260413T143847Z
LAST-MODIFIED:20260413T143847Z
UID:10001846-1787387400-1787401800@centralaroostookchamber.com
SUMMARY:Presque Isle Farmers Market
DESCRIPTION:You’ll find a wide variety of vendors bringing baked goods\, handcrafted items\, and so much more. It’s more than just shopping—it’s a place to connect\, explore\, and enjoy a morning surrounded by the energy of your community.
URL:https://centralaroostookchamber.com/community-event/presque-isle-farmers-market-6/2026-08-22/
LOCATION:Presque Isle Pavilion\, 19 Riverside Dr\, Presque Isle\, ME\, 04769\, United States
END:VEVENT
BEGIN:VEVENT
DTSTART;TZID=America/New_York:20260829T083000
DTEND;TZID=America/New_York:20260829T123000
DTSTAMP:20260420T155145
CREATED:20260413T143847Z
LAST-MODIFIED:20260413T143847Z
UID:10001847-1787992200-1788006600@centralaroostookchamber.com
SUMMARY:Presque Isle Farmers Market
DESCRIPTION:You’ll find a wide variety of vendors bringing baked goods\, handcrafted items\, and so much more. It’s more than just shopping—it’s a place to connect\, explore\, and enjoy a morning surrounded by the energy of your community.
URL:https://centralaroostookchamber.com/community-event/presque-isle-farmers-market-6/2026-08-29/
LOCATION:Presque Isle Pavilion\, 19 Riverside Dr\, Presque Isle\, ME\, 04769\, United States
END:VEVENT
BEGIN:VEVENT
DTSTART;TZID=America/New_York:20260905T083000
DTEND;TZID=America/New_York:20260905T123000
DTSTAMP:20260420T155145
CREATED:20260413T143847Z
LAST-MODIFIED:20260413T143847Z
UID:10001848-1788597000-1788611400@centralaroostookchamber.com
SUMMARY:Presque Isle Farmers Market
DESCRIPTION:You’ll find a wide variety of vendors bringing baked goods\, handcrafted items\, and so much more. It’s more than just shopping—it’s a place to connect\, explore\, and enjoy a morning surrounded by the energy of your community.
URL:https://centralaroostookchamber.com/community-event/presque-isle-farmers-market-6/2026-09-05/
LOCATION:Presque Isle Pavilion\, 19 Riverside Dr\, Presque Isle\, ME\, 04769\, United States
END:VEVENT
BEGIN:VEVENT
DTSTART;TZID=America/New_York:20260912T083000
DTEND;TZID=America/New_York:20260912T123000
DTSTAMP:20260420T155145
CREATED:20260413T143847Z
LAST-MODIFIED:20260413T143847Z
UID:10001849-1789201800-1789216200@centralaroostookchamber.com
SUMMARY:Presque Isle Farmers Market
DESCRIPTION:You’ll find a wide variety of vendors bringing baked goods\, handcrafted items\, and so much more. It’s more than just shopping—it’s a place to connect\, explore\, and enjoy a morning surrounded by the energy of your community.
URL:https://centralaroostookchamber.com/community-event/presque-isle-farmers-market-6/2026-09-12/
LOCATION:Presque Isle Pavilion\, 19 Riverside Dr\, Presque Isle\, ME\, 04769\, United States
END:VEVENT
BEGIN:VEVENT
DTSTART;TZID=America/New_York:20260919T083000
DTEND;TZID=America/New_York:20260919T123000
DTSTAMP:20260420T155145
CREATED:20260413T143847Z
LAST-MODIFIED:20260413T143847Z
UID:10001850-1789806600-1789821000@centralaroostookchamber.com
SUMMARY:Presque Isle Farmers Market
DESCRIPTION:You’ll find a wide variety of vendors bringing baked goods\, handcrafted items\, and so much more. It’s more than just shopping—it’s a place to connect\, explore\, and enjoy a morning surrounded by the energy of your community.
URL:https://centralaroostookchamber.com/community-event/presque-isle-farmers-market-6/2026-09-19/
LOCATION:Presque Isle Pavilion\, 19 Riverside Dr\, Presque Isle\, ME\, 04769\, United States
END:VEVENT
BEGIN:VEVENT
DTSTART;TZID=America/New_York:20260926T083000
DTEND;TZID=America/New_York:20260926T123000
DTSTAMP:20260420T155145
CREATED:20260413T143847Z
LAST-MODIFIED:20260413T143847Z
UID:10001851-1790411400-1790425800@centralaroostookchamber.com
SUMMARY:Presque Isle Farmers Market
DESCRIPTION:You’ll find a wide variety of vendors bringing baked goods\, handcrafted items\, and so much more. It’s more than just shopping—it’s a place to connect\, explore\, and enjoy a morning surrounded by the energy of your community.
URL:https://centralaroostookchamber.com/community-event/presque-isle-farmers-market-6/2026-09-26/
LOCATION:Presque Isle Pavilion\, 19 Riverside Dr\, Presque Isle\, ME\, 04769\, United States
END:VEVENT
BEGIN:VEVENT
DTSTART;TZID=America/New_York:20261003T083000
DTEND;TZID=America/New_York:20261003T123000
DTSTAMP:20260420T155145
CREATED:20260413T143847Z
LAST-MODIFIED:20260413T143847Z
UID:10001852-1791016200-1791030600@centralaroostookchamber.com
SUMMARY:Presque Isle Farmers Market
DESCRIPTION:You’ll find a wide variety of vendors bringing baked goods\, handcrafted items\, and so much more. It’s more than just shopping—it’s a place to connect\, explore\, and enjoy a morning surrounded by the energy of your community.
URL:https://centralaroostookchamber.com/community-event/presque-isle-farmers-market-6/2026-10-03/
LOCATION:Presque Isle Pavilion\, 19 Riverside Dr\, Presque Isle\, ME\, 04769\, United States
END:VEVENT
BEGIN:VEVENT
DTSTART;TZID=America/New_York:20261010T083000
DTEND;TZID=America/New_York:20261010T123000
DTSTAMP:20260420T155145
CREATED:20260413T143847Z
LAST-MODIFIED:20260413T143847Z
UID:10001853-1791621000-1791635400@centralaroostookchamber.com
SUMMARY:Presque Isle Farmers Market
DESCRIPTION:You’ll find a wide variety of vendors bringing baked goods\, handcrafted items\, and so much more. It’s more than just shopping—it’s a place to connect\, explore\, and enjoy a morning surrounded by the energy of your community.
URL:https://centralaroostookchamber.com/community-event/presque-isle-farmers-market-6/2026-10-10/
LOCATION:Presque Isle Pavilion\, 19 Riverside Dr\, Presque Isle\, ME\, 04769\, United States
END:VEVENT
BEGIN:VEVENT
DTSTART;TZID=America/New_York:20261017T083000
DTEND;TZID=America/New_York:20261017T123000
DTSTAMP:20260420T155145
CREATED:20260413T143847Z
LAST-MODIFIED:20260413T143847Z
UID:10001854-1792225800-1792240200@centralaroostookchamber.com
SUMMARY:Presque Isle Farmers Market
DESCRIPTION:You’ll find a wide variety of vendors bringing baked goods\, handcrafted items\, and so much more. It’s more than just shopping—it’s a place to connect\, explore\, and enjoy a morning surrounded by the energy of your community.
URL:https://centralaroostookchamber.com/community-event/presque-isle-farmers-market-6/2026-10-17/
LOCATION:Presque Isle Pavilion\, 19 Riverside Dr\, Presque Isle\, ME\, 04769\, United States
END:VEVENT
BEGIN:VEVENT
DTSTART;TZID=America/New_York:20261024T083000
DTEND;TZID=America/New_York:20261024T123000
DTSTAMP:20260420T155145
CREATED:20260413T143847Z
LAST-MODIFIED:20260413T143847Z
UID:10001855-1792830600-1792845000@centralaroostookchamber.com
SUMMARY:Presque Isle Farmers Market
DESCRIPTION:You’ll find a wide variety of vendors bringing baked goods\, handcrafted items\, and so much more. It’s more than just shopping—it’s a place to connect\, explore\, and enjoy a morning surrounded by the energy of your community.
URL:https://centralaroostookchamber.com/community-event/presque-isle-farmers-market-6/2026-10-24/
LOCATION:Presque Isle Pavilion\, 19 Riverside Dr\, Presque Isle\, ME\, 04769\, United States
END:VEVENT
BEGIN:VEVENT
DTSTART;TZID=America/New_York:20261031T083000
DTEND;TZID=America/New_York:20261031T123000
DTSTAMP:20260420T155145
CREATED:20260413T143847Z
LAST-MODIFIED:20260413T143847Z
UID:10001856-1793435400-1793449800@centralaroostookchamber.com
SUMMARY:Presque Isle Farmers Market
DESCRIPTION:You’ll find a wide variety of vendors bringing baked goods\, handcrafted items\, and so much more. It’s more than just shopping—it’s a place to connect\, explore\, and enjoy a morning surrounded by the energy of your community.
URL:https://centralaroostookchamber.com/community-event/presque-isle-farmers-market-6/2026-10-31/
LOCATION:Presque Isle Pavilion\, 19 Riverside Dr\, Presque Isle\, ME\, 04769\, United States
END:VEVENT
BEGIN:VEVENT
DTSTART;TZID=America/New_York:20261107T083000
DTEND;TZID=America/New_York:20261107T123000
DTSTAMP:20260420T155145
CREATED:20260413T143847Z
LAST-MODIFIED:20260413T143847Z
UID:10001857-1794040200-1794054600@centralaroostookchamber.com
SUMMARY:Presque Isle Farmers Market
DESCRIPTION:You’ll find a wide variety of vendors bringing baked goods\, handcrafted items\, and so much more. It’s more than just shopping—it’s a place to connect\, explore\, and enjoy a morning surrounded by the energy of your community.
URL:https://centralaroostookchamber.com/community-event/presque-isle-farmers-market-6/2026-11-07/
LOCATION:Presque Isle Pavilion\, 19 Riverside Dr\, Presque Isle\, ME\, 04769\, United States
END:VEVENT
BEGIN:VEVENT
DTSTART;TZID=America/New_York:20261114T083000
DTEND;TZID=America/New_York:20261114T123000
DTSTAMP:20260420T155145
CREATED:20260413T143847Z
LAST-MODIFIED:20260413T143847Z
UID:10001858-1794645000-1794659400@centralaroostookchamber.com
SUMMARY:Presque Isle Farmers Market
DESCRIPTION:You’ll find a wide variety of vendors bringing baked goods\, handcrafted items\, and so much more. It’s more than just shopping—it’s a place to connect\, explore\, and enjoy a morning surrounded by the energy of your community.
URL:https://centralaroostookchamber.com/community-event/presque-isle-farmers-market-6/2026-11-14/
LOCATION:Presque Isle Pavilion\, 19 Riverside Dr\, Presque Isle\, ME\, 04769\, United States
END:VEVENT
BEGIN:VEVENT
DTSTART;TZID=America/New_York:20261121T083000
DTEND;TZID=America/New_York:20261121T123000
DTSTAMP:20260420T155145
CREATED:20260413T143847Z
LAST-MODIFIED:20260413T143847Z
UID:10001859-1795249800-1795264200@centralaroostookchamber.com
SUMMARY:Presque Isle Farmers Market
DESCRIPTION:You’ll find a wide variety of vendors bringing baked goods\, handcrafted items\, and so much more. It’s more than just shopping—it’s a place to connect\, explore\, and enjoy a morning surrounded by the energy of your community.
URL:https://centralaroostookchamber.com/community-event/presque-isle-farmers-market-6/2026-11-21/
LOCATION:Presque Isle Pavilion\, 19 Riverside Dr\, Presque Isle\, ME\, 04769\, United States
END:VEVENT
BEGIN:VEVENT
DTSTART;TZID=America/New_York:20261128T083000
DTEND;TZID=America/New_York:20261128T123000
DTSTAMP:20260420T155145
CREATED:20260413T143847Z
LAST-MODIFIED:20260413T143847Z
UID:10001860-1795854600-1795869000@centralaroostookchamber.com
SUMMARY:Presque Isle Farmers Market
DESCRIPTION:You’ll find a wide variety of vendors bringing baked goods\, handcrafted items\, and so much more. It’s more than just shopping—it’s a place to connect\, explore\, and enjoy a morning surrounded by the energy of your community.
URL:https://centralaroostookchamber.com/community-event/presque-isle-farmers-market-6/2026-11-28/
LOCATION:Presque Isle Pavilion\, 19 Riverside Dr\, Presque Isle\, ME\, 04769\, United States
END:VEVENT
BEGIN:VEVENT
DTSTART;TZID=America/New_York:20261205T083000
DTEND;TZID=America/New_York:20261205T123000
DTSTAMP:20260420T155145
CREATED:20260413T143847Z
LAST-MODIFIED:20260413T143847Z
UID:10001861-1796459400-1796473800@centralaroostookchamber.com
SUMMARY:Presque Isle Farmers Market
DESCRIPTION:You’ll find a wide variety of vendors bringing baked goods\, handcrafted items\, and so much more. It’s more than just shopping—it’s a place to connect\, explore\, and enjoy a morning surrounded by the energy of your community.
URL:https://centralaroostookchamber.com/community-event/presque-isle-farmers-market-6/2026-12-05/
LOCATION:Presque Isle Pavilion\, 19 Riverside Dr\, Presque Isle\, ME\, 04769\, United States
END:VEVENT
BEGIN:VEVENT
DTSTART;TZID=America/New_York:20261212T083000
DTEND;TZID=America/New_York:20261212T123000
DTSTAMP:20260420T155145
CREATED:20260413T143847Z
LAST-MODIFIED:20260413T143847Z
UID:10001862-1797064200-1797078600@centralaroostookchamber.com
SUMMARY:Presque Isle Farmers Market
DESCRIPTION:You’ll find a wide variety of vendors bringing baked goods\, handcrafted items\, and so much more. It’s more than just shopping—it’s a place to connect\, explore\, and enjoy a morning surrounded by the energy of your community.
URL:https://centralaroostookchamber.com/community-event/presque-isle-farmers-market-6/2026-12-12/
LOCATION:Presque Isle Pavilion\, 19 Riverside Dr\, Presque Isle\, ME\, 04769\, United States
END:VEVENT
BEGIN:VEVENT
DTSTART;TZID=America/New_York:20261219T083000
DTEND;TZID=America/New_York:20261219T123000
DTSTAMP:20260420T155145
CREATED:20260413T143847Z
LAST-MODIFIED:20260413T143847Z
UID:10001863-1797669000-1797683400@centralaroostookchamber.com
SUMMARY:Presque Isle Farmers Market
DESCRIPTION:You’ll find a wide variety of vendors bringing baked goods\, handcrafted items\, and so much more. It’s more than just shopping—it’s a place to connect\, explore\, and enjoy a morning surrounded by the energy of your community.
URL:https://centralaroostookchamber.com/community-event/presque-isle-farmers-market-6/2026-12-19/
LOCATION:Presque Isle Pavilion\, 19 Riverside Dr\, Presque Isle\, ME\, 04769\, United States
END:VEVENT
BEGIN:VEVENT
DTSTART;TZID=America/New_York:20261226T083000
DTEND;TZID=America/New_York:20261226T123000
DTSTAMP:20260420T155145
CREATED:20260413T143847Z
LAST-MODIFIED:20260413T143847Z
UID:10001864-1798273800-1798288200@centralaroostookchamber.com
SUMMARY:Presque Isle Farmers Market
DESCRIPTION:You’ll find a wide variety of vendors bringing baked goods\, handcrafted items\, and so much more. It’s more than just shopping—it’s a place to connect\, explore\, and enjoy a morning surrounded by the energy of your community.
URL:https://centralaroostookchamber.com/community-event/presque-isle-farmers-market-6/2026-12-26/
LOCATION:Presque Isle Pavilion\, 19 Riverside Dr\, Presque Isle\, ME\, 04769\, United States
END:VEVENT
BEGIN:VEVENT
DTSTART;TZID=America/New_York:20270102T083000
DTEND;TZID=America/New_York:20270102T123000
DTSTAMP:20260420T155145
CREATED:20260413T143847Z
LAST-MODIFIED:20260413T143847Z
UID:10001865-1798878600-1798893000@centralaroostookchamber.com
SUMMARY:Presque Isle Farmers Market
DESCRIPTION:You’ll find a wide variety of vendors bringing baked goods\, handcrafted items\, and so much more. It’s more than just shopping—it’s a place to connect\, explore\, and enjoy a morning surrounded by the energy of your community.
URL:https://centralaroostookchamber.com/community-event/presque-isle-farmers-market-6/2027-01-02/
LOCATION:Presque Isle Pavilion\, 19 Riverside Dr\, Presque Isle\, ME\, 04769\, United States
END:VEVENT
BEGIN:VEVENT
DTSTART;TZID=America/New_York:20270109T083000
DTEND;TZID=America/New_York:20270109T123000
DTSTAMP:20260420T155145
CREATED:20260413T143847Z
LAST-MODIFIED:20260413T143847Z
UID:10001866-1799483400-1799497800@centralaroostookchamber.com
SUMMARY:Presque Isle Farmers Market
DESCRIPTION:You’ll find a wide variety of vendors bringing baked goods\, handcrafted items\, and so much more. It’s more than just shopping—it’s a place to connect\, explore\, and enjoy a morning surrounded by the energy of your community.
URL:https://centralaroostookchamber.com/community-event/presque-isle-farmers-market-6/2027-01-09/
LOCATION:Presque Isle Pavilion\, 19 Riverside Dr\, Presque Isle\, ME\, 04769\, United States
END:VEVENT
BEGIN:VEVENT
DTSTART;TZID=America/New_York:20270116T083000
DTEND;TZID=America/New_York:20270116T123000
DTSTAMP:20260420T155145
CREATED:20260413T143847Z
LAST-MODIFIED:20260413T143847Z
UID:10001867-1800088200-1800102600@centralaroostookchamber.com
SUMMARY:Presque Isle Farmers Market
DESCRIPTION:You’ll find a wide variety of vendors bringing baked goods\, handcrafted items\, and so much more. It’s more than just shopping—it’s a place to connect\, explore\, and enjoy a morning surrounded by the energy of your community.
URL:https://centralaroostookchamber.com/community-event/presque-isle-farmers-market-6/2027-01-16/
LOCATION:Presque Isle Pavilion\, 19 Riverside Dr\, Presque Isle\, ME\, 04769\, United States
END:VEVENT
BEGIN:VEVENT
DTSTART;TZID=America/New_York:20270123T083000
DTEND;TZID=America/New_York:20270123T123000
DTSTAMP:20260420T155145
CREATED:20260413T143847Z
LAST-MODIFIED:20260413T143847Z
UID:10001868-1800693000-1800707400@centralaroostookchamber.com
SUMMARY:Presque Isle Farmers Market
DESCRIPTION:You’ll find a wide variety of vendors bringing baked goods\, handcrafted items\, and so much more. It’s more than just shopping—it’s a place to connect\, explore\, and enjoy a morning surrounded by the energy of your community.
URL:https://centralaroostookchamber.com/community-event/presque-isle-farmers-market-6/2027-01-23/
LOCATION:Presque Isle Pavilion\, 19 Riverside Dr\, Presque Isle\, ME\, 04769\, United States
END:VEVENT
BEGIN:VEVENT
DTSTART;TZID=America/New_York:20270130T083000
DTEND;TZID=America/New_York:20270130T123000
DTSTAMP:20260420T155145
CREATED:20260413T143847Z
LAST-MODIFIED:20260413T143847Z
UID:10001869-1801297800-1801312200@centralaroostookchamber.com
SUMMARY:Presque Isle Farmers Market
DESCRIPTION:You’ll find a wide variety of vendors bringing baked goods\, handcrafted items\, and so much more. It’s more than just shopping—it’s a place to connect\, explore\, and enjoy a morning surrounded by the energy of your community.
URL:https://centralaroostookchamber.com/community-event/presque-isle-farmers-market-6/2027-01-30/
LOCATION:Presque Isle Pavilion\, 19 Riverside Dr\, Presque Isle\, ME\, 04769\, United States
END:VEVENT
BEGIN:VEVENT
DTSTART;TZID=America/New_York:20270206T083000
DTEND;TZID=America/New_York:20270206T123000
DTSTAMP:20260420T155145
CREATED:20260413T143847Z
LAST-MODIFIED:20260413T143847Z
UID:10001870-1801902600-1801917000@centralaroostookchamber.com
SUMMARY:Presque Isle Farmers Market
DESCRIPTION:You’ll find a wide variety of vendors bringing baked goods\, handcrafted items\, and so much more. It’s more than just shopping—it’s a place to connect\, explore\, and enjoy a morning surrounded by the energy of your community.
URL:https://centralaroostookchamber.com/community-event/presque-isle-farmers-market-6/2027-02-06/
LOCATION:Presque Isle Pavilion\, 19 Riverside Dr\, Presque Isle\, ME\, 04769\, United States
END:VEVENT
BEGIN:VEVENT
DTSTART;TZID=America/New_York:20270213T083000
DTEND;TZID=America/New_York:20270213T123000
DTSTAMP:20260420T155145
CREATED:20260413T143847Z
LAST-MODIFIED:20260413T143847Z
UID:10001871-1802507400-1802521800@centralaroostookchamber.com
SUMMARY:Presque Isle Farmers Market
DESCRIPTION:You’ll find a wide variety of vendors bringing baked goods\, handcrafted items\, and so much more. It’s more than just shopping—it’s a place to connect\, explore\, and enjoy a morning surrounded by the energy of your community.
URL:https://centralaroostookchamber.com/community-event/presque-isle-farmers-market-6/2027-02-13/
LOCATION:Presque Isle Pavilion\, 19 Riverside Dr\, Presque Isle\, ME\, 04769\, United States
END:VEVENT
BEGIN:VEVENT
DTSTART;TZID=America/New_York:20270220T083000
DTEND;TZID=America/New_York:20270220T123000
DTSTAMP:20260420T155145
CREATED:20260413T143847Z
LAST-MODIFIED:20260413T143847Z
UID:10001872-1803112200-1803126600@centralaroostookchamber.com
SUMMARY:Presque Isle Farmers Market
DESCRIPTION:You’ll find a wide variety of vendors bringing baked goods\, handcrafted items\, and so much more. It’s more than just shopping—it’s a place to connect\, explore\, and enjoy a morning surrounded by the energy of your community.
URL:https://centralaroostookchamber.com/community-event/presque-isle-farmers-market-6/2027-02-20/
LOCATION:Presque Isle Pavilion\, 19 Riverside Dr\, Presque Isle\, ME\, 04769\, United States
END:VEVENT
BEGIN:VEVENT
DTSTART;TZID=America/New_York:20270227T083000
DTEND;TZID=America/New_York:20270227T123000
DTSTAMP:20260420T155145
CREATED:20260413T143847Z
LAST-MODIFIED:20260413T143847Z
UID:10001873-1803717000-1803731400@centralaroostookchamber.com
SUMMARY:Presque Isle Farmers Market
DESCRIPTION:You’ll find a wide variety of vendors bringing baked goods\, handcrafted items\, and so much more. It’s more than just shopping—it’s a place to connect\, explore\, and enjoy a morning surrounded by the energy of your community.
URL:https://centralaroostookchamber.com/community-event/presque-isle-farmers-market-6/2027-02-27/
LOCATION:Presque Isle Pavilion\, 19 Riverside Dr\, Presque Isle\, ME\, 04769\, United States
END:VEVENT
BEGIN:VEVENT
DTSTART;TZID=America/New_York:20270306T083000
DTEND;TZID=America/New_York:20270306T123000
DTSTAMP:20260420T155145
CREATED:20260413T143847Z
LAST-MODIFIED:20260413T143847Z
UID:10001874-1804321800-1804336200@centralaroostookchamber.com
SUMMARY:Presque Isle Farmers Market
DESCRIPTION:You’ll find a wide variety of vendors bringing baked goods\, handcrafted items\, and so much more. It’s more than just shopping—it’s a place to connect\, explore\, and enjoy a morning surrounded by the energy of your community.
URL:https://centralaroostookchamber.com/community-event/presque-isle-farmers-market-6/2027-03-06/
LOCATION:Presque Isle Pavilion\, 19 Riverside Dr\, Presque Isle\, ME\, 04769\, United States
END:VEVENT
END:VCALENDAR