BEGIN:VCALENDAR
VERSION:2.0
PRODID:-//Central Aroostook Chamber of Commerce - ECPv6.15.20//NONSGML v1.0//EN
CALSCALE:GREGORIAN
METHOD:PUBLISH
X-ORIGINAL-URL:https://centralaroostookchamber.com
X-WR-CALDESC:Events for Central Aroostook Chamber of Commerce
REFRESH-INTERVAL;VALUE=DURATION:PT1H
X-Robots-Tag:noindex
X-PUBLISHED-TTL:PT1H
BEGIN:VTIMEZONE
TZID:America/New_York
BEGIN:DAYLIGHT
TZOFFSETFROM:-0500
TZOFFSETTO:-0400
TZNAME:EDT
DTSTART:20230312T070000
END:DAYLIGHT
BEGIN:STANDARD
TZOFFSETFROM:-0400
TZOFFSETTO:-0500
TZNAME:EST
DTSTART:20231105T060000
END:STANDARD
BEGIN:DAYLIGHT
TZOFFSETFROM:-0500
TZOFFSETTO:-0400
TZNAME:EDT
DTSTART:20240310T070000
END:DAYLIGHT
BEGIN:STANDARD
TZOFFSETFROM:-0400
TZOFFSETTO:-0500
TZNAME:EST
DTSTART:20241103T060000
END:STANDARD
BEGIN:DAYLIGHT
TZOFFSETFROM:-0500
TZOFFSETTO:-0400
TZNAME:EDT
DTSTART:20250309T070000
END:DAYLIGHT
BEGIN:STANDARD
TZOFFSETFROM:-0400
TZOFFSETTO:-0500
TZNAME:EST
DTSTART:20251102T060000
END:STANDARD
BEGIN:DAYLIGHT
TZOFFSETFROM:-0500
TZOFFSETTO:-0400
TZNAME:EDT
DTSTART:20260308T070000
END:DAYLIGHT
BEGIN:STANDARD
TZOFFSETFROM:-0400
TZOFFSETTO:-0500
TZNAME:EST
DTSTART:20261101T060000
END:STANDARD
BEGIN:DAYLIGHT
TZOFFSETFROM:-0500
TZOFFSETTO:-0400
TZNAME:EDT
DTSTART:20270314T070000
END:DAYLIGHT
BEGIN:STANDARD
TZOFFSETFROM:-0400
TZOFFSETTO:-0500
TZNAME:EST
DTSTART:20271107T060000
END:STANDARD
END:VTIMEZONE
BEGIN:VEVENT
DTSTART;TZID=America/New_York:20260403T170000
DTEND;TZID=America/New_York:20260403T200000
DTSTAMP:20260420T045446
CREATED:20241011T184945Z
LAST-MODIFIED:20250214T033744Z
UID:10001445-1775235600-1775246400@centralaroostookchamber.com
SUMMARY:First Friday Art Walk
DESCRIPTION:Join us in Beautiful downtown Presque Isle Maine while we have our First Friday Art Walk! This event happens year-round\, on the first Friday of every month. Join our local businesses as they celebrate and display local artisans. Refreshments are usually served\, and a flyer is available to show you which business to hit next on your walk. This is a fun event and is open and free to the public.
URL:https://centralaroostookchamber.com/community-event/first-friday-art-walk-2-2-2/2026-04-03/
LOCATION:Presque Isle Maine\, Main Street\, Presque Isle\, 04769\, United States
ATTACH;FMTTYPE=image/webp:https://centralaroostookchamber.com/wp-content/uploads/2024/03/firstfridayfoot-lg.webp
ORGANIZER;CN="Central Aroostook Chamber of Commerce":MAILTO:info@centralaroostookchamber.com
END:VEVENT
BEGIN:VEVENT
DTSTART;TZID=America/New_York:20260306T170000
DTEND;TZID=America/New_York:20260306T200000
DTSTAMP:20260420T045446
CREATED:20241011T184945Z
LAST-MODIFIED:20250214T033744Z
UID:10001444-1772816400-1772827200@centralaroostookchamber.com
SUMMARY:First Friday Art Walk
DESCRIPTION:Join us in Beautiful downtown Presque Isle Maine while we have our First Friday Art Walk! This event happens year-round\, on the first Friday of every month. Join our local businesses as they celebrate and display local artisans. Refreshments are usually served\, and a flyer is available to show you which business to hit next on your walk. This is a fun event and is open and free to the public.
URL:https://centralaroostookchamber.com/community-event/first-friday-art-walk-2-2-2/2026-03-06/
LOCATION:Presque Isle Maine\, Main Street\, Presque Isle\, 04769\, United States
ATTACH;FMTTYPE=image/webp:https://centralaroostookchamber.com/wp-content/uploads/2024/03/firstfridayfoot-lg.webp
ORGANIZER;CN="Central Aroostook Chamber of Commerce":MAILTO:info@centralaroostookchamber.com
END:VEVENT
BEGIN:VEVENT
DTSTART;TZID=America/New_York:20260206T170000
DTEND;TZID=America/New_York:20260206T200000
DTSTAMP:20260420T045446
CREATED:20241011T184945Z
LAST-MODIFIED:20250214T033744Z
UID:10001443-1770397200-1770408000@centralaroostookchamber.com
SUMMARY:First Friday Art Walk
DESCRIPTION:Join us in Beautiful downtown Presque Isle Maine while we have our First Friday Art Walk! This event happens year-round\, on the first Friday of every month. Join our local businesses as they celebrate and display local artisans. Refreshments are usually served\, and a flyer is available to show you which business to hit next on your walk. This is a fun event and is open and free to the public.
URL:https://centralaroostookchamber.com/community-event/first-friday-art-walk-2-2-2/2026-02-06/
LOCATION:Presque Isle Maine\, Main Street\, Presque Isle\, 04769\, United States
ATTACH;FMTTYPE=image/webp:https://centralaroostookchamber.com/wp-content/uploads/2024/03/firstfridayfoot-lg.webp
ORGANIZER;CN="Central Aroostook Chamber of Commerce":MAILTO:info@centralaroostookchamber.com
END:VEVENT
BEGIN:VEVENT
DTSTART;TZID=America/New_York:20260206T170000
DTEND;TZID=America/New_York:20260206T200000
DTSTAMP:20260420T045446
CREATED:20240716T154614Z
LAST-MODIFIED:20240716T154724Z
UID:10001349-1770397200-1770408000@centralaroostookchamber.com
SUMMARY:First Friday Art Walk
DESCRIPTION:Join us in Beautiful downtown Presque Isle Maine while we have our First Friday Art Walk! This event happens year-round\, on the first Friday of every month. Join our local businesses as they celebrate and display local artisans. Refreshments are usually served\, and a flyer is available to show you which business to hit next on your walk. This is a fun event and is open and free to the public.
URL:https://centralaroostookchamber.com/community-event/first-friday-art-walk-3/2026-02-06/
LOCATION:Presque Isle Maine\, Main Street\, Presque Isle\, 04769\, United States
ORGANIZER;CN="Central Aroostook Chamber of Commerce":MAILTO:info@centralaroostookchamber.com
END:VEVENT
BEGIN:VEVENT
DTSTART;TZID=America/New_York:20260102T170000
DTEND;TZID=America/New_York:20260102T200000
DTSTAMP:20260420T045446
CREATED:20241011T184945Z
LAST-MODIFIED:20250214T033744Z
UID:10001442-1767373200-1767384000@centralaroostookchamber.com
SUMMARY:First Friday Art Walk
DESCRIPTION:Join us in Beautiful downtown Presque Isle Maine while we have our First Friday Art Walk! This event happens year-round\, on the first Friday of every month. Join our local businesses as they celebrate and display local artisans. Refreshments are usually served\, and a flyer is available to show you which business to hit next on your walk. This is a fun event and is open and free to the public.
URL:https://centralaroostookchamber.com/community-event/first-friday-art-walk-2-2-2/2026-01-02/
LOCATION:Presque Isle Maine\, Main Street\, Presque Isle\, 04769\, United States
ATTACH;FMTTYPE=image/webp:https://centralaroostookchamber.com/wp-content/uploads/2024/03/firstfridayfoot-lg.webp
ORGANIZER;CN="Central Aroostook Chamber of Commerce":MAILTO:info@centralaroostookchamber.com
END:VEVENT
BEGIN:VEVENT
DTSTART;TZID=America/New_York:20251205T170000
DTEND;TZID=America/New_York:20251205T200000
DTSTAMP:20260420T045446
CREATED:20241011T184945Z
LAST-MODIFIED:20250214T033744Z
UID:10001441-1764954000-1764964800@centralaroostookchamber.com
SUMMARY:First Friday Art Walk
DESCRIPTION:Join us in Beautiful downtown Presque Isle Maine while we have our First Friday Art Walk! This event happens year-round\, on the first Friday of every month. Join our local businesses as they celebrate and display local artisans. Refreshments are usually served\, and a flyer is available to show you which business to hit next on your walk. This is a fun event and is open and free to the public.
URL:https://centralaroostookchamber.com/community-event/first-friday-art-walk-2-2-2/2025-12-05/
LOCATION:Presque Isle Maine\, Main Street\, Presque Isle\, 04769\, United States
ATTACH;FMTTYPE=image/webp:https://centralaroostookchamber.com/wp-content/uploads/2024/03/firstfridayfoot-lg.webp
ORGANIZER;CN="Central Aroostook Chamber of Commerce":MAILTO:info@centralaroostookchamber.com
END:VEVENT
BEGIN:VEVENT
DTSTART;TZID=America/New_York:20251107T170000
DTEND;TZID=America/New_York:20251107T200000
DTSTAMP:20260420T045446
CREATED:20241011T184945Z
LAST-MODIFIED:20250214T033744Z
UID:10001440-1762534800-1762545600@centralaroostookchamber.com
SUMMARY:First Friday Art Walk
DESCRIPTION:Join us in Beautiful downtown Presque Isle Maine while we have our First Friday Art Walk! This event happens year-round\, on the first Friday of every month. Join our local businesses as they celebrate and display local artisans. Refreshments are usually served\, and a flyer is available to show you which business to hit next on your walk. This is a fun event and is open and free to the public.
URL:https://centralaroostookchamber.com/community-event/first-friday-art-walk-2-2-2/2025-11-07/
LOCATION:Presque Isle Maine\, Main Street\, Presque Isle\, 04769\, United States
ATTACH;FMTTYPE=image/webp:https://centralaroostookchamber.com/wp-content/uploads/2024/03/firstfridayfoot-lg.webp
ORGANIZER;CN="Central Aroostook Chamber of Commerce":MAILTO:info@centralaroostookchamber.com
END:VEVENT
BEGIN:VEVENT
DTSTART;TZID=America/New_York:20251003T170000
DTEND;TZID=America/New_York:20251003T200000
DTSTAMP:20260420T045446
CREATED:20241011T184945Z
LAST-MODIFIED:20250214T033744Z
UID:10001439-1759510800-1759521600@centralaroostookchamber.com
SUMMARY:First Friday Art Walk
DESCRIPTION:Join us in Beautiful downtown Presque Isle Maine while we have our First Friday Art Walk! This event happens year-round\, on the first Friday of every month. Join our local businesses as they celebrate and display local artisans. Refreshments are usually served\, and a flyer is available to show you which business to hit next on your walk. This is a fun event and is open and free to the public.
URL:https://centralaroostookchamber.com/community-event/first-friday-art-walk-2-2-2/2025-10-03/
LOCATION:Presque Isle Maine\, Main Street\, Presque Isle\, 04769\, United States
ATTACH;FMTTYPE=image/webp:https://centralaroostookchamber.com/wp-content/uploads/2024/03/firstfridayfoot-lg.webp
ORGANIZER;CN="Central Aroostook Chamber of Commerce":MAILTO:info@centralaroostookchamber.com
END:VEVENT
BEGIN:VEVENT
DTSTART;TZID=America/New_York:20250905T170000
DTEND;TZID=America/New_York:20250905T200000
DTSTAMP:20260420T045446
CREATED:20241011T184945Z
LAST-MODIFIED:20250214T033744Z
UID:10001438-1757091600-1757102400@centralaroostookchamber.com
SUMMARY:First Friday Art Walk
DESCRIPTION:Join us in Beautiful downtown Presque Isle Maine while we have our First Friday Art Walk! This event happens year-round\, on the first Friday of every month. Join our local businesses as they celebrate and display local artisans. Refreshments are usually served\, and a flyer is available to show you which business to hit next on your walk. This is a fun event and is open and free to the public.
URL:https://centralaroostookchamber.com/community-event/first-friday-art-walk-2-2-2/2025-09-05/
LOCATION:Presque Isle Maine\, Main Street\, Presque Isle\, 04769\, United States
ATTACH;FMTTYPE=image/webp:https://centralaroostookchamber.com/wp-content/uploads/2024/03/firstfridayfoot-lg.webp
ORGANIZER;CN="Central Aroostook Chamber of Commerce":MAILTO:info@centralaroostookchamber.com
END:VEVENT
BEGIN:VEVENT
DTSTART;TZID=America/New_York:20250801T170000
DTEND;TZID=America/New_York:20250801T200000
DTSTAMP:20260420T045446
CREATED:20241011T184945Z
LAST-MODIFIED:20250214T033744Z
UID:10001437-1754067600-1754078400@centralaroostookchamber.com
SUMMARY:First Friday Art Walk
DESCRIPTION:Join us in Beautiful downtown Presque Isle Maine while we have our First Friday Art Walk! This event happens year-round\, on the first Friday of every month. Join our local businesses as they celebrate and display local artisans. Refreshments are usually served\, and a flyer is available to show you which business to hit next on your walk. This is a fun event and is open and free to the public.
URL:https://centralaroostookchamber.com/community-event/first-friday-art-walk-2-2-2/2025-08-01/
LOCATION:Presque Isle Maine\, Main Street\, Presque Isle\, 04769\, United States
ATTACH;FMTTYPE=image/webp:https://centralaroostookchamber.com/wp-content/uploads/2024/03/firstfridayfoot-lg.webp
ORGANIZER;CN="Central Aroostook Chamber of Commerce":MAILTO:info@centralaroostookchamber.com
END:VEVENT
BEGIN:VEVENT
DTSTART;TZID=America/New_York:20250801T170000
DTEND;TZID=America/New_York:20250801T200000
DTSTAMP:20260420T045446
CREATED:20240716T154614Z
LAST-MODIFIED:20240716T154724Z
UID:10001348-1754067600-1754078400@centralaroostookchamber.com
SUMMARY:First Friday Art Walk
DESCRIPTION:Join us in Beautiful downtown Presque Isle Maine while we have our First Friday Art Walk! This event happens year-round\, on the first Friday of every month. Join our local businesses as they celebrate and display local artisans. Refreshments are usually served\, and a flyer is available to show you which business to hit next on your walk. This is a fun event and is open and free to the public.
URL:https://centralaroostookchamber.com/community-event/first-friday-art-walk-3/2025-08-01/
LOCATION:Presque Isle Maine\, Main Street\, Presque Isle\, 04769\, United States
ORGANIZER;CN="Central Aroostook Chamber of Commerce":MAILTO:info@centralaroostookchamber.com
END:VEVENT
BEGIN:VEVENT
DTSTART;TZID=America/New_York:20250704T170000
DTEND;TZID=America/New_York:20250704T200000
DTSTAMP:20260420T045446
CREATED:20241011T184945Z
LAST-MODIFIED:20250214T033744Z
UID:10001436-1751648400-1751659200@centralaroostookchamber.com
SUMMARY:First Friday Art Walk
DESCRIPTION:Join us in Beautiful downtown Presque Isle Maine while we have our First Friday Art Walk! This event happens year-round\, on the first Friday of every month. Join our local businesses as they celebrate and display local artisans. Refreshments are usually served\, and a flyer is available to show you which business to hit next on your walk. This is a fun event and is open and free to the public.
URL:https://centralaroostookchamber.com/community-event/first-friday-art-walk-2-2-2/2025-07-04/
LOCATION:Presque Isle Maine\, Main Street\, Presque Isle\, 04769\, United States
ATTACH;FMTTYPE=image/webp:https://centralaroostookchamber.com/wp-content/uploads/2024/03/firstfridayfoot-lg.webp
ORGANIZER;CN="Central Aroostook Chamber of Commerce":MAILTO:info@centralaroostookchamber.com
END:VEVENT
BEGIN:VEVENT
DTSTART;TZID=America/New_York:20250606T170000
DTEND;TZID=America/New_York:20250606T200000
DTSTAMP:20260420T045446
CREATED:20241011T184945Z
LAST-MODIFIED:20250214T033744Z
UID:10001435-1749229200-1749240000@centralaroostookchamber.com
SUMMARY:First Friday Art Walk
DESCRIPTION:Join us in Beautiful downtown Presque Isle Maine while we have our First Friday Art Walk! This event happens year-round\, on the first Friday of every month. Join our local businesses as they celebrate and display local artisans. Refreshments are usually served\, and a flyer is available to show you which business to hit next on your walk. This is a fun event and is open and free to the public.
URL:https://centralaroostookchamber.com/community-event/first-friday-art-walk-2-2-2/2025-06-06/
LOCATION:Presque Isle Maine\, Main Street\, Presque Isle\, 04769\, United States
ATTACH;FMTTYPE=image/webp:https://centralaroostookchamber.com/wp-content/uploads/2024/03/firstfridayfoot-lg.webp
ORGANIZER;CN="Central Aroostook Chamber of Commerce":MAILTO:info@centralaroostookchamber.com
END:VEVENT
BEGIN:VEVENT
DTSTART;TZID=America/New_York:20250502T170000
DTEND;TZID=America/New_York:20250502T200000
DTSTAMP:20260420T045446
CREATED:20241011T184945Z
LAST-MODIFIED:20250214T033744Z
UID:10001434-1746205200-1746216000@centralaroostookchamber.com
SUMMARY:First Friday Art Walk
DESCRIPTION:Join us in Beautiful downtown Presque Isle Maine while we have our First Friday Art Walk! This event happens year-round\, on the first Friday of every month. Join our local businesses as they celebrate and display local artisans. Refreshments are usually served\, and a flyer is available to show you which business to hit next on your walk. This is a fun event and is open and free to the public.
URL:https://centralaroostookchamber.com/community-event/first-friday-art-walk-2-2-2/2025-05-02/
LOCATION:Presque Isle Maine\, Main Street\, Presque Isle\, 04769\, United States
ATTACH;FMTTYPE=image/webp:https://centralaroostookchamber.com/wp-content/uploads/2024/03/firstfridayfoot-lg.webp
ORGANIZER;CN="Central Aroostook Chamber of Commerce":MAILTO:info@centralaroostookchamber.com
END:VEVENT
BEGIN:VEVENT
DTSTART;TZID=America/New_York:20250404T170000
DTEND;TZID=America/New_York:20250404T200000
DTSTAMP:20260420T045446
CREATED:20241011T184945Z
LAST-MODIFIED:20250214T033744Z
UID:10001433-1743786000-1743796800@centralaroostookchamber.com
SUMMARY:First Friday Art Walk
DESCRIPTION:Join us in Beautiful downtown Presque Isle Maine while we have our First Friday Art Walk! This event happens year-round\, on the first Friday of every month. Join our local businesses as they celebrate and display local artisans. Refreshments are usually served\, and a flyer is available to show you which business to hit next on your walk. This is a fun event and is open and free to the public.
URL:https://centralaroostookchamber.com/community-event/first-friday-art-walk-2-2-2/2025-04-04/
LOCATION:Presque Isle Maine\, Main Street\, Presque Isle\, 04769\, United States
ATTACH;FMTTYPE=image/webp:https://centralaroostookchamber.com/wp-content/uploads/2024/03/firstfridayfoot-lg.webp
ORGANIZER;CN="Central Aroostook Chamber of Commerce":MAILTO:info@centralaroostookchamber.com
END:VEVENT
BEGIN:VEVENT
DTSTART;TZID=America/New_York:20250307T170000
DTEND;TZID=America/New_York:20250307T200000
DTSTAMP:20260420T045446
CREATED:20241011T184945Z
LAST-MODIFIED:20250214T033744Z
UID:10001432-1741366800-1741377600@centralaroostookchamber.com
SUMMARY:First Friday Art Walk
DESCRIPTION:Join us in Beautiful downtown Presque Isle Maine while we have our First Friday Art Walk! This event happens year-round\, on the first Friday of every month. Join our local businesses as they celebrate and display local artisans. Refreshments are usually served\, and a flyer is available to show you which business to hit next on your walk. This is a fun event and is open and free to the public.
URL:https://centralaroostookchamber.com/community-event/first-friday-art-walk-2-2-2/2025-03-07/
LOCATION:Presque Isle Maine\, Main Street\, Presque Isle\, 04769\, United States
ATTACH;FMTTYPE=image/webp:https://centralaroostookchamber.com/wp-content/uploads/2024/03/firstfridayfoot-lg.webp
ORGANIZER;CN="Central Aroostook Chamber of Commerce":MAILTO:info@centralaroostookchamber.com
END:VEVENT
BEGIN:VEVENT
DTSTART;TZID=America/New_York:20250207T170000
DTEND;TZID=America/New_York:20250207T200000
DTSTAMP:20260420T045446
CREATED:20241011T184945Z
LAST-MODIFIED:20250214T033744Z
UID:10001431-1738947600-1738958400@centralaroostookchamber.com
SUMMARY:First Friday Art Walk
DESCRIPTION:Join us in Beautiful downtown Presque Isle Maine while we have our First Friday Art Walk! This event happens year-round\, on the first Friday of every month. Join our local businesses as they celebrate and display local artisans. Refreshments are usually served\, and a flyer is available to show you which business to hit next on your walk. This is a fun event and is open and free to the public.
URL:https://centralaroostookchamber.com/community-event/first-friday-art-walk-2-2-2/2025-02-07/
LOCATION:Presque Isle Maine\, Main Street\, Presque Isle\, 04769\, United States
ATTACH;FMTTYPE=image/webp:https://centralaroostookchamber.com/wp-content/uploads/2024/03/firstfridayfoot-lg.webp
ORGANIZER;CN="Central Aroostook Chamber of Commerce":MAILTO:info@centralaroostookchamber.com
END:VEVENT
BEGIN:VEVENT
DTSTART;TZID=America/New_York:20250207T170000
DTEND;TZID=America/New_York:20250207T200000
DTSTAMP:20260420T045446
CREATED:20240716T154614Z
LAST-MODIFIED:20240716T154724Z
UID:10001347-1738947600-1738958400@centralaroostookchamber.com
SUMMARY:First Friday Art Walk
DESCRIPTION:Join us in Beautiful downtown Presque Isle Maine while we have our First Friday Art Walk! This event happens year-round\, on the first Friday of every month. Join our local businesses as they celebrate and display local artisans. Refreshments are usually served\, and a flyer is available to show you which business to hit next on your walk. This is a fun event and is open and free to the public.
URL:https://centralaroostookchamber.com/community-event/first-friday-art-walk-3/2025-02-07/
LOCATION:Presque Isle Maine\, Main Street\, Presque Isle\, 04769\, United States
ORGANIZER;CN="Central Aroostook Chamber of Commerce":MAILTO:info@centralaroostookchamber.com
END:VEVENT
BEGIN:VEVENT
DTSTART;TZID=America/New_York:20250103T170000
DTEND;TZID=America/New_York:20250103T200000
DTSTAMP:20260420T045447
CREATED:20241011T184945Z
LAST-MODIFIED:20250214T033744Z
UID:10001430-1735923600-1735934400@centralaroostookchamber.com
SUMMARY:First Friday Art Walk
DESCRIPTION:Join us in Beautiful downtown Presque Isle Maine while we have our First Friday Art Walk! This event happens year-round\, on the first Friday of every month. Join our local businesses as they celebrate and display local artisans. Refreshments are usually served\, and a flyer is available to show you which business to hit next on your walk. This is a fun event and is open and free to the public.
URL:https://centralaroostookchamber.com/community-event/first-friday-art-walk-2-2-2/2025-01-03/
LOCATION:Presque Isle Maine\, Main Street\, Presque Isle\, 04769\, United States
ATTACH;FMTTYPE=image/webp:https://centralaroostookchamber.com/wp-content/uploads/2024/03/firstfridayfoot-lg.webp
ORGANIZER;CN="Central Aroostook Chamber of Commerce":MAILTO:info@centralaroostookchamber.com
END:VEVENT
BEGIN:VEVENT
DTSTART;TZID=America/New_York:20241206T170000
DTEND;TZID=America/New_York:20241206T200000
DTSTAMP:20260420T045447
CREATED:20241011T184945Z
LAST-MODIFIED:20250214T033744Z
UID:10001429-1733504400-1733515200@centralaroostookchamber.com
SUMMARY:First Friday Art Walk
DESCRIPTION:Join us in Beautiful downtown Presque Isle Maine while we have our First Friday Art Walk! This event happens year-round\, on the first Friday of every month. Join our local businesses as they celebrate and display local artisans. Refreshments are usually served\, and a flyer is available to show you which business to hit next on your walk. This is a fun event and is open and free to the public.
URL:https://centralaroostookchamber.com/community-event/first-friday-art-walk-2-2-2/2024-12-06/
LOCATION:Presque Isle Maine\, Main Street\, Presque Isle\, 04769\, United States
ATTACH;FMTTYPE=image/webp:https://centralaroostookchamber.com/wp-content/uploads/2024/03/firstfridayfoot-lg.webp
ORGANIZER;CN="Central Aroostook Chamber of Commerce":MAILTO:info@centralaroostookchamber.com
END:VEVENT
BEGIN:VEVENT
DTSTART;TZID=America/New_York:20241101T170000
DTEND;TZID=America/New_York:20241101T200000
DTSTAMP:20260420T045447
CREATED:20241011T184945Z
LAST-MODIFIED:20250214T033744Z
UID:10001369-1730480400-1730491200@centralaroostookchamber.com
SUMMARY:First Friday Art Walk
DESCRIPTION:Join us in Beautiful downtown Presque Isle Maine while we have our First Friday Art Walk! This event happens year-round\, on the first Friday of every month. Join our local businesses as they celebrate and display local artisans. Refreshments are usually served\, and a flyer is available to show you which business to hit next on your walk. This is a fun event and is open and free to the public.
URL:https://centralaroostookchamber.com/community-event/first-friday-art-walk-2-2-2/2024-11-01/
LOCATION:Presque Isle Maine\, Main Street\, Presque Isle\, 04769\, United States
ATTACH;FMTTYPE=image/webp:https://centralaroostookchamber.com/wp-content/uploads/2024/03/firstfridayfoot-lg.webp
ORGANIZER;CN="Central Aroostook Chamber of Commerce":MAILTO:info@centralaroostookchamber.com
END:VEVENT
BEGIN:VEVENT
DTSTART;TZID=America/New_York:20241005T170000
DTEND;TZID=America/New_York:20241005T200000
DTSTAMP:20260420T045447
CREATED:20241011T184802Z
LAST-MODIFIED:20241011T184803Z
UID:10001289-1728147600-1728158400@centralaroostookchamber.com
SUMMARY:First Friday Art Walk
DESCRIPTION:Join us in Beautiful downtown Presque Isle Maine while we have our First Friday Art Walk! This event happens year-round\, on the first Friday of every month. Join our local businesses as they celebrate and display local artisans. Refreshments are usually served\, and a flyer is available to show you which business to hit next on your walk. This is a fun event and is open and free to the public.
URL:https://centralaroostookchamber.com/community-event/first-friday-art-walk-2-2/
LOCATION:Presque Isle Maine\, Main Street\, Presque Isle\, 04769\, United States
ORGANIZER;CN="Central Aroostook Chamber of Commerce":MAILTO:info@centralaroostookchamber.com
END:VEVENT
BEGIN:VEVENT
DTSTART;TZID=America/New_York:20240906T180000
DTEND;TZID=America/New_York:20240906T200000
DTSTAMP:20260420T045447
CREATED:20240903T144736Z
LAST-MODIFIED:20240905T154813Z
UID:10000535-1725645600-1725652800@centralaroostookchamber.com
SUMMARY:First Friday Art Walk
DESCRIPTION:Join us in Beautiful downtown Presque Isle Maine while we have our First Friday Art Walk! This event happens year-round\, on the first Friday of every month. Join our local businesses as they celebrate and display local artisans. Refreshments are usually served\, and a flyer is available to show you which business to hit next on your walk. This is a fun event and is open and free to the public.
URL:https://centralaroostookchamber.com/community-event/first-friday-art-walk-4/
LOCATION:Presque Isle Maine\, Main Street\, Presque Isle\, 04769\, United States
ORGANIZER;CN="Central Aroostook Chamber of Commerce":MAILTO:info@centralaroostookchamber.com
END:VEVENT
BEGIN:VEVENT
DTSTART;TZID=America/New_York:20240809T170000
DTEND;TZID=America/New_York:20240809T200000
DTSTAMP:20260420T045447
CREATED:20240701T131528Z
LAST-MODIFIED:20240701T131529Z
UID:10001287-1723222800-1723233600@centralaroostookchamber.com
SUMMARY:First Friday Art Walk
DESCRIPTION:Join us in Beautiful downtown Presque Isle Maine while we have our First Friday Art Walk! This event happens year-round\, on the first Friday of every month. Join our local businesses as they celebrate and display local artisans. Refreshments are usually served\, and a flyer is available to show you which business to hit next on your walk. This is a fun event and is open and free to the public.
URL:https://centralaroostookchamber.com/community-event/first-friday-art-walk-2/2024-08-09/
LOCATION:Presque Isle Maine\, Main Street\, Presque Isle\, 04769\, United States
ORGANIZER;CN="Central Aroostook Chamber of Commerce":MAILTO:info@centralaroostookchamber.com
END:VEVENT
BEGIN:VEVENT
DTSTART;TZID=America/New_York:20240802T170000
DTEND;TZID=America/New_York:20240802T200000
DTSTAMP:20260420T045447
CREATED:20240716T154614Z
LAST-MODIFIED:20240716T154724Z
UID:10001346-1722618000-1722628800@centralaroostookchamber.com
SUMMARY:First Friday Art Walk
DESCRIPTION:Join us in Beautiful downtown Presque Isle Maine while we have our First Friday Art Walk! This event happens year-round\, on the first Friday of every month. Join our local businesses as they celebrate and display local artisans. Refreshments are usually served\, and a flyer is available to show you which business to hit next on your walk. This is a fun event and is open and free to the public.
URL:https://centralaroostookchamber.com/community-event/first-friday-art-walk-3/2024-08-02/
LOCATION:Presque Isle Maine\, Main Street\, Presque Isle\, 04769\, United States
ORGANIZER;CN="Central Aroostook Chamber of Commerce":MAILTO:info@centralaroostookchamber.com
END:VEVENT
BEGIN:VEVENT
DTSTART;TZID=America/New_York:20240712T170000
DTEND;TZID=America/New_York:20240712T200000
DTSTAMP:20260420T045447
CREATED:20240701T131528Z
LAST-MODIFIED:20240701T131529Z
UID:10000537-1720803600-1720814400@centralaroostookchamber.com
SUMMARY:First Friday Art Walk
DESCRIPTION:Join us in Beautiful downtown Presque Isle Maine while we have our First Friday Art Walk! This event happens year-round\, on the first Friday of every month. Join our local businesses as they celebrate and display local artisans. Refreshments are usually served\, and a flyer is available to show you which business to hit next on your walk. This is a fun event and is open and free to the public.
URL:https://centralaroostookchamber.com/community-event/first-friday-art-walk-2/2024-07-12/
LOCATION:Presque Isle Maine\, Main Street\, Presque Isle\, 04769\, United States
ORGANIZER;CN="Central Aroostook Chamber of Commerce":MAILTO:info@centralaroostookchamber.com
END:VEVENT
BEGIN:VEVENT
DTSTART;TZID=America/New_York:20240405T180000
DTEND;TZID=America/New_York:20240405T200000
DTSTAMP:20260420T045447
CREATED:20240331T145053Z
LAST-MODIFIED:20240331T145219Z
UID:10000534-1712340000-1712347200@centralaroostookchamber.com
SUMMARY:First Friday Art Walk
DESCRIPTION:Join us in Beautiful downtown Presque Isle Maine while we have our First Friday Art Walk! This event happens year-round\, on the first Friday of every month. Join our local businesses as they celebrate and display local artisans. Refreshments are usually served\, and a flyer is available to show you which business to hit next on your walk. This is a fun event and is open and free to the public.
URL:https://centralaroostookchamber.com/community-event/first-friday-art-walk/2024-04-05/
LOCATION:Presque Isle Maine\, Main Street\, Presque Isle\, 04769\, United States
ORGANIZER;CN="Central Aroostook Chamber of Commerce":MAILTO:info@centralaroostookchamber.com
END:VEVENT
END:VCALENDAR