BEGIN:VCALENDAR
VERSION:2.0
PRODID:-//Central Aroostook Chamber of Commerce - ECPv6.15.20//NONSGML v1.0//EN
CALSCALE:GREGORIAN
METHOD:PUBLISH
X-ORIGINAL-URL:https://centralaroostookchamber.com
X-WR-CALDESC:Events for Central Aroostook Chamber of Commerce
REFRESH-INTERVAL;VALUE=DURATION:PT1H
X-Robots-Tag:noindex
X-PUBLISHED-TTL:PT1H
BEGIN:VTIMEZONE
TZID:America/New_York
BEGIN:DAYLIGHT
TZOFFSETFROM:-0500
TZOFFSETTO:-0400
TZNAME:EDT
DTSTART:20240310T070000
END:DAYLIGHT
BEGIN:STANDARD
TZOFFSETFROM:-0400
TZOFFSETTO:-0500
TZNAME:EST
DTSTART:20241103T060000
END:STANDARD
BEGIN:DAYLIGHT
TZOFFSETFROM:-0500
TZOFFSETTO:-0400
TZNAME:EDT
DTSTART:20250309T070000
END:DAYLIGHT
BEGIN:STANDARD
TZOFFSETFROM:-0400
TZOFFSETTO:-0500
TZNAME:EST
DTSTART:20251102T060000
END:STANDARD
BEGIN:DAYLIGHT
TZOFFSETFROM:-0500
TZOFFSETTO:-0400
TZNAME:EDT
DTSTART:20260308T070000
END:DAYLIGHT
BEGIN:STANDARD
TZOFFSETFROM:-0400
TZOFFSETTO:-0500
TZNAME:EST
DTSTART:20261101T060000
END:STANDARD
END:VTIMEZONE
BEGIN:VEVENT
DTSTART;TZID=America/New_York:20251025T160000
DTEND;TZID=America/New_York:20251025T190000
DTSTAMP:20260419T172626
CREATED:20251003T133804Z
LAST-MODIFIED:20251003T133804Z
UID:10001737-1761408000-1761418800@centralaroostookchamber.com
SUMMARY:Trunk or Treat
DESCRIPTION:Dear Community Members and Business Partners\, \nThe Presque Isle Fire Department is excited to announce our annual Public Safety\nTrunk-OR-Treat event\, taking place on Saturday\, October 25\, 2025\, from 4:00 PM to\n7:00 PM. This family-friendly event has quickly become a community favorite\, drawing\na large crowd each year. \nTo make this year’s event even more successful\, we are inviting local businesses and\ncommunity members to participate by decorating a trunk and handing out treats. Our\ngoal is to provide more trunk options to accommodate the growing attendance and to\noffer a wider variety of handout choices for the children and families who join us.\nWe also plan on having warm refreshments available! \nYour participation not only helps strengthen community connections but also supports\nour shared mission of promoting a safe and fun environment for families during the\nHalloween season. \nIf you are interested in taking part or have any questions\, please contact me directly at\nclabbe@presqueisleme.us. \nWe greatly appreciate your support and look forward to seeing you at this year’s\nTrunk-OR-Treat! \nSincerely\,\nChase Labbe\, FF/Paramedic\nFire Prevention\nPresque Isle Fire Department
URL:https://centralaroostookchamber.com/community-event/trunk-or-treat/
LOCATION:Presque Isle Fire Department\, 43 North Street\, Presque Isle\, MAINE\, 04769\, United States
ATTACH;FMTTYPE=image/webp:https://centralaroostookchamber.com/wp-content/uploads/2025/09/Trunk.webp
ORGANIZER;CN="Presque Isle Public Safety":MAILTO:clabbe@presqueisleme.us
END:VEVENT
END:VCALENDAR