BEGIN:VCALENDAR
VERSION:2.0
PRODID:-//Central Aroostook Chamber of Commerce - ECPv6.15.20//NONSGML v1.0//EN
CALSCALE:GREGORIAN
METHOD:PUBLISH
X-WR-CALNAME:Central Aroostook Chamber of Commerce
X-ORIGINAL-URL:https://centralaroostookchamber.com
X-WR-CALDESC:Events for Central Aroostook Chamber of Commerce
REFRESH-INTERVAL;VALUE=DURATION:PT1H
X-Robots-Tag:noindex
X-PUBLISHED-TTL:PT1H
BEGIN:VTIMEZONE
TZID:America/New_York
BEGIN:DAYLIGHT
TZOFFSETFROM:-0500
TZOFFSETTO:-0400
TZNAME:EDT
DTSTART:20250309T070000
END:DAYLIGHT
BEGIN:STANDARD
TZOFFSETFROM:-0400
TZOFFSETTO:-0500
TZNAME:EST
DTSTART:20251102T060000
END:STANDARD
BEGIN:DAYLIGHT
TZOFFSETFROM:-0500
TZOFFSETTO:-0400
TZNAME:EDT
DTSTART:20260308T070000
END:DAYLIGHT
BEGIN:STANDARD
TZOFFSETFROM:-0400
TZOFFSETTO:-0500
TZNAME:EST
DTSTART:20261101T060000
END:STANDARD
BEGIN:DAYLIGHT
TZOFFSETFROM:-0500
TZOFFSETTO:-0400
TZNAME:EDT
DTSTART:20270314T070000
END:DAYLIGHT
BEGIN:STANDARD
TZOFFSETFROM:-0400
TZOFFSETTO:-0500
TZNAME:EST
DTSTART:20271107T060000
END:STANDARD
END:VTIMEZONE
BEGIN:VEVENT
DTSTART;TZID=America/New_York:20260301T080000
DTEND;TZID=America/New_York:20260331T160000
DTSTAMP:20260421T212117
CREATED:20260219T193244Z
LAST-MODIFIED:20260219T193244Z
UID:10001810-1772352000-1774972800@centralaroostookchamber.com
SUMMARY:Exhibit on "Women of the American Revolution: Margaret Corbin"
DESCRIPTION:FREE- McCain Conference Room\, 2nd Floor\, East Annex \nNorthern Light AR Gould Hospital\, 140 Academy St
URL:https://centralaroostookchamber.com/community-event/exhibit-on-women-of-the-american-revolution-margaret-corbin/
LOCATION:140 Academy St\, Presque Isle\, 140 Academy St\, Presque Isle\, 04769\, United States
END:VEVENT
BEGIN:VEVENT
DTSTART;TZID=America/New_York:20260101T080000
DTEND;TZID=America/New_York:20260228T160000
DTSTAMP:20260421T212117
CREATED:20260109T155014Z
LAST-MODIFIED:20260109T155035Z
UID:10001783-1767254400-1772294400@centralaroostookchamber.com
SUMMARY:Exhibit on "History of US Flag"
DESCRIPTION:Exhibit on “History of US Flag” \nFREE-McCain Conference Rooms\, 2nd floor\, East Annex \nNorthern Light AR Gould Hospital\, 140 Academy Street
URL:https://centralaroostookchamber.com/community-event/15727/
LOCATION:140 Academy St\, Presque Isle\, 140 Academy St\, Presque Isle\, 04769\, United States
END:VEVENT
END:VCALENDAR