BEGIN:VCALENDAR
VERSION:2.0
PRODID:-//Central Aroostook Chamber of Commerce - ECPv6.15.20//NONSGML v1.0//EN
CALSCALE:GREGORIAN
METHOD:PUBLISH
X-ORIGINAL-URL:https://centralaroostookchamber.com
X-WR-CALDESC:Events for Central Aroostook Chamber of Commerce
REFRESH-INTERVAL;VALUE=DURATION:PT1H
X-Robots-Tag:noindex
X-PUBLISHED-TTL:PT1H
BEGIN:VTIMEZONE
TZID:America/New_York
BEGIN:DAYLIGHT
TZOFFSETFROM:-0500
TZOFFSETTO:-0400
TZNAME:EDT
DTSTART:20250309T070000
END:DAYLIGHT
BEGIN:STANDARD
TZOFFSETFROM:-0400
TZOFFSETTO:-0500
TZNAME:EST
DTSTART:20251102T060000
END:STANDARD
BEGIN:DAYLIGHT
TZOFFSETFROM:-0500
TZOFFSETTO:-0400
TZNAME:EDT
DTSTART:20260308T070000
END:DAYLIGHT
BEGIN:STANDARD
TZOFFSETFROM:-0400
TZOFFSETTO:-0500
TZNAME:EST
DTSTART:20261101T060000
END:STANDARD
BEGIN:DAYLIGHT
TZOFFSETFROM:-0500
TZOFFSETTO:-0400
TZNAME:EDT
DTSTART:20270314T070000
END:DAYLIGHT
BEGIN:STANDARD
TZOFFSETFROM:-0400
TZOFFSETTO:-0500
TZNAME:EST
DTSTART:20271107T060000
END:STANDARD
END:VTIMEZONE
BEGIN:VEVENT
DTSTART;TZID=America/New_York:20260314T173000
DTEND;TZID=America/New_York:20260314T230000
DTSTAMP:20260423T080654
CREATED:20260114T195455Z
LAST-MODIFIED:20260114T195455Z
UID:10001785-1773509400-1773529200@centralaroostookchamber.com
SUMMARY:United Way of Aroostook Black Tie Gala 2026
DESCRIPTION:Join us for an elegant evening at the United Way Aroostook Black Tie Gala\, an annual event dedicated to supporting our community and celebrating the spirit of giving. This year\, we invite you to don your finest attire and partake in an unforgettable night filled with music\, food\, dancing\, and the opportunity to make a meaningful impact.\n\nThe evening will feature gourmet appetizers\, live music\, and a live auction showcasing local items and experiences.\n\nThis gala is not only a celebration but also a fundraiser aimed at supporting local initiatives that address education\, financial stability\, and health. Together\, we can build a stronger Aroostook County and create lasting change.\n\nIndividual Ticket: $75.00 Guaranteed Seating for 8: $650.00 Gala Corporate Table of 8: $800.00\n\nWe look forward to celebrating with you and making a difference together.
URL:https://centralaroostookchamber.com/community-event/united-way-of-aroostook-black-tie-gala-2026/
LOCATION:Best Western Caribou Inn\, 19 Main Street\, Caribou\, 04736\, United States
END:VEVENT
END:VCALENDAR