BEGIN:VCALENDAR
VERSION:2.0
PRODID:-//Central Aroostook Chamber of Commerce - ECPv6.15.20//NONSGML v1.0//EN
CALSCALE:GREGORIAN
METHOD:PUBLISH
X-ORIGINAL-URL:https://centralaroostookchamber.com
X-WR-CALDESC:Events for Central Aroostook Chamber of Commerce
REFRESH-INTERVAL;VALUE=DURATION:PT1H
X-Robots-Tag:noindex
X-PUBLISHED-TTL:PT1H
BEGIN:VTIMEZONE
TZID:America/New_York
BEGIN:DAYLIGHT
TZOFFSETFROM:-0500
TZOFFSETTO:-0400
TZNAME:EDT
DTSTART:20230312T070000
END:DAYLIGHT
BEGIN:STANDARD
TZOFFSETFROM:-0400
TZOFFSETTO:-0500
TZNAME:EST
DTSTART:20231105T060000
END:STANDARD
BEGIN:DAYLIGHT
TZOFFSETFROM:-0500
TZOFFSETTO:-0400
TZNAME:EDT
DTSTART:20240310T070000
END:DAYLIGHT
BEGIN:STANDARD
TZOFFSETFROM:-0400
TZOFFSETTO:-0500
TZNAME:EST
DTSTART:20241103T060000
END:STANDARD
BEGIN:DAYLIGHT
TZOFFSETFROM:-0500
TZOFFSETTO:-0400
TZNAME:EDT
DTSTART:20250309T070000
END:DAYLIGHT
BEGIN:STANDARD
TZOFFSETFROM:-0400
TZOFFSETTO:-0500
TZNAME:EST
DTSTART:20251102T060000
END:STANDARD
END:VTIMEZONE
BEGIN:VEVENT
DTSTART;TZID=America/New_York:20240914T080000
DTEND;TZID=America/New_York:20240914T103000
DTSTAMP:20260419T161959
CREATED:20240530T121651Z
LAST-MODIFIED:20240530T121651Z
UID:10001170-1726300800-1726309800@centralaroostookchamber.com
SUMMARY:Aroostook House of Comfort's 2nd Annual Walk for Hospice
DESCRIPTION:Join us for the 2nd Annual Walk for Hospice on Saturday\, September 14th\, at the Nordic Heritage Center\, proudly presented by this year’s Event Sponsor\, McCrum Family Holdings\, LLC!\nLast year\, your incredible generosity and dedication helped us raise over $30\,000 in support of the Aroostook House of Comfort! The mission of this exciting event is to raise funds for the Aroostook House of Comfort\, promote community awareness\, and celebrate the lives of those impacted by hospice. This year promises to be even more meaningful as we come together to walk\, reflect\, and celebrate with cherished family members\, friends\, and colleagues.
URL:https://centralaroostookchamber.com/community-event/aroostook-house-of-comforts-2nd-annual-walk-for-hospice/
LOCATION:Nordic Heritage Center\, 450 Fort Fairfield Road\, Presque Isle\, ME\, 04769\, United States
ATTACH;FMTTYPE=image/webp:https://centralaroostookchamber.com/wp-content/uploads/2024/05/Walk-for-Hospice-Save-the-Date-copy-002.webp
ORGANIZER;CN="Aroostook House of Comfort":MAILTO:abbey@aroostookhouseofcomfort.org
END:VEVENT
BEGIN:VEVENT
DTSTART;TZID=America/New_York:20240615T073000
DTEND;TZID=America/New_York:20240615T160000
DTSTAMP:20260419T161959
CREATED:20240410T195325Z
LAST-MODIFIED:20240412T122713Z
UID:10001161-1718436600-1718467200@centralaroostookchamber.com
SUMMARY:Aroostook House of Comfort 11th Annual Golf Classic
DESCRIPTION:The Aroostook House of Comfort is a 6 bed\, inpatient\, nonprofit hospice home in Presque Isle\, owned by the Aroostook Hospice Foundation. Each June\, the Aroostook Hospice Foundation hosts the Golf Classic. The 11th Annual Aroostook House of Comfort Golf Classic is to be held Saturday\, June 15\, 2024 at the Presque Isle Country Club. This special event raised over $70\,000 last year\, bringing the total to over $440\,000! The generosity of our community of supporters allows the Aroostook Hospice Foundation the ability to offer a family-centered hospice house to patients whose needs are greater than home hospice can provide. Community members are welcome to participate in this event (team slots are limited) or consider sponsoring on behalf of your family or place of business!
URL:https://centralaroostookchamber.com/community-event/aroostook-house-of-comfort-11th-annual-golf-classic/
LOCATION:Presque Isle Country Club\, 35 Parkhurst Siding Road\, Presque Isle\, ME\, 04769\, United States
ATTACH;FMTTYPE=image/webp:https://centralaroostookchamber.com/wp-content/uploads/2024/04/Golf-Logo-2.webp
ORGANIZER;CN="Aroostook House of Comfort":MAILTO:abbey@aroostookhouseofcomfort.org
END:VEVENT
END:VCALENDAR