BEGIN:VCALENDAR
VERSION:2.0
PRODID:-//Central Aroostook Chamber of Commerce - ECPv6.15.20//NONSGML v1.0//EN
CALSCALE:GREGORIAN
METHOD:PUBLISH
X-WR-CALNAME:Central Aroostook Chamber of Commerce
X-ORIGINAL-URL:https://centralaroostookchamber.com
X-WR-CALDESC:Events for Central Aroostook Chamber of Commerce
REFRESH-INTERVAL;VALUE=DURATION:PT1H
X-Robots-Tag:noindex
X-PUBLISHED-TTL:PT1H
BEGIN:VTIMEZONE
TZID:America/New_York
BEGIN:DAYLIGHT
TZOFFSETFROM:-0500
TZOFFSETTO:-0400
TZNAME:EDT
DTSTART:20240310T070000
END:DAYLIGHT
BEGIN:STANDARD
TZOFFSETFROM:-0400
TZOFFSETTO:-0500
TZNAME:EST
DTSTART:20241103T060000
END:STANDARD
BEGIN:DAYLIGHT
TZOFFSETFROM:-0500
TZOFFSETTO:-0400
TZNAME:EDT
DTSTART:20250309T070000
END:DAYLIGHT
BEGIN:STANDARD
TZOFFSETFROM:-0400
TZOFFSETTO:-0500
TZNAME:EST
DTSTART:20251102T060000
END:STANDARD
BEGIN:DAYLIGHT
TZOFFSETFROM:-0500
TZOFFSETTO:-0400
TZNAME:EDT
DTSTART:20260308T070000
END:DAYLIGHT
BEGIN:STANDARD
TZOFFSETFROM:-0400
TZOFFSETTO:-0500
TZNAME:EST
DTSTART:20261101T060000
END:STANDARD
END:VTIMEZONE
BEGIN:VEVENT
DTSTART;TZID=America/New_York:20251105T173000
DTEND;TZID=America/New_York:20251105T190000
DTSTAMP:20260420T122447
CREATED:20251010T183750Z
LAST-MODIFIED:20251010T183750Z
UID:10001744-1762363800-1762369200@centralaroostookchamber.com
SUMMARY:Triple P - Positive Parenting Seminars
DESCRIPTION:Starting October 22nd\, we’ll be offering a new series of Triple P (Positive Parenting Program) seminars for parents and caregivers of ages 0-12.\nThese free\, practical sessions are a great way to learn simple strategies that make family life less stressful and more enjoyable.\n➡️ The Power of Positive Parenting on 10/22\n➡️ Raising Confident\, Competent Children on 10/29\n➡️ Raising Resilient Children on 11/05\nAll sessions will be offered virtually at the Mark and Emily Turner Memorial Library in Presque Isle\, with the option to join virtually. Groups start at 5:30 PM. Scan the QR code or contact Megan at mouellette@acap-me.org or (207) 764-3721 ext. 116 to register!
URL:https://centralaroostookchamber.com/community-event/triple-p-positive-parenting-seminars/2025-11-05/
LOCATION:Mark and Emily Turner Memorial Library\, 39 2nd Street\, Presque Isle\, 04769\, United States
ATTACH;FMTTYPE=image/webp:https://centralaroostookchamber.com/wp-content/uploads/2025/10/Seminarjpg.webp
ORGANIZER;CN="Aroostook County Action Program":MAILTO:mouellette@acap-me.org
END:VEVENT
BEGIN:VEVENT
DTSTART;TZID=America/New_York:20251029T173000
DTEND;TZID=America/New_York:20251029T190000
DTSTAMP:20260420T122447
CREATED:20251010T183750Z
LAST-MODIFIED:20251010T183750Z
UID:10001743-1761759000-1761764400@centralaroostookchamber.com
SUMMARY:Triple P - Positive Parenting Seminars
DESCRIPTION:Starting October 22nd\, we’ll be offering a new series of Triple P (Positive Parenting Program) seminars for parents and caregivers of ages 0-12.\nThese free\, practical sessions are a great way to learn simple strategies that make family life less stressful and more enjoyable.\n➡️ The Power of Positive Parenting on 10/22\n➡️ Raising Confident\, Competent Children on 10/29\n➡️ Raising Resilient Children on 11/05\nAll sessions will be offered virtually at the Mark and Emily Turner Memorial Library in Presque Isle\, with the option to join virtually. Groups start at 5:30 PM. Scan the QR code or contact Megan at mouellette@acap-me.org or (207) 764-3721 ext. 116 to register!
URL:https://centralaroostookchamber.com/community-event/triple-p-positive-parenting-seminars/2025-10-29/
LOCATION:Mark and Emily Turner Memorial Library\, 39 2nd Street\, Presque Isle\, 04769\, United States
ATTACH;FMTTYPE=image/webp:https://centralaroostookchamber.com/wp-content/uploads/2025/10/Seminarjpg.webp
ORGANIZER;CN="Aroostook County Action Program":MAILTO:mouellette@acap-me.org
END:VEVENT
BEGIN:VEVENT
DTSTART;TZID=America/New_York:20251022T173000
DTEND;TZID=America/New_York:20251022T190000
DTSTAMP:20260420T122447
CREATED:20251010T183750Z
LAST-MODIFIED:20251010T183750Z
UID:10001742-1761154200-1761159600@centralaroostookchamber.com
SUMMARY:Triple P - Positive Parenting Seminars
DESCRIPTION:Starting October 22nd\, we’ll be offering a new series of Triple P (Positive Parenting Program) seminars for parents and caregivers of ages 0-12.\nThese free\, practical sessions are a great way to learn simple strategies that make family life less stressful and more enjoyable.\n➡️ The Power of Positive Parenting on 10/22\n➡️ Raising Confident\, Competent Children on 10/29\n➡️ Raising Resilient Children on 11/05\nAll sessions will be offered virtually at the Mark and Emily Turner Memorial Library in Presque Isle\, with the option to join virtually. Groups start at 5:30 PM. Scan the QR code or contact Megan at mouellette@acap-me.org or (207) 764-3721 ext. 116 to register!
URL:https://centralaroostookchamber.com/community-event/triple-p-positive-parenting-seminars/2025-10-22/
LOCATION:Mark and Emily Turner Memorial Library\, 39 2nd Street\, Presque Isle\, 04769\, United States
ATTACH;FMTTYPE=image/webp:https://centralaroostookchamber.com/wp-content/uploads/2025/10/Seminarjpg.webp
ORGANIZER;CN="Aroostook County Action Program":MAILTO:mouellette@acap-me.org
END:VEVENT
END:VCALENDAR