BEGIN:VCALENDAR
VERSION:2.0
PRODID:-//Central Aroostook Chamber of Commerce - ECPv6.15.20//NONSGML v1.0//EN
CALSCALE:GREGORIAN
METHOD:PUBLISH
X-WR-CALNAME:Central Aroostook Chamber of Commerce
X-ORIGINAL-URL:https://centralaroostookchamber.com
X-WR-CALDESC:Events for Central Aroostook Chamber of Commerce
REFRESH-INTERVAL;VALUE=DURATION:PT1H
X-Robots-Tag:noindex
X-PUBLISHED-TTL:PT1H
BEGIN:VTIMEZONE
TZID:America/New_York
BEGIN:DAYLIGHT
TZOFFSETFROM:-0500
TZOFFSETTO:-0400
TZNAME:EDT
DTSTART:20230312T070000
END:DAYLIGHT
BEGIN:STANDARD
TZOFFSETFROM:-0400
TZOFFSETTO:-0500
TZNAME:EST
DTSTART:20231105T060000
END:STANDARD
BEGIN:DAYLIGHT
TZOFFSETFROM:-0500
TZOFFSETTO:-0400
TZNAME:EDT
DTSTART:20240310T070000
END:DAYLIGHT
BEGIN:STANDARD
TZOFFSETFROM:-0400
TZOFFSETTO:-0500
TZNAME:EST
DTSTART:20241103T060000
END:STANDARD
BEGIN:DAYLIGHT
TZOFFSETFROM:-0500
TZOFFSETTO:-0400
TZNAME:EDT
DTSTART:20250309T070000
END:DAYLIGHT
BEGIN:STANDARD
TZOFFSETFROM:-0400
TZOFFSETTO:-0500
TZNAME:EST
DTSTART:20251102T060000
END:STANDARD
END:VTIMEZONE
BEGIN:VEVENT
DTSTART;TZID=America/New_York:20240629T083000
DTEND;TZID=America/New_York:20240629T123000
DTSTAMP:20260419T144855
CREATED:20240619T134313Z
LAST-MODIFIED:20240619T134313Z
UID:10001205-1719649800-1719664200@centralaroostookchamber.com
SUMMARY:Presque Isle Farmer's Market
DESCRIPTION:Fresh produce\, homemade goods\, and other local vendors!
URL:https://centralaroostookchamber.com/community-event/presque-isle-farmers-market-5/
LOCATION:Riverside Pavillion\, 19 Riverside Dr\, Presque Isle\, ME\, 04769\, United States
END:VEVENT
BEGIN:VEVENT
DTSTART;TZID=America/New_York:20240629T083000
DTEND;TZID=America/New_York:20240629T123000
DTSTAMP:20260419T144855
CREATED:20240331T175429Z
LAST-MODIFIED:20240331T183526Z
UID:10000667-1719649800-1719664200@centralaroostookchamber.com
SUMMARY:Presque Isle Farmer's Market
DESCRIPTION:
URL:https://centralaroostookchamber.com/community-event/presque-isle-farmers-market/2024-06-29/
LOCATION:Riverside Pavillion\, Presque Isle\, 19 Riverside Drive\, Presque Isle\, 04769\, United States
END:VEVENT
BEGIN:VEVENT
DTSTART;TZID=America/New_York:20240629T090000
DTEND;TZID=America/New_York:20240629T130000
DTSTAMP:20260419T144855
CREATED:20240619T133012Z
LAST-MODIFIED:20240619T133140Z
UID:10001206-1719651600-1719666000@centralaroostookchamber.com
SUMMARY:Fort Fairfield Community Market
DESCRIPTION:Homemade goods and produce for sale!
URL:https://centralaroostookchamber.com/community-event/fort-fairfield-community-market-4/
LOCATION:284 Main St\, Fort Fairfield\, 284 Main St.\, Fort Fairfield\, 04742\, United States
END:VEVENT
BEGIN:VEVENT
DTSTART;TZID=America/New_York:20240629T100000
DTEND;TZID=America/New_York:20240629T100000
DTSTAMP:20260419T144855
CREATED:20240619T132940Z
LAST-MODIFIED:20240619T132940Z
UID:10001207-1719655200-1719655200@centralaroostookchamber.com
SUMMARY:Mapleton Fun Daze- Saturday
DESCRIPTION:Please join the Mapleton Daze Committee as they host their annual Fun Daze Saturday at Mapleton Elementary School. \nWe have LOTS planned for Saturday at the Mapleton Elementary School — stop by and see all that is happening!! \nHere are some of the events we will be having: Inflatables for ALL ages\, games\, Horse Rides\, Monster Truck Rides\, Demonstrations\, face painting\, Food Trucks\, a petting zoo\, raffle tickets for sale\, bikes to give away\, and so much more!! \nYou don’t want to miss this fun day — great time for the whole family!!
URL:https://centralaroostookchamber.com/community-event/mapleton-fun-daze-saturday/
LOCATION:Mapleton\, United States
END:VEVENT
BEGIN:VEVENT
DTSTART;TZID=America/New_York:20240629T113000
DTEND;TZID=America/New_York:20240629T130000
DTSTAMP:20260419T144855
CREATED:20240619T132857Z
LAST-MODIFIED:20240619T132857Z
UID:10001208-1719660600-1719666000@centralaroostookchamber.com
SUMMARY:Mad Hatter Tea Party at the Library House
DESCRIPTION:Join the Mark & Emily Turner Memorial Library for an afternoon of frolic and fancy! We will be hosting our Mad Hatter Tea Party next door in the garden at The Library House. There will be refreshments\, activities\, music\, and general merriment as we celebrate a very merry un-birthday. This event is free to attend and open to the public. Parking is available on the street or in the library parking lot. In the event of rain\, we will move indoors!
URL:https://centralaroostookchamber.com/community-event/mad-hatter-tea-party-at-the-library-house/
LOCATION:Mark and Emily Turner Memorial Library\, 39 2nd Street\, Presque Isle\, 04769\, United States
END:VEVENT
BEGIN:VEVENT
DTSTART;TZID=America/New_York:20240629T190000
DTEND;TZID=America/New_York:20240629T190000
DTSTAMP:20260419T144855
CREATED:20240619T181129Z
LAST-MODIFIED:20240619T181129Z
UID:10001286-1719687600-1719687600@centralaroostookchamber.com
SUMMARY:The Center for the Advancement of Rural Living Presents: Tim Sample
DESCRIPTION:The Center for the Advancement of Rural Living Presents \nComedian Tim Sample\, Saturday\, June 29 – Caribou Performing Arts Center\, 7:00 PM \nTickets $25 in Advance – $30 at the door\nAvailable at Sleepers in Caribou – Bradley’s Citgo\, Presque Isle\, \nHebert’s Rexall Pharmacy\, Van Buren \nProceeds Benefit Caribou Recovery Houses and other \nCARL Community Projects \nFor more information call CARL 207-493-1223
URL:https://centralaroostookchamber.com/community-event/the-center-for-the-advancement-of-rural-living-presents-tim-sample/
LOCATION:Caribou Performing Arts Center\, 308 Sweden St\, Caribou\, United States
END:VEVENT
BEGIN:VEVENT
DTSTART;TZID=America/New_York:20240701T103000
DTEND;TZID=America/New_York:20240701T120000
DTSTAMP:20260419T144855
CREATED:20240619T132816Z
LAST-MODIFIED:20240619T132816Z
UID:10001209-1719829800-1719835200@centralaroostookchamber.com
SUMMARY:Summer Family Playgroup
DESCRIPTION:Come play with us! Free summer playgroup for children ages 0-5 years and their children.
URL:https://centralaroostookchamber.com/community-event/summer-family-playgroup/
LOCATION:Caribou Public Library\, 30 High St\, Caribou\, 04736\, United States
END:VEVENT
BEGIN:VEVENT
DTSTART;TZID=America/New_York:20240702T143000
DTEND;TZID=America/New_York:20240702T160000
DTSTAMP:20260419T144855
CREATED:20240331T144456Z
LAST-MODIFIED:20240331T144456Z
UID:10000286-1719930600-1719936000@centralaroostookchamber.com
SUMMARY:Public Youth Art Group
DESCRIPTION:The Youth Peer Support Statewide Network (Youth Peer Support Statewide Network | Maine Behavioral Healthcare | Maine (mainehealth.org)) is a growing resource open to any Youth (ages 14 – 26) who reside in Maine and self-identify as having struggled with Mental Health challenges. \nThe YPSSN welcomes Aroostook County Youth to participate in the free\, weekly Art Group\, at the Mark and Emily Turner Memorial Library! You do not have to work with one of our Peer Partners to participate in this recurring event\, it’s free\, and we provide snacks! Just show up\, bring some curiosity\, and let’s make Art! \nArt Supplies and Snacks are provided for free when in attendance at the weekly Art Group. Parental supervision is not required\, but the participants must meet the following criteria:  \n\n1. Be between the ages of 14 – 26\n2. Self-identify as having Mental Health struggles. NO DIAGNOSIS needed.\n3. Be a Maine resident. If you’re an unhoused community member in Maine\, we have open arms and Welcome you! \nHope to see you at the next YPSSN Art Group! \n\nLocation Mark and Emily Turner Memorial Library
URL:https://centralaroostookchamber.com/community-event/public-youth-art-group/2024-07-02/
LOCATION:Mark and Emily Turner Memorial Library\, 39 2nd Street\, Presque Isle\, 04769\, United States
END:VEVENT
BEGIN:VEVENT
DTSTART;TZID=America/New_York:20240702T180000
DTEND;TZID=America/New_York:20240702T190000
DTSTAMP:20260419T144855
CREATED:20240619T132729Z
LAST-MODIFIED:20240619T132729Z
UID:10001210-1719943200-1719946800@centralaroostookchamber.com
SUMMARY:Pride Aroostook Open Board Meeting
DESCRIPTION:Worker bees and fun(d)raisers wanted to plan Pride\, Prom for All\, the Gala\, dance parties\, hikes\, and whatever you can think of!
URL:https://centralaroostookchamber.com/community-event/pride-aroostook-open-board-meeting/
LOCATION:University of Maine at Presque Isle\, 181 Main Street\, Presque Isle\, 04769\, United States
END:VEVENT
BEGIN:VEVENT
DTSTART;TZID=America/New_York:20240702T180000
DTEND;TZID=America/New_York:20240702T190000
DTSTAMP:20260419T144855
CREATED:20240619T132652Z
LAST-MODIFIED:20240619T132652Z
UID:10001211-1719943200-1719946800@centralaroostookchamber.com
SUMMARY:Library Book Club
DESCRIPTION:Discussing “The Frozen River” by Ariel Lawhon for the month of July. We meet the first Wednesday of every month. Copies of the book are available to check out at the library; this book club is open to everybody
URL:https://centralaroostookchamber.com/community-event/library-book-club/
LOCATION:Mark and Emily Turner Memorial Library\, 39 2nd Street\, Presque Isle\, 04769\, United States
END:VEVENT
BEGIN:VEVENT
DTSTART;TZID=America/New_York:20240703T100000
DTEND;TZID=America/New_York:20240703T180000
DTSTAMP:20260419T144855
CREATED:20240619T132551Z
LAST-MODIFIED:20240619T132619Z
UID:10001212-1720000800-1720029600@centralaroostookchamber.com
SUMMARY:Caribou Farmer's Market
DESCRIPTION:Fresh local produce for sale!
URL:https://centralaroostookchamber.com/community-event/caribou-farmers-market-4/
LOCATION:Bennett Drive Plaza\, 159 Bennett Drive\, Caribou\, 04736\, United States
END:VEVENT
BEGIN:VEVENT
DTSTART;TZID=America/New_York:20240703T100000
DTEND;TZID=America/New_York:20240703T180000
DTSTAMP:20260419T144855
CREATED:20240331T183449Z
LAST-MODIFIED:20240331T190024Z
UID:10000702-1720000800-1720029600@centralaroostookchamber.com
SUMMARY:Caribou Farmer's Market
DESCRIPTION:
URL:https://centralaroostookchamber.com/community-event/caribou-farmers-market/2024-07-03/
LOCATION:Bennett Drive Plaza\, 159 Bennett Drive\, Caribou\, 04736\, United States
END:VEVENT
BEGIN:VEVENT
DTSTART;TZID=America/New_York:20240705T130000
DTEND;TZID=America/New_York:20240705T180000
DTSTAMP:20260419T144855
CREATED:20240331T184715Z
LAST-MODIFIED:20240331T190003Z
UID:10000857-1720184400-1720202400@centralaroostookchamber.com
SUMMARY:Riverside Park Farmer's Market
DESCRIPTION:
URL:https://centralaroostookchamber.com/community-event/riverside-park-farmers-market/2024-07-05/
LOCATION:Riverside Park\, Fort Kent\, East Main Street\, Fort Kent\, 04743\, United States
END:VEVENT
BEGIN:VEVENT
DTSTART;TZID=America/New_York:20240705T180000
DTEND;TZID=America/New_York:20240705T180000
DTSTAMP:20260419T144855
CREATED:20240619T132514Z
LAST-MODIFIED:20240619T132514Z
UID:10001213-1720202400-1720202400@centralaroostookchamber.com
SUMMARY:Pizza Night
DESCRIPTION:Music by Common Crossing
URL:https://centralaroostookchamber.com/community-event/pizza-night-2/
LOCATION:Portage Hills Country Club\, 98 Country Club Ave/\, Portage Lake\, United States
END:VEVENT
BEGIN:VEVENT
DTSTART;TZID=America/New_York:20240706T070000
DTEND;TZID=America/New_York:20240706T120000
DTSTAMP:20260419T144855
CREATED:20240331T185012Z
LAST-MODIFIED:20240331T185950Z
UID:10001015-1720249200-1720267200@centralaroostookchamber.com
SUMMARY:Riverside Park Farmer's Market
DESCRIPTION:
URL:https://centralaroostookchamber.com/community-event/riverside-park-farmers-market-2/2024-07-06/
LOCATION:Riverside Park\, Fort Kent\, East Main Street\, Fort Kent\, 04743\, United States
END:VEVENT
BEGIN:VEVENT
DTSTART;TZID=America/New_York:20240706T080000
DTEND;TZID=America/New_York:20240706T170000
DTSTAMP:20260419T144855
CREATED:20240331T185514Z
LAST-MODIFIED:20240331T185940Z
UID:10001091-1720252800-1720285200@centralaroostookchamber.com
SUMMARY:Houlton Community Farmer's Market
DESCRIPTION:
URL:https://centralaroostookchamber.com/community-event/houlton-community-farmers-market/2024-07-06/
LOCATION:Market Square\, Houlton\, Market Square\, Houlton\, 04730\, United States
END:VEVENT
BEGIN:VEVENT
DTSTART;TZID=America/New_York:20240706T083000
DTEND;TZID=America/New_York:20240706T123000
DTSTAMP:20260419T144855
CREATED:20240619T132453Z
LAST-MODIFIED:20240619T132453Z
UID:10001214-1720254600-1720269000@centralaroostookchamber.com
SUMMARY:Presque Isle Farmer's Market
DESCRIPTION:Homemade goods\, fresh produce\, and local vendors!
URL:https://centralaroostookchamber.com/community-event/presque-isle-farmers-market-4/
LOCATION:Riverside Pavillion\, 19 Riverside Dr\, Presque Isle\, ME\, 04769\, United States
END:VEVENT
BEGIN:VEVENT
DTSTART;TZID=America/New_York:20240706T083000
DTEND;TZID=America/New_York:20240706T123000
DTSTAMP:20260419T144856
CREATED:20240331T175429Z
LAST-MODIFIED:20240331T183526Z
UID:10000668-1720254600-1720269000@centralaroostookchamber.com
SUMMARY:Presque Isle Farmer's Market
DESCRIPTION:
URL:https://centralaroostookchamber.com/community-event/presque-isle-farmers-market/2024-07-06/
LOCATION:Riverside Pavillion\, Presque Isle\, 19 Riverside Drive\, Presque Isle\, 04769\, United States
END:VEVENT
BEGIN:VEVENT
DTSTART;TZID=America/New_York:20240706T090000
DTEND;TZID=America/New_York:20240706T130000
DTSTAMP:20260419T144856
CREATED:20240619T132433Z
LAST-MODIFIED:20240619T132433Z
UID:10001215-1720256400-1720270800@centralaroostookchamber.com
SUMMARY:Fort Fairfield Community Market
DESCRIPTION:Homemade goods\, fresh produce\, and local vendors!
URL:https://centralaroostookchamber.com/community-event/fort-fairfield-community-market-3/
LOCATION:284 Main St\, Fort Fairfield\, 284 Main St.\, Fort Fairfield\, 04742\, United States
END:VEVENT
BEGIN:VEVENT
DTSTART;TZID=America/New_York:20240709T090000
DTEND;TZID=America/New_York:20240709T110000
DTSTAMP:20260419T144856
CREATED:20240619T132051Z
LAST-MODIFIED:20240619T132051Z
UID:10001216-1720515600-1720522800@centralaroostookchamber.com
SUMMARY:Bluey Camp
DESCRIPTION:Calling all Bluey fans ages 4 to 7! We’ve got a fun morning planned for you! We’ll dance with Mum\, Dad\, Bingo\, and Bluey\, play Bluey’s favorite games like Keepy Uppy and Shadowland\, and make some fun crafts! It’s the perfect morning for Bluey fans! \nOur Summer camps are filling FAST so make sure to reserve your spot before it’s too late! Register now – https://forms.gle/YWmV2Av2rT8f42up6!
URL:https://centralaroostookchamber.com/community-event/bluey-camp/
LOCATION:Moondance Studios\, 15 North St\, Presque Isle\, ME\, 04769\, United States
END:VEVENT
BEGIN:VEVENT
DTSTART;TZID=America/New_York:20240709T100000
DTEND;TZID=America/New_York:20240709T113000
DTSTAMP:20260419T144856
CREATED:20240619T132020Z
LAST-MODIFIED:20240619T132020Z
UID:10001217-1720519200-1720524600@centralaroostookchamber.com
SUMMARY:Science of Magic
DESCRIPTION:During this magic and wizard camp\, we will create a balloon that doesn’t explode or learn how to explode it without ​touching it\, blow out candles with magic and make a magic potion with liquids that won’t mix up! We will also find out ​how you can make more magic potions and decipher ancient magic messages and more for a total of over 30 ​experiments over the three days.
URL:https://centralaroostookchamber.com/community-event/science-of-magic/
LOCATION:Imagination Station Fun Zone\, LLC\, 398 Main St\, Presque Isle\, 04769\, United States
END:VEVENT
BEGIN:VEVENT
DTSTART;TZID=America/New_York:20240709T143000
DTEND;TZID=America/New_York:20240709T160000
DTSTAMP:20260419T144856
CREATED:20240331T144456Z
LAST-MODIFIED:20240331T144456Z
UID:10000287-1720535400-1720540800@centralaroostookchamber.com
SUMMARY:Public Youth Art Group
DESCRIPTION:The Youth Peer Support Statewide Network (Youth Peer Support Statewide Network | Maine Behavioral Healthcare | Maine (mainehealth.org)) is a growing resource open to any Youth (ages 14 – 26) who reside in Maine and self-identify as having struggled with Mental Health challenges. \nThe YPSSN welcomes Aroostook County Youth to participate in the free\, weekly Art Group\, at the Mark and Emily Turner Memorial Library! You do not have to work with one of our Peer Partners to participate in this recurring event\, it’s free\, and we provide snacks! Just show up\, bring some curiosity\, and let’s make Art! \nArt Supplies and Snacks are provided for free when in attendance at the weekly Art Group. Parental supervision is not required\, but the participants must meet the following criteria:  \n\n1. Be between the ages of 14 – 26\n2. Self-identify as having Mental Health struggles. NO DIAGNOSIS needed.\n3. Be a Maine resident. If you’re an unhoused community member in Maine\, we have open arms and Welcome you! \nHope to see you at the next YPSSN Art Group! \n\nLocation Mark and Emily Turner Memorial Library
URL:https://centralaroostookchamber.com/community-event/public-youth-art-group/2024-07-09/
LOCATION:Mark and Emily Turner Memorial Library\, 39 2nd Street\, Presque Isle\, 04769\, United States
END:VEVENT
BEGIN:VEVENT
DTSTART;TZID=America/New_York:20240710T100000
DTEND;TZID=America/New_York:20240710T180000
DTSTAMP:20260419T144856
CREATED:20240619T131951Z
LAST-MODIFIED:20240619T131951Z
UID:10001218-1720605600-1720634400@centralaroostookchamber.com
SUMMARY:Caribou Farmer's Market
DESCRIPTION:Fresh local produce for sale!
URL:https://centralaroostookchamber.com/community-event/caribou-farmers-market-3/
LOCATION:Bennett Drive Plaza\, 159 Bennett Drive\, Caribou\, 04736\, United States
END:VEVENT
BEGIN:VEVENT
DTSTART;TZID=America/New_York:20240710T100000
DTEND;TZID=America/New_York:20240710T180000
DTSTAMP:20260419T144856
CREATED:20240331T183449Z
LAST-MODIFIED:20240331T190024Z
UID:10000703-1720605600-1720634400@centralaroostookchamber.com
SUMMARY:Caribou Farmer's Market
DESCRIPTION:
URL:https://centralaroostookchamber.com/community-event/caribou-farmers-market/2024-07-10/
LOCATION:Bennett Drive Plaza\, 159 Bennett Drive\, Caribou\, 04736\, United States
END:VEVENT
BEGIN:VEVENT
DTSTART;TZID=America/New_York:20240711T180000
DTEND;TZID=America/New_York:20240711T210000
DTSTAMP:20260419T144856
CREATED:20240619T131929Z
LAST-MODIFIED:20240619T131929Z
UID:10001219-1720720800-1720731600@centralaroostookchamber.com
SUMMARY:Thursdays on Sweden
DESCRIPTION:Featuring live music by Jerry T\, a beer garden hosted by Geaghan Brothers\, food trucks\, and much more!
URL:https://centralaroostookchamber.com/community-event/thursdays-on-sweden-2/
LOCATION:Sweden Street\, Sweden Street\, Caribou\, 04736\, United States
END:VEVENT
BEGIN:VEVENT
DTSTART;TZID=America/New_York:20240712T130000
DTEND;TZID=America/New_York:20240712T180000
DTSTAMP:20260419T144856
CREATED:20240331T184715Z
LAST-MODIFIED:20240331T190003Z
UID:10000858-1720789200-1720807200@centralaroostookchamber.com
SUMMARY:Riverside Park Farmer's Market
DESCRIPTION:
URL:https://centralaroostookchamber.com/community-event/riverside-park-farmers-market/2024-07-12/
LOCATION:Riverside Park\, Fort Kent\, East Main Street\, Fort Kent\, 04743\, United States
END:VEVENT
BEGIN:VEVENT
DTSTART;TZID=America/New_York:20240712T170000
DTEND;TZID=America/New_York:20240712T200000
DTSTAMP:20260419T144856
CREATED:20240701T131528Z
LAST-MODIFIED:20240701T131529Z
UID:10000537-1720803600-1720814400@centralaroostookchamber.com
SUMMARY:First Friday Art Walk
DESCRIPTION:Join us in Beautiful downtown Presque Isle Maine while we have our First Friday Art Walk! This event happens year-round\, on the first Friday of every month. Join our local businesses as they celebrate and display local artisans. Refreshments are usually served\, and a flyer is available to show you which business to hit next on your walk. This is a fun event and is open and free to the public.
URL:https://centralaroostookchamber.com/community-event/first-friday-art-walk-2/2024-07-12/
LOCATION:Presque Isle Maine\, Main Street\, Presque Isle\, 04769\, United States
ORGANIZER;CN="Central Aroostook Chamber of Commerce":MAILTO:info@centralaroostookchamber.com
END:VEVENT
BEGIN:VEVENT
DTSTART;TZID=America/New_York:20240712T180000
DTEND;TZID=America/New_York:20240712T180000
DTSTAMP:20260419T144856
CREATED:20240619T131910Z
LAST-MODIFIED:20240619T131910Z
UID:10001220-1720807200-1720807200@centralaroostookchamber.com
SUMMARY:Pizza Night
DESCRIPTION:Music by Dan Rooney
URL:https://centralaroostookchamber.com/community-event/pizza-night/
LOCATION:Portage Hills Country Club\, 98 Country Club Ave/\, Portage Lake\, United States
END:VEVENT
BEGIN:VEVENT
DTSTART;VALUE=DATE:20240713
DTEND;VALUE=DATE:20240714
DTSTAMP:20260419T144856
CREATED:20240619T131849Z
LAST-MODIFIED:20240619T131849Z
UID:10001237-1720828800-1720915199@centralaroostookchamber.com
SUMMARY:Potato Blossom Festival
DESCRIPTION:See the town of Fort Fairfield’s website for more information
URL:https://centralaroostookchamber.com/community-event/potato-blossom-festival/
LOCATION:Caribou\, 209 Thompson Rd\, Caribou\, ME\, United States
END:VEVENT
BEGIN:VEVENT
DTSTART;TZID=America/New_York:20240713T070000
DTEND;TZID=America/New_York:20240713T120000
DTSTAMP:20260419T144856
CREATED:20240331T185012Z
LAST-MODIFIED:20240331T185950Z
UID:10001016-1720854000-1720872000@centralaroostookchamber.com
SUMMARY:Riverside Park Farmer's Market
DESCRIPTION:
URL:https://centralaroostookchamber.com/community-event/riverside-park-farmers-market-2/2024-07-13/
LOCATION:Riverside Park\, Fort Kent\, East Main Street\, Fort Kent\, 04743\, United States
END:VEVENT
END:VCALENDAR