BEGIN:VCALENDAR
VERSION:2.0
PRODID:-//Central Aroostook Chamber of Commerce - ECPv6.15.20//NONSGML v1.0//EN
CALSCALE:GREGORIAN
METHOD:PUBLISH
X-WR-CALNAME:Central Aroostook Chamber of Commerce
X-ORIGINAL-URL:https://centralaroostookchamber.com
X-WR-CALDESC:Events for Central Aroostook Chamber of Commerce
REFRESH-INTERVAL;VALUE=DURATION:PT1H
X-Robots-Tag:noindex
X-PUBLISHED-TTL:PT1H
BEGIN:VTIMEZONE
TZID:America/New_York
BEGIN:DAYLIGHT
TZOFFSETFROM:-0500
TZOFFSETTO:-0400
TZNAME:EDT
DTSTART:20280312T070000
END:DAYLIGHT
BEGIN:STANDARD
TZOFFSETFROM:-0400
TZOFFSETTO:-0500
TZNAME:EST
DTSTART:20281105T060000
END:STANDARD
BEGIN:DAYLIGHT
TZOFFSETFROM:-0500
TZOFFSETTO:-0400
TZNAME:EDT
DTSTART:20290311T070000
END:DAYLIGHT
BEGIN:STANDARD
TZOFFSETFROM:-0400
TZOFFSETTO:-0500
TZNAME:EST
DTSTART:20291104T060000
END:STANDARD
BEGIN:DAYLIGHT
TZOFFSETFROM:-0500
TZOFFSETTO:-0400
TZNAME:EDT
DTSTART:20300310T070000
END:DAYLIGHT
BEGIN:STANDARD
TZOFFSETFROM:-0400
TZOFFSETTO:-0500
TZNAME:EST
DTSTART:20301103T060000
END:STANDARD
END:VTIMEZONE
BEGIN:VEVENT
DTSTART;TZID=America/New_York:20290706T170000
DTEND;TZID=America/New_York:20290706T200000
DTSTAMP:20260423T074704
CREATED:20241011T184945Z
LAST-MODIFIED:20250214T033744Z
UID:10001484-1878051600-1878062400@centralaroostookchamber.com
SUMMARY:First Friday Art Walk
DESCRIPTION:Join us in Beautiful downtown Presque Isle Maine while we have our First Friday Art Walk! This event happens year-round\, on the first Friday of every month. Join our local businesses as they celebrate and display local artisans. Refreshments are usually served\, and a flyer is available to show you which business to hit next on your walk. This is a fun event and is open and free to the public.
URL:https://centralaroostookchamber.com/community-event/first-friday-art-walk-2-2-2/2029-07-06/
LOCATION:Presque Isle Maine\, Main Street\, Presque Isle\, 04769\, United States
ATTACH;FMTTYPE=image/webp:https://centralaroostookchamber.com/wp-content/uploads/2024/03/firstfridayfoot-lg.webp
ORGANIZER;CN="Central Aroostook Chamber of Commerce":MAILTO:info@centralaroostookchamber.com
END:VEVENT
BEGIN:VEVENT
DTSTART;TZID=America/New_York:20290707T083000
DTEND;TZID=America/New_York:20290707T123000
DTSTAMP:20260423T074704
CREATED:20260413T143847Z
LAST-MODIFIED:20260413T143847Z
UID:10001996-1878107400-1878121800@centralaroostookchamber.com
SUMMARY:Presque Isle Farmers Market
DESCRIPTION:You’ll find a wide variety of vendors bringing baked goods\, handcrafted items\, and so much more. It’s more than just shopping—it’s a place to connect\, explore\, and enjoy a morning surrounded by the energy of your community.
URL:https://centralaroostookchamber.com/community-event/presque-isle-farmers-market-6/2029-07-07/
LOCATION:Presque Isle Pavilion\, 19 Riverside Dr\, Presque Isle\, ME\, 04769\, United States
END:VEVENT
BEGIN:VEVENT
DTSTART;TZID=America/New_York:20290714T083000
DTEND;TZID=America/New_York:20290714T123000
DTSTAMP:20260423T074705
CREATED:20260413T143847Z
LAST-MODIFIED:20260413T143847Z
UID:10001997-1878712200-1878726600@centralaroostookchamber.com
SUMMARY:Presque Isle Farmers Market
DESCRIPTION:You’ll find a wide variety of vendors bringing baked goods\, handcrafted items\, and so much more. It’s more than just shopping—it’s a place to connect\, explore\, and enjoy a morning surrounded by the energy of your community.
URL:https://centralaroostookchamber.com/community-event/presque-isle-farmers-market-6/2029-07-14/
LOCATION:Presque Isle Pavilion\, 19 Riverside Dr\, Presque Isle\, ME\, 04769\, United States
END:VEVENT
BEGIN:VEVENT
DTSTART;TZID=America/New_York:20290721T083000
DTEND;TZID=America/New_York:20290721T123000
DTSTAMP:20260423T074705
CREATED:20260413T143847Z
LAST-MODIFIED:20260413T143847Z
UID:10001998-1879317000-1879331400@centralaroostookchamber.com
SUMMARY:Presque Isle Farmers Market
DESCRIPTION:You’ll find a wide variety of vendors bringing baked goods\, handcrafted items\, and so much more. It’s more than just shopping—it’s a place to connect\, explore\, and enjoy a morning surrounded by the energy of your community.
URL:https://centralaroostookchamber.com/community-event/presque-isle-farmers-market-6/2029-07-21/
LOCATION:Presque Isle Pavilion\, 19 Riverside Dr\, Presque Isle\, ME\, 04769\, United States
END:VEVENT
BEGIN:VEVENT
DTSTART;TZID=America/New_York:20290728T083000
DTEND;TZID=America/New_York:20290728T123000
DTSTAMP:20260423T074705
CREATED:20260413T143847Z
LAST-MODIFIED:20260413T143847Z
UID:10001999-1879921800-1879936200@centralaroostookchamber.com
SUMMARY:Presque Isle Farmers Market
DESCRIPTION:You’ll find a wide variety of vendors bringing baked goods\, handcrafted items\, and so much more. It’s more than just shopping—it’s a place to connect\, explore\, and enjoy a morning surrounded by the energy of your community.
URL:https://centralaroostookchamber.com/community-event/presque-isle-farmers-market-6/2029-07-28/
LOCATION:Presque Isle Pavilion\, 19 Riverside Dr\, Presque Isle\, ME\, 04769\, United States
END:VEVENT
BEGIN:VEVENT
DTSTART;TZID=America/New_York:20290803T170000
DTEND;TZID=America/New_York:20290803T200000
DTSTAMP:20260423T074705
CREATED:20241011T184945Z
LAST-MODIFIED:20250214T033744Z
UID:10001485-1880470800-1880481600@centralaroostookchamber.com
SUMMARY:First Friday Art Walk
DESCRIPTION:Join us in Beautiful downtown Presque Isle Maine while we have our First Friday Art Walk! This event happens year-round\, on the first Friday of every month. Join our local businesses as they celebrate and display local artisans. Refreshments are usually served\, and a flyer is available to show you which business to hit next on your walk. This is a fun event and is open and free to the public.
URL:https://centralaroostookchamber.com/community-event/first-friday-art-walk-2-2-2/2029-08-03/
LOCATION:Presque Isle Maine\, Main Street\, Presque Isle\, 04769\, United States
ATTACH;FMTTYPE=image/webp:https://centralaroostookchamber.com/wp-content/uploads/2024/03/firstfridayfoot-lg.webp
ORGANIZER;CN="Central Aroostook Chamber of Commerce":MAILTO:info@centralaroostookchamber.com
END:VEVENT
BEGIN:VEVENT
DTSTART;TZID=America/New_York:20290804T083000
DTEND;TZID=America/New_York:20290804T123000
DTSTAMP:20260423T074705
CREATED:20260413T143847Z
LAST-MODIFIED:20260413T143847Z
UID:10002000-1880526600-1880541000@centralaroostookchamber.com
SUMMARY:Presque Isle Farmers Market
DESCRIPTION:You’ll find a wide variety of vendors bringing baked goods\, handcrafted items\, and so much more. It’s more than just shopping—it’s a place to connect\, explore\, and enjoy a morning surrounded by the energy of your community.
URL:https://centralaroostookchamber.com/community-event/presque-isle-farmers-market-6/2029-08-04/
LOCATION:Presque Isle Pavilion\, 19 Riverside Dr\, Presque Isle\, ME\, 04769\, United States
END:VEVENT
BEGIN:VEVENT
DTSTART;TZID=America/New_York:20290811T083000
DTEND;TZID=America/New_York:20290811T123000
DTSTAMP:20260423T074705
CREATED:20260413T143847Z
LAST-MODIFIED:20260413T143847Z
UID:10002001-1881131400-1881145800@centralaroostookchamber.com
SUMMARY:Presque Isle Farmers Market
DESCRIPTION:You’ll find a wide variety of vendors bringing baked goods\, handcrafted items\, and so much more. It’s more than just shopping—it’s a place to connect\, explore\, and enjoy a morning surrounded by the energy of your community.
URL:https://centralaroostookchamber.com/community-event/presque-isle-farmers-market-6/2029-08-11/
LOCATION:Presque Isle Pavilion\, 19 Riverside Dr\, Presque Isle\, ME\, 04769\, United States
END:VEVENT
BEGIN:VEVENT
DTSTART;TZID=America/New_York:20290818T083000
DTEND;TZID=America/New_York:20290818T123000
DTSTAMP:20260423T074705
CREATED:20260413T143847Z
LAST-MODIFIED:20260413T143847Z
UID:10002002-1881736200-1881750600@centralaroostookchamber.com
SUMMARY:Presque Isle Farmers Market
DESCRIPTION:You’ll find a wide variety of vendors bringing baked goods\, handcrafted items\, and so much more. It’s more than just shopping—it’s a place to connect\, explore\, and enjoy a morning surrounded by the energy of your community.
URL:https://centralaroostookchamber.com/community-event/presque-isle-farmers-market-6/2029-08-18/
LOCATION:Presque Isle Pavilion\, 19 Riverside Dr\, Presque Isle\, ME\, 04769\, United States
END:VEVENT
BEGIN:VEVENT
DTSTART;TZID=America/New_York:20290825T083000
DTEND;TZID=America/New_York:20290825T123000
DTSTAMP:20260423T074705
CREATED:20260413T143847Z
LAST-MODIFIED:20260413T143847Z
UID:10002003-1882341000-1882355400@centralaroostookchamber.com
SUMMARY:Presque Isle Farmers Market
DESCRIPTION:You’ll find a wide variety of vendors bringing baked goods\, handcrafted items\, and so much more. It’s more than just shopping—it’s a place to connect\, explore\, and enjoy a morning surrounded by the energy of your community.
URL:https://centralaroostookchamber.com/community-event/presque-isle-farmers-market-6/2029-08-25/
LOCATION:Presque Isle Pavilion\, 19 Riverside Dr\, Presque Isle\, ME\, 04769\, United States
END:VEVENT
BEGIN:VEVENT
DTSTART;TZID=America/New_York:20290901T083000
DTEND;TZID=America/New_York:20290901T123000
DTSTAMP:20260423T074705
CREATED:20260413T143847Z
LAST-MODIFIED:20260413T143847Z
UID:10002004-1882945800-1882960200@centralaroostookchamber.com
SUMMARY:Presque Isle Farmers Market
DESCRIPTION:You’ll find a wide variety of vendors bringing baked goods\, handcrafted items\, and so much more. It’s more than just shopping—it’s a place to connect\, explore\, and enjoy a morning surrounded by the energy of your community.
URL:https://centralaroostookchamber.com/community-event/presque-isle-farmers-market-6/2029-09-01/
LOCATION:Presque Isle Pavilion\, 19 Riverside Dr\, Presque Isle\, ME\, 04769\, United States
END:VEVENT
BEGIN:VEVENT
DTSTART;TZID=America/New_York:20290907T170000
DTEND;TZID=America/New_York:20290907T200000
DTSTAMP:20260423T074705
CREATED:20241011T184945Z
LAST-MODIFIED:20250214T033744Z
UID:10001486-1883494800-1883505600@centralaroostookchamber.com
SUMMARY:First Friday Art Walk
DESCRIPTION:Join us in Beautiful downtown Presque Isle Maine while we have our First Friday Art Walk! This event happens year-round\, on the first Friday of every month. Join our local businesses as they celebrate and display local artisans. Refreshments are usually served\, and a flyer is available to show you which business to hit next on your walk. This is a fun event and is open and free to the public.
URL:https://centralaroostookchamber.com/community-event/first-friday-art-walk-2-2-2/2029-09-07/
LOCATION:Presque Isle Maine\, Main Street\, Presque Isle\, 04769\, United States
ATTACH;FMTTYPE=image/webp:https://centralaroostookchamber.com/wp-content/uploads/2024/03/firstfridayfoot-lg.webp
ORGANIZER;CN="Central Aroostook Chamber of Commerce":MAILTO:info@centralaroostookchamber.com
END:VEVENT
BEGIN:VEVENT
DTSTART;TZID=America/New_York:20290908T083000
DTEND;TZID=America/New_York:20290908T123000
DTSTAMP:20260423T074705
CREATED:20260413T143847Z
LAST-MODIFIED:20260413T143847Z
UID:10002005-1883550600-1883565000@centralaroostookchamber.com
SUMMARY:Presque Isle Farmers Market
DESCRIPTION:You’ll find a wide variety of vendors bringing baked goods\, handcrafted items\, and so much more. It’s more than just shopping—it’s a place to connect\, explore\, and enjoy a morning surrounded by the energy of your community.
URL:https://centralaroostookchamber.com/community-event/presque-isle-farmers-market-6/2029-09-08/
LOCATION:Presque Isle Pavilion\, 19 Riverside Dr\, Presque Isle\, ME\, 04769\, United States
END:VEVENT
BEGIN:VEVENT
DTSTART;TZID=America/New_York:20290915T083000
DTEND;TZID=America/New_York:20290915T123000
DTSTAMP:20260423T074705
CREATED:20260413T143847Z
LAST-MODIFIED:20260413T143847Z
UID:10002006-1884155400-1884169800@centralaroostookchamber.com
SUMMARY:Presque Isle Farmers Market
DESCRIPTION:You’ll find a wide variety of vendors bringing baked goods\, handcrafted items\, and so much more. It’s more than just shopping—it’s a place to connect\, explore\, and enjoy a morning surrounded by the energy of your community.
URL:https://centralaroostookchamber.com/community-event/presque-isle-farmers-market-6/2029-09-15/
LOCATION:Presque Isle Pavilion\, 19 Riverside Dr\, Presque Isle\, ME\, 04769\, United States
END:VEVENT
BEGIN:VEVENT
DTSTART;TZID=America/New_York:20290922T083000
DTEND;TZID=America/New_York:20290922T123000
DTSTAMP:20260423T074705
CREATED:20260413T143847Z
LAST-MODIFIED:20260413T143847Z
UID:10002007-1884760200-1884774600@centralaroostookchamber.com
SUMMARY:Presque Isle Farmers Market
DESCRIPTION:You’ll find a wide variety of vendors bringing baked goods\, handcrafted items\, and so much more. It’s more than just shopping—it’s a place to connect\, explore\, and enjoy a morning surrounded by the energy of your community.
URL:https://centralaroostookchamber.com/community-event/presque-isle-farmers-market-6/2029-09-22/
LOCATION:Presque Isle Pavilion\, 19 Riverside Dr\, Presque Isle\, ME\, 04769\, United States
END:VEVENT
BEGIN:VEVENT
DTSTART;TZID=America/New_York:20290929T083000
DTEND;TZID=America/New_York:20290929T123000
DTSTAMP:20260423T074705
CREATED:20260413T143847Z
LAST-MODIFIED:20260413T143847Z
UID:10002008-1885365000-1885379400@centralaroostookchamber.com
SUMMARY:Presque Isle Farmers Market
DESCRIPTION:You’ll find a wide variety of vendors bringing baked goods\, handcrafted items\, and so much more. It’s more than just shopping—it’s a place to connect\, explore\, and enjoy a morning surrounded by the energy of your community.
URL:https://centralaroostookchamber.com/community-event/presque-isle-farmers-market-6/2029-09-29/
LOCATION:Presque Isle Pavilion\, 19 Riverside Dr\, Presque Isle\, ME\, 04769\, United States
END:VEVENT
BEGIN:VEVENT
DTSTART;TZID=America/New_York:20291005T170000
DTEND;TZID=America/New_York:20291005T200000
DTSTAMP:20260423T074705
CREATED:20241011T184945Z
LAST-MODIFIED:20250214T033744Z
UID:10001487-1885914000-1885924800@centralaroostookchamber.com
SUMMARY:First Friday Art Walk
DESCRIPTION:Join us in Beautiful downtown Presque Isle Maine while we have our First Friday Art Walk! This event happens year-round\, on the first Friday of every month. Join our local businesses as they celebrate and display local artisans. Refreshments are usually served\, and a flyer is available to show you which business to hit next on your walk. This is a fun event and is open and free to the public.
URL:https://centralaroostookchamber.com/community-event/first-friday-art-walk-2-2-2/2029-10-05/
LOCATION:Presque Isle Maine\, Main Street\, Presque Isle\, 04769\, United States
ATTACH;FMTTYPE=image/webp:https://centralaroostookchamber.com/wp-content/uploads/2024/03/firstfridayfoot-lg.webp
ORGANIZER;CN="Central Aroostook Chamber of Commerce":MAILTO:info@centralaroostookchamber.com
END:VEVENT
BEGIN:VEVENT
DTSTART;TZID=America/New_York:20291006T083000
DTEND;TZID=America/New_York:20291006T123000
DTSTAMP:20260423T074705
CREATED:20260413T143847Z
LAST-MODIFIED:20260413T143847Z
UID:10002009-1885969800-1885984200@centralaroostookchamber.com
SUMMARY:Presque Isle Farmers Market
DESCRIPTION:You’ll find a wide variety of vendors bringing baked goods\, handcrafted items\, and so much more. It’s more than just shopping—it’s a place to connect\, explore\, and enjoy a morning surrounded by the energy of your community.
URL:https://centralaroostookchamber.com/community-event/presque-isle-farmers-market-6/2029-10-06/
LOCATION:Presque Isle Pavilion\, 19 Riverside Dr\, Presque Isle\, ME\, 04769\, United States
END:VEVENT
BEGIN:VEVENT
DTSTART;TZID=America/New_York:20291013T083000
DTEND;TZID=America/New_York:20291013T123000
DTSTAMP:20260423T074705
CREATED:20260413T143847Z
LAST-MODIFIED:20260413T143847Z
UID:10002010-1886574600-1886589000@centralaroostookchamber.com
SUMMARY:Presque Isle Farmers Market
DESCRIPTION:You’ll find a wide variety of vendors bringing baked goods\, handcrafted items\, and so much more. It’s more than just shopping—it’s a place to connect\, explore\, and enjoy a morning surrounded by the energy of your community.
URL:https://centralaroostookchamber.com/community-event/presque-isle-farmers-market-6/2029-10-13/
LOCATION:Presque Isle Pavilion\, 19 Riverside Dr\, Presque Isle\, ME\, 04769\, United States
END:VEVENT
BEGIN:VEVENT
DTSTART;TZID=America/New_York:20291020T083000
DTEND;TZID=America/New_York:20291020T123000
DTSTAMP:20260423T074705
CREATED:20260413T143847Z
LAST-MODIFIED:20260413T143847Z
UID:10002011-1887179400-1887193800@centralaroostookchamber.com
SUMMARY:Presque Isle Farmers Market
DESCRIPTION:You’ll find a wide variety of vendors bringing baked goods\, handcrafted items\, and so much more. It’s more than just shopping—it’s a place to connect\, explore\, and enjoy a morning surrounded by the energy of your community.
URL:https://centralaroostookchamber.com/community-event/presque-isle-farmers-market-6/2029-10-20/
LOCATION:Presque Isle Pavilion\, 19 Riverside Dr\, Presque Isle\, ME\, 04769\, United States
END:VEVENT
BEGIN:VEVENT
DTSTART;TZID=America/New_York:20291027T083000
DTEND;TZID=America/New_York:20291027T123000
DTSTAMP:20260423T074705
CREATED:20260413T143847Z
LAST-MODIFIED:20260413T143847Z
UID:10002012-1887784200-1887798600@centralaroostookchamber.com
SUMMARY:Presque Isle Farmers Market
DESCRIPTION:You’ll find a wide variety of vendors bringing baked goods\, handcrafted items\, and so much more. It’s more than just shopping—it’s a place to connect\, explore\, and enjoy a morning surrounded by the energy of your community.
URL:https://centralaroostookchamber.com/community-event/presque-isle-farmers-market-6/2029-10-27/
LOCATION:Presque Isle Pavilion\, 19 Riverside Dr\, Presque Isle\, ME\, 04769\, United States
END:VEVENT
BEGIN:VEVENT
DTSTART;TZID=America/New_York:20291102T170000
DTEND;TZID=America/New_York:20291102T200000
DTSTAMP:20260423T074705
CREATED:20241011T184945Z
LAST-MODIFIED:20250214T033744Z
UID:10001547-1888333200-1888344000@centralaroostookchamber.com
SUMMARY:First Friday Art Walk
DESCRIPTION:Join us in Beautiful downtown Presque Isle Maine while we have our First Friday Art Walk! This event happens year-round\, on the first Friday of every month. Join our local businesses as they celebrate and display local artisans. Refreshments are usually served\, and a flyer is available to show you which business to hit next on your walk. This is a fun event and is open and free to the public.
URL:https://centralaroostookchamber.com/community-event/first-friday-art-walk-2-2-2/2029-11-02/
LOCATION:Presque Isle Maine\, Main Street\, Presque Isle\, 04769\, United States
ATTACH;FMTTYPE=image/webp:https://centralaroostookchamber.com/wp-content/uploads/2024/03/firstfridayfoot-lg.webp
ORGANIZER;CN="Central Aroostook Chamber of Commerce":MAILTO:info@centralaroostookchamber.com
END:VEVENT
BEGIN:VEVENT
DTSTART;TZID=America/New_York:20291103T083000
DTEND;TZID=America/New_York:20291103T123000
DTSTAMP:20260423T074705
CREATED:20260413T143847Z
LAST-MODIFIED:20260413T143847Z
UID:10002013-1888389000-1888403400@centralaroostookchamber.com
SUMMARY:Presque Isle Farmers Market
DESCRIPTION:You’ll find a wide variety of vendors bringing baked goods\, handcrafted items\, and so much more. It’s more than just shopping—it’s a place to connect\, explore\, and enjoy a morning surrounded by the energy of your community.
URL:https://centralaroostookchamber.com/community-event/presque-isle-farmers-market-6/2029-11-03/
LOCATION:Presque Isle Pavilion\, 19 Riverside Dr\, Presque Isle\, ME\, 04769\, United States
END:VEVENT
BEGIN:VEVENT
DTSTART;TZID=America/New_York:20291110T083000
DTEND;TZID=America/New_York:20291110T123000
DTSTAMP:20260423T074705
CREATED:20260413T143847Z
LAST-MODIFIED:20260413T143847Z
UID:10002014-1888993800-1889008200@centralaroostookchamber.com
SUMMARY:Presque Isle Farmers Market
DESCRIPTION:You’ll find a wide variety of vendors bringing baked goods\, handcrafted items\, and so much more. It’s more than just shopping—it’s a place to connect\, explore\, and enjoy a morning surrounded by the energy of your community.
URL:https://centralaroostookchamber.com/community-event/presque-isle-farmers-market-6/2029-11-10/
LOCATION:Presque Isle Pavilion\, 19 Riverside Dr\, Presque Isle\, ME\, 04769\, United States
END:VEVENT
BEGIN:VEVENT
DTSTART;TZID=America/New_York:20291117T083000
DTEND;TZID=America/New_York:20291117T123000
DTSTAMP:20260423T074705
CREATED:20260413T143847Z
LAST-MODIFIED:20260413T143847Z
UID:10002015-1889598600-1889613000@centralaroostookchamber.com
SUMMARY:Presque Isle Farmers Market
DESCRIPTION:You’ll find a wide variety of vendors bringing baked goods\, handcrafted items\, and so much more. It’s more than just shopping—it’s a place to connect\, explore\, and enjoy a morning surrounded by the energy of your community.
URL:https://centralaroostookchamber.com/community-event/presque-isle-farmers-market-6/2029-11-17/
LOCATION:Presque Isle Pavilion\, 19 Riverside Dr\, Presque Isle\, ME\, 04769\, United States
END:VEVENT
BEGIN:VEVENT
DTSTART;TZID=America/New_York:20291124T083000
DTEND;TZID=America/New_York:20291124T123000
DTSTAMP:20260423T074705
CREATED:20260413T143847Z
LAST-MODIFIED:20260413T143847Z
UID:10002016-1890203400-1890217800@centralaroostookchamber.com
SUMMARY:Presque Isle Farmers Market
DESCRIPTION:You’ll find a wide variety of vendors bringing baked goods\, handcrafted items\, and so much more. It’s more than just shopping—it’s a place to connect\, explore\, and enjoy a morning surrounded by the energy of your community.
URL:https://centralaroostookchamber.com/community-event/presque-isle-farmers-market-6/2029-11-24/
LOCATION:Presque Isle Pavilion\, 19 Riverside Dr\, Presque Isle\, ME\, 04769\, United States
END:VEVENT
BEGIN:VEVENT
DTSTART;TZID=America/New_York:20291201T083000
DTEND;TZID=America/New_York:20291201T123000
DTSTAMP:20260423T074705
CREATED:20260413T143847Z
LAST-MODIFIED:20260413T143847Z
UID:10002017-1890808200-1890822600@centralaroostookchamber.com
SUMMARY:Presque Isle Farmers Market
DESCRIPTION:You’ll find a wide variety of vendors bringing baked goods\, handcrafted items\, and so much more. It’s more than just shopping—it’s a place to connect\, explore\, and enjoy a morning surrounded by the energy of your community.
URL:https://centralaroostookchamber.com/community-event/presque-isle-farmers-market-6/2029-12-01/
LOCATION:Presque Isle Pavilion\, 19 Riverside Dr\, Presque Isle\, ME\, 04769\, United States
END:VEVENT
BEGIN:VEVENT
DTSTART;TZID=America/New_York:20291207T170000
DTEND;TZID=America/New_York:20291207T200000
DTSTAMP:20260423T074705
CREATED:20241011T184945Z
LAST-MODIFIED:20250214T033744Z
UID:10001548-1891357200-1891368000@centralaroostookchamber.com
SUMMARY:First Friday Art Walk
DESCRIPTION:Join us in Beautiful downtown Presque Isle Maine while we have our First Friday Art Walk! This event happens year-round\, on the first Friday of every month. Join our local businesses as they celebrate and display local artisans. Refreshments are usually served\, and a flyer is available to show you which business to hit next on your walk. This is a fun event and is open and free to the public.
URL:https://centralaroostookchamber.com/community-event/first-friday-art-walk-2-2-2/2029-12-07/
LOCATION:Presque Isle Maine\, Main Street\, Presque Isle\, 04769\, United States
ATTACH;FMTTYPE=image/webp:https://centralaroostookchamber.com/wp-content/uploads/2024/03/firstfridayfoot-lg.webp
ORGANIZER;CN="Central Aroostook Chamber of Commerce":MAILTO:info@centralaroostookchamber.com
END:VEVENT
BEGIN:VEVENT
DTSTART;TZID=America/New_York:20291208T083000
DTEND;TZID=America/New_York:20291208T123000
DTSTAMP:20260423T074705
CREATED:20260413T143847Z
LAST-MODIFIED:20260413T143847Z
UID:10002018-1891413000-1891427400@centralaroostookchamber.com
SUMMARY:Presque Isle Farmers Market
DESCRIPTION:You’ll find a wide variety of vendors bringing baked goods\, handcrafted items\, and so much more. It’s more than just shopping—it’s a place to connect\, explore\, and enjoy a morning surrounded by the energy of your community.
URL:https://centralaroostookchamber.com/community-event/presque-isle-farmers-market-6/2029-12-08/
LOCATION:Presque Isle Pavilion\, 19 Riverside Dr\, Presque Isle\, ME\, 04769\, United States
END:VEVENT
BEGIN:VEVENT
DTSTART;TZID=America/New_York:20291215T083000
DTEND;TZID=America/New_York:20291215T123000
DTSTAMP:20260423T074705
CREATED:20260413T143847Z
LAST-MODIFIED:20260413T143847Z
UID:10002019-1892017800-1892032200@centralaroostookchamber.com
SUMMARY:Presque Isle Farmers Market
DESCRIPTION:You’ll find a wide variety of vendors bringing baked goods\, handcrafted items\, and so much more. It’s more than just shopping—it’s a place to connect\, explore\, and enjoy a morning surrounded by the energy of your community.
URL:https://centralaroostookchamber.com/community-event/presque-isle-farmers-market-6/2029-12-15/
LOCATION:Presque Isle Pavilion\, 19 Riverside Dr\, Presque Isle\, ME\, 04769\, United States
END:VEVENT
END:VCALENDAR