BEGIN:VCALENDAR
VERSION:2.0
PRODID:-//Central Aroostook Chamber of Commerce - ECPv6.15.20//NONSGML v1.0//EN
CALSCALE:GREGORIAN
METHOD:PUBLISH
X-WR-CALNAME:Central Aroostook Chamber of Commerce
X-ORIGINAL-URL:https://centralaroostookchamber.com
X-WR-CALDESC:Events for Central Aroostook Chamber of Commerce
REFRESH-INTERVAL;VALUE=DURATION:PT1H
X-Robots-Tag:noindex
X-PUBLISHED-TTL:PT1H
BEGIN:VTIMEZONE
TZID:America/New_York
BEGIN:DAYLIGHT
TZOFFSETFROM:-0500
TZOFFSETTO:-0400
TZNAME:EDT
DTSTART:20230312T070000
END:DAYLIGHT
BEGIN:STANDARD
TZOFFSETFROM:-0400
TZOFFSETTO:-0500
TZNAME:EST
DTSTART:20231105T060000
END:STANDARD
BEGIN:DAYLIGHT
TZOFFSETFROM:-0500
TZOFFSETTO:-0400
TZNAME:EDT
DTSTART:20240310T070000
END:DAYLIGHT
BEGIN:STANDARD
TZOFFSETFROM:-0400
TZOFFSETTO:-0500
TZNAME:EST
DTSTART:20241103T060000
END:STANDARD
BEGIN:DAYLIGHT
TZOFFSETFROM:-0500
TZOFFSETTO:-0400
TZNAME:EDT
DTSTART:20250309T070000
END:DAYLIGHT
BEGIN:STANDARD
TZOFFSETFROM:-0400
TZOFFSETTO:-0500
TZNAME:EST
DTSTART:20251102T060000
END:STANDARD
END:VTIMEZONE
BEGIN:VEVENT
DTSTART;TZID=America/New_York:20241101T170000
DTEND;TZID=America/New_York:20241101T200000
DTSTAMP:20260423T194323
CREATED:20241011T184945Z
LAST-MODIFIED:20250214T033744Z
UID:10001369-1730480400-1730491200@centralaroostookchamber.com
SUMMARY:First Friday Art Walk
DESCRIPTION:Join us in Beautiful downtown Presque Isle Maine while we have our First Friday Art Walk! This event happens year-round\, on the first Friday of every month. Join our local businesses as they celebrate and display local artisans. Refreshments are usually served\, and a flyer is available to show you which business to hit next on your walk. This is a fun event and is open and free to the public.
URL:https://centralaroostookchamber.com/community-event/first-friday-art-walk-2-2-2/2024-11-01/
LOCATION:Presque Isle Maine\, Main Street\, Presque Isle\, 04769\, United States
ATTACH;FMTTYPE=image/webp:https://centralaroostookchamber.com/wp-content/uploads/2024/03/firstfridayfoot-lg.webp
ORGANIZER;CN="Central Aroostook Chamber of Commerce":MAILTO:info@centralaroostookchamber.com
END:VEVENT
BEGIN:VEVENT
DTSTART;TZID=America/New_York:20241102T070000
DTEND;TZID=America/New_York:20241102T120000
DTSTAMP:20260423T194323
CREATED:20240331T185012Z
LAST-MODIFIED:20240331T185950Z
UID:10001032-1730530800-1730548800@centralaroostookchamber.com
SUMMARY:Riverside Park Farmer's Market
DESCRIPTION:
URL:https://centralaroostookchamber.com/community-event/riverside-park-farmers-market-2/2024-11-02/
LOCATION:Riverside Park\, Fort Kent\, East Main Street\, Fort Kent\, 04743\, United States
END:VEVENT
BEGIN:VEVENT
DTSTART;TZID=America/New_York:20241102T080000
DTEND;TZID=America/New_York:20241102T170000
DTSTAMP:20260423T194323
CREATED:20240331T185514Z
LAST-MODIFIED:20240331T185940Z
UID:10001108-1730534400-1730566800@centralaroostookchamber.com
SUMMARY:Houlton Community Farmer's Market
DESCRIPTION:
URL:https://centralaroostookchamber.com/community-event/houlton-community-farmers-market/2024-11-02/
LOCATION:Market Square\, Houlton\, Market Square\, Houlton\, 04730\, United States
END:VEVENT
BEGIN:VEVENT
DTSTART;TZID=America/New_York:20241102T100000
DTEND;TZID=America/New_York:20241102T140000
DTSTAMP:20260423T194323
CREATED:20241024T131307Z
LAST-MODIFIED:20241024T131307Z
UID:10001489-1730541600-1730556000@centralaroostookchamber.com
SUMMARY:Stained Glass Workshops
DESCRIPTION:Pre-registration a must for these workshops.\nJoin me for a fun make and take class.\nFollow FB for detailed descriptions for each event.\nBeginners welcome!\nStained glass ages 16-17 with adult supervision.\nAll must sign a waiver.\nDifferent events every week.
URL:https://centralaroostookchamber.com/community-event/stained-glass-workshops/
LOCATION:Glass With Class\, 53 Herschel Street\, Caribou\, 04736\, United States
ATTACH;FMTTYPE=image/webp:https://centralaroostookchamber.com/wp-content/uploads/2024/10/Picture1.webp
END:VEVENT
BEGIN:VEVENT
DTSTART;TZID=America/New_York:20241105T143000
DTEND;TZID=America/New_York:20241105T160000
DTSTAMP:20260423T194323
CREATED:20240331T144456Z
LAST-MODIFIED:20240331T144456Z
UID:10000304-1730817000-1730822400@centralaroostookchamber.com
SUMMARY:Public Youth Art Group
DESCRIPTION:The Youth Peer Support Statewide Network (Youth Peer Support Statewide Network | Maine Behavioral Healthcare | Maine (mainehealth.org)) is a growing resource open to any Youth (ages 14 – 26) who reside in Maine and self-identify as having struggled with Mental Health challenges. \nThe YPSSN welcomes Aroostook County Youth to participate in the free\, weekly Art Group\, at the Mark and Emily Turner Memorial Library! You do not have to work with one of our Peer Partners to participate in this recurring event\, it’s free\, and we provide snacks! Just show up\, bring some curiosity\, and let’s make Art! \nArt Supplies and Snacks are provided for free when in attendance at the weekly Art Group. Parental supervision is not required\, but the participants must meet the following criteria:  \n\n1. Be between the ages of 14 – 26\n2. Self-identify as having Mental Health struggles. NO DIAGNOSIS needed.\n3. Be a Maine resident. If you’re an unhoused community member in Maine\, we have open arms and Welcome you! \nHope to see you at the next YPSSN Art Group! \n\nLocation Mark and Emily Turner Memorial Library
URL:https://centralaroostookchamber.com/community-event/public-youth-art-group/2024-11-05/
LOCATION:Mark and Emily Turner Memorial Library\, 39 2nd Street\, Presque Isle\, 04769\, United States
END:VEVENT
BEGIN:VEVENT
DTSTART;TZID=America/New_York:20241106T100000
DTEND;TZID=America/New_York:20241106T180000
DTSTAMP:20260423T194323
CREATED:20240331T183449Z
LAST-MODIFIED:20240331T190024Z
UID:10000720-1730887200-1730916000@centralaroostookchamber.com
SUMMARY:Caribou Farmer's Market
DESCRIPTION:
URL:https://centralaroostookchamber.com/community-event/caribou-farmers-market/2024-11-06/
LOCATION:Bennett Drive Plaza\, 159 Bennett Drive\, Caribou\, 04736\, United States
END:VEVENT
BEGIN:VEVENT
DTSTART;TZID=America/New_York:20241107T120000
DTEND;TZID=America/New_York:20241107T140000
DTSTAMP:20260423T194323
CREATED:20241025T144639Z
LAST-MODIFIED:20241025T144639Z
UID:10001490-1730980800-1730988000@centralaroostookchamber.com
SUMMARY:Top Gun Business Accelerator: Informational Session Aroostook County
DESCRIPTION:12:00 PM on Thursday\, November 7th at the Northeastland Hotel in Presque Isle\, Maine will be an informational session for those interested in the program and those considering mentoring businesses in the program. Lunch is provided. The Maine Center for Entrepreneurs and Northern Maine Development Commission have opened the application to accept applicants into the 2025 Top Gun Class. The Top Gun program is designed specifically for the entrepreneur with a desire to grow his/her business and achieve long-term success through the use of the right tools\, resources\, and related mentorship. \nAll are welcome. RSVP’s are encouraged\, but not required. Both businesses and those who may consider participating as a business mentor are encouraged to attend on Thursday\, November 7th. RSVP NOW: https://www.nmdc.org/event/topgun-business-accelerator-informational-session-aroostook-county/ \nWhat is TopGun?\nThe Top Gun program is designed specifically for the entrepreneur with a desire to grow his/her business and achieve long-term success through the use of the right tools\, resources\, and related mentorship. MCE has taken the time to develop strong business partnerships and to acquire loyal sponsorships which allow us to provide Maine entrepreneurs with the programming\, mentorship\, training\, and knowledge they need to grow and succeed. \nAccelerate your business growth with Top Gun. Of the 350+ companies that have been through Top Gun since 2009\, 40% were already generating revenue. Most of the rest were in product and business model development\, with a handful still in research or in the product and business model-definition stage. Complete the Top Gun Program Application by November 29th: https://mced.biz/top-gun \nScholarship Available\nThe cost to participate in the program is $600. Full scholarships are available through Northern Maine Development Commission by calling Jacob Pelkey at (207) 498-5065 or emailing jpelkey@nmdc.org
URL:https://centralaroostookchamber.com/community-event/top-gun-business-accelerator-informational-session-aroostook-county/
LOCATION:Ignite Presque Isle\, 436 Main Street\, Presque Isle\, 04769\, United States
ATTACH;FMTTYPE=image/webp:https://centralaroostookchamber.com/wp-content/uploads/2024/10/Grow-Scale-In-Maine-1800-x-1013-px-1.webp
END:VEVENT
BEGIN:VEVENT
DTSTART;TZID=America/New_York:20241108T130000
DTEND;TZID=America/New_York:20241108T180000
DTSTAMP:20260423T194323
CREATED:20240331T184715Z
LAST-MODIFIED:20240331T190003Z
UID:10000875-1731070800-1731088800@centralaroostookchamber.com
SUMMARY:Riverside Park Farmer's Market
DESCRIPTION:
URL:https://centralaroostookchamber.com/community-event/riverside-park-farmers-market/2024-11-08/
LOCATION:Riverside Park\, Fort Kent\, East Main Street\, Fort Kent\, 04743\, United States
END:VEVENT
BEGIN:VEVENT
DTSTART;TZID=America/New_York:20241109T070000
DTEND;TZID=America/New_York:20241109T120000
DTSTAMP:20260423T194323
CREATED:20240331T185012Z
LAST-MODIFIED:20240331T185950Z
UID:10001033-1731135600-1731153600@centralaroostookchamber.com
SUMMARY:Riverside Park Farmer's Market
DESCRIPTION:
URL:https://centralaroostookchamber.com/community-event/riverside-park-farmers-market-2/2024-11-09/
LOCATION:Riverside Park\, Fort Kent\, East Main Street\, Fort Kent\, 04743\, United States
END:VEVENT
BEGIN:VEVENT
DTSTART;TZID=America/New_York:20241109T080000
DTEND;TZID=America/New_York:20241109T170000
DTSTAMP:20260423T194323
CREATED:20240331T185514Z
LAST-MODIFIED:20240331T185940Z
UID:10001109-1731139200-1731171600@centralaroostookchamber.com
SUMMARY:Houlton Community Farmer's Market
DESCRIPTION:
URL:https://centralaroostookchamber.com/community-event/houlton-community-farmers-market/2024-11-09/
LOCATION:Market Square\, Houlton\, Market Square\, Houlton\, 04730\, United States
END:VEVENT
BEGIN:VEVENT
DTSTART;TZID=America/New_York:20241112T143000
DTEND;TZID=America/New_York:20241112T160000
DTSTAMP:20260423T194323
CREATED:20240331T144456Z
LAST-MODIFIED:20240331T144456Z
UID:10000305-1731421800-1731427200@centralaroostookchamber.com
SUMMARY:Public Youth Art Group
DESCRIPTION:The Youth Peer Support Statewide Network (Youth Peer Support Statewide Network | Maine Behavioral Healthcare | Maine (mainehealth.org)) is a growing resource open to any Youth (ages 14 – 26) who reside in Maine and self-identify as having struggled with Mental Health challenges. \nThe YPSSN welcomes Aroostook County Youth to participate in the free\, weekly Art Group\, at the Mark and Emily Turner Memorial Library! You do not have to work with one of our Peer Partners to participate in this recurring event\, it’s free\, and we provide snacks! Just show up\, bring some curiosity\, and let’s make Art! \nArt Supplies and Snacks are provided for free when in attendance at the weekly Art Group. Parental supervision is not required\, but the participants must meet the following criteria:  \n\n1. Be between the ages of 14 – 26\n2. Self-identify as having Mental Health struggles. NO DIAGNOSIS needed.\n3. Be a Maine resident. If you’re an unhoused community member in Maine\, we have open arms and Welcome you! \nHope to see you at the next YPSSN Art Group! \n\nLocation Mark and Emily Turner Memorial Library
URL:https://centralaroostookchamber.com/community-event/public-youth-art-group/2024-11-12/
LOCATION:Mark and Emily Turner Memorial Library\, 39 2nd Street\, Presque Isle\, 04769\, United States
END:VEVENT
BEGIN:VEVENT
DTSTART;TZID=America/New_York:20241113T100000
DTEND;TZID=America/New_York:20241113T180000
DTSTAMP:20260423T194323
CREATED:20240331T183449Z
LAST-MODIFIED:20240331T190024Z
UID:10000721-1731492000-1731520800@centralaroostookchamber.com
SUMMARY:Caribou Farmer's Market
DESCRIPTION:
URL:https://centralaroostookchamber.com/community-event/caribou-farmers-market/2024-11-13/
LOCATION:Bennett Drive Plaza\, 159 Bennett Drive\, Caribou\, 04736\, United States
END:VEVENT
BEGIN:VEVENT
DTSTART;TZID=America/New_York:20241114T100000
DTEND;TZID=America/New_York:20241114T120000
DTSTAMP:20260423T194323
CREATED:20241029T130647Z
LAST-MODIFIED:20241029T130647Z
UID:10001497-1731578400-1731585600@centralaroostookchamber.com
SUMMARY:Linneus Community Baby Sprinkle
DESCRIPTION:A Community Baby Sprinkle to celebrate new and expecting parents.
URL:https://centralaroostookchamber.com/community-event/linneus-community-baby-sprinkle/
LOCATION:Linneus Rec Department\, 1811 Bangor Rd.\, Linneus\, 04730\, United States
ATTACH;FMTTYPE=image/webp:https://centralaroostookchamber.com/wp-content/uploads/2024/10/Linneus-Baby-Sprinkle-Flyer.webp
ORGANIZER;CN="Aroostook Council for Healthy Families":MAILTO:info@achf-me.org
END:VEVENT
BEGIN:VEVENT
DTSTART;TZID=America/New_York:20241115T130000
DTEND;TZID=America/New_York:20241115T180000
DTSTAMP:20260423T194323
CREATED:20240331T184715Z
LAST-MODIFIED:20240331T190003Z
UID:10000876-1731675600-1731693600@centralaroostookchamber.com
SUMMARY:Riverside Park Farmer's Market
DESCRIPTION:
URL:https://centralaroostookchamber.com/community-event/riverside-park-farmers-market/2024-11-15/
LOCATION:Riverside Park\, Fort Kent\, East Main Street\, Fort Kent\, 04743\, United States
END:VEVENT
BEGIN:VEVENT
DTSTART;TZID=America/New_York:20241116T070000
DTEND;TZID=America/New_York:20241116T120000
DTSTAMP:20260423T194323
CREATED:20240331T185012Z
LAST-MODIFIED:20240331T185950Z
UID:10001034-1731740400-1731758400@centralaroostookchamber.com
SUMMARY:Riverside Park Farmer's Market
DESCRIPTION:
URL:https://centralaroostookchamber.com/community-event/riverside-park-farmers-market-2/2024-11-16/
LOCATION:Riverside Park\, Fort Kent\, East Main Street\, Fort Kent\, 04743\, United States
END:VEVENT
BEGIN:VEVENT
DTSTART;TZID=America/New_York:20241116T080000
DTEND;TZID=America/New_York:20241116T170000
DTSTAMP:20260423T194323
CREATED:20240331T185514Z
LAST-MODIFIED:20240331T185940Z
UID:10001110-1731744000-1731776400@centralaroostookchamber.com
SUMMARY:Houlton Community Farmer's Market
DESCRIPTION:
URL:https://centralaroostookchamber.com/community-event/houlton-community-farmers-market/2024-11-16/
LOCATION:Market Square\, Houlton\, Market Square\, Houlton\, 04730\, United States
END:VEVENT
BEGIN:VEVENT
DTSTART;VALUE=DATE:20241118
DTEND;VALUE=DATE:20241119
DTSTAMP:20260423T194323
CREATED:20240331T150020Z
LAST-MODIFIED:20240331T150020Z
UID:10000602-1731888000-1731974399@centralaroostookchamber.com
SUMMARY:American Legion Monthly Meeting - Skyway Industrial Park
DESCRIPTION:Supper with a business meeting to follow. \nAuxiliary Members\, Wives\, and Guests are always welcome.
URL:https://centralaroostookchamber.com/community-event/american-legion-monthly-meeting-skyway-industrial-park/2024-11-18/
LOCATION:M
END:VEVENT
BEGIN:VEVENT
DTSTART;TZID=America/New_York:20241119T140000
DTEND;TZID=America/New_York:20241119T153000
DTSTAMP:20260423T194323
CREATED:20241104T201759Z
LAST-MODIFIED:20241114T194344Z
UID:10001498-1732024800-1732030200@centralaroostookchamber.com
SUMMARY:First Annual Agency Volunteer Fair
DESCRIPTION:Join the Aroostook Agency on Aging to learn more about opportunities to serve your community at our First Annual Agency Volunteer Fair on November 19\, 2024 from 2-3:30 pm. Agency staff and volunteers will be at the Access Point Locations below to share stories about the impact of volunteerism in The County and to help you find meaningful ways to share your amazing gifts with your community. \nFort Kent (Public Library @ 1 Monument Square)\nFort Fairfield (Public Library @339 Main St)\nMonticello (Community Center @ 14 School St)\nMars Hill (Community Center #10 ACI St)\nPresque Isle (Agency @260 Main St) \nRegister by calling the Agency at 207.764.3396 or online at https://bit.ly.4eZD1z3
URL:https://centralaroostookchamber.com/community-event/first-annual-agency-volunteer-fair/
LOCATION:M
END:VEVENT
BEGIN:VEVENT
DTSTART;TZID=America/New_York:20241119T143000
DTEND;TZID=America/New_York:20241119T160000
DTSTAMP:20260423T194323
CREATED:20240331T144456Z
LAST-MODIFIED:20240331T144456Z
UID:10000306-1732026600-1732032000@centralaroostookchamber.com
SUMMARY:Public Youth Art Group
DESCRIPTION:The Youth Peer Support Statewide Network (Youth Peer Support Statewide Network | Maine Behavioral Healthcare | Maine (mainehealth.org)) is a growing resource open to any Youth (ages 14 – 26) who reside in Maine and self-identify as having struggled with Mental Health challenges. \nThe YPSSN welcomes Aroostook County Youth to participate in the free\, weekly Art Group\, at the Mark and Emily Turner Memorial Library! You do not have to work with one of our Peer Partners to participate in this recurring event\, it’s free\, and we provide snacks! Just show up\, bring some curiosity\, and let’s make Art! \nArt Supplies and Snacks are provided for free when in attendance at the weekly Art Group. Parental supervision is not required\, but the participants must meet the following criteria:  \n\n1. Be between the ages of 14 – 26\n2. Self-identify as having Mental Health struggles. NO DIAGNOSIS needed.\n3. Be a Maine resident. If you’re an unhoused community member in Maine\, we have open arms and Welcome you! \nHope to see you at the next YPSSN Art Group! \n\nLocation Mark and Emily Turner Memorial Library
URL:https://centralaroostookchamber.com/community-event/public-youth-art-group/2024-11-19/
LOCATION:Mark and Emily Turner Memorial Library\, 39 2nd Street\, Presque Isle\, 04769\, United States
END:VEVENT
BEGIN:VEVENT
DTSTART;TZID=America/New_York:20241120T100000
DTEND;TZID=America/New_York:20241120T180000
DTSTAMP:20260423T194323
CREATED:20240331T183449Z
LAST-MODIFIED:20240331T190024Z
UID:10000722-1732096800-1732125600@centralaroostookchamber.com
SUMMARY:Caribou Farmer's Market
DESCRIPTION:
URL:https://centralaroostookchamber.com/community-event/caribou-farmers-market/2024-11-20/
LOCATION:Bennett Drive Plaza\, 159 Bennett Drive\, Caribou\, 04736\, United States
END:VEVENT
BEGIN:VEVENT
DTSTART;TZID=America/New_York:20241122T130000
DTEND;TZID=America/New_York:20241122T180000
DTSTAMP:20260423T194323
CREATED:20240331T184715Z
LAST-MODIFIED:20240331T190003Z
UID:10000877-1732280400-1732298400@centralaroostookchamber.com
SUMMARY:Riverside Park Farmer's Market
DESCRIPTION:
URL:https://centralaroostookchamber.com/community-event/riverside-park-farmers-market/2024-11-22/
LOCATION:Riverside Park\, Fort Kent\, East Main Street\, Fort Kent\, 04743\, United States
END:VEVENT
BEGIN:VEVENT
DTSTART;TZID=America/New_York:20241122T190000
DTEND;TZID=America/New_York:20241122T210000
DTSTAMP:20260423T194323
CREATED:20241025T164203Z
LAST-MODIFIED:20241025T164203Z
UID:10001492-1732302000-1732309200@centralaroostookchamber.com
SUMMARY:The Lightning Thief\, a Percy Jackson Musical
DESCRIPTION:Join us for the 2024 musical performance from the Presque Isle High School SHIPmates Playhouse team. This November we will be performing The Lightning Thief\, a Percy Jackson Musical\, based on the hit book series by Rick Riordan\, which has also seen a recent show adaptation by Disney. Tickets can be purchased ahead of the shows at PIHS or Goin’ Postal in Presque Isle\, or purchased at the door.
URL:https://centralaroostookchamber.com/community-event/the-lightning-thief-a-percy-jackson-musical/2024-11-22/
LOCATION:Presque Isle High School Auditorium\, 16 Griffin Street\, Presque Isle\, 04769\, United States
ATTACH;FMTTYPE=image/webp:https://centralaroostookchamber.com/wp-content/uploads/2024/10/Full-Poster.webp
END:VEVENT
BEGIN:VEVENT
DTSTART;TZID=America/New_York:20241123T070000
DTEND;TZID=America/New_York:20241123T120000
DTSTAMP:20260423T194323
CREATED:20240331T185012Z
LAST-MODIFIED:20240331T185950Z
UID:10001035-1732345200-1732363200@centralaroostookchamber.com
SUMMARY:Riverside Park Farmer's Market
DESCRIPTION:
URL:https://centralaroostookchamber.com/community-event/riverside-park-farmers-market-2/2024-11-23/
LOCATION:Riverside Park\, Fort Kent\, East Main Street\, Fort Kent\, 04743\, United States
END:VEVENT
BEGIN:VEVENT
DTSTART;TZID=America/New_York:20241123T080000
DTEND;TZID=America/New_York:20241123T170000
DTSTAMP:20260423T194323
CREATED:20241025T164203Z
LAST-MODIFIED:20241025T164203Z
UID:10001496-1732348800-1732381200@centralaroostookchamber.com
SUMMARY:The Lightning Thief\, a Percy Jackson Musical
DESCRIPTION:Join us for the 2024 musical performance from the Presque Isle High School SHIPmates Playhouse team. This November we will be performing The Lightning Thief\, a Percy Jackson Musical\, based on the hit book series by Rick Riordan\, which has also seen a recent show adaptation by Disney. Tickets can be purchased ahead of the shows at PIHS or Goin’ Postal in Presque Isle\, or purchased at the door.
URL:https://centralaroostookchamber.com/community-event/the-lightning-thief-a-percy-jackson-musical/2024-11-23/1/
LOCATION:Presque Isle High School Auditorium\, 16 Griffin Street\, Presque Isle\, 04769\, United States
ATTACH;FMTTYPE=image/webp:https://centralaroostookchamber.com/wp-content/uploads/2024/10/Full-Poster.webp
END:VEVENT
BEGIN:VEVENT
DTSTART;TZID=America/New_York:20241123T080000
DTEND;TZID=America/New_York:20241123T170000
DTSTAMP:20260423T194323
CREATED:20240331T185514Z
LAST-MODIFIED:20240331T185940Z
UID:10001111-1732348800-1732381200@centralaroostookchamber.com
SUMMARY:Houlton Community Farmer's Market
DESCRIPTION:
URL:https://centralaroostookchamber.com/community-event/houlton-community-farmers-market/2024-11-23/
LOCATION:Market Square\, Houlton\, Market Square\, Houlton\, 04730\, United States
END:VEVENT
BEGIN:VEVENT
DTSTART;TZID=America/New_York:20241123T140000
DTEND;TZID=America/New_York:20241123T160000
DTSTAMP:20260423T194323
CREATED:20241025T164203Z
LAST-MODIFIED:20241025T164203Z
UID:10001493-1732370400-1732377600@centralaroostookchamber.com
SUMMARY:The Lightning Thief\, a Percy Jackson Musical
DESCRIPTION:Join us for the 2024 musical performance from the Presque Isle High School SHIPmates Playhouse team. This November we will be performing The Lightning Thief\, a Percy Jackson Musical\, based on the hit book series by Rick Riordan\, which has also seen a recent show adaptation by Disney. Tickets can be purchased ahead of the shows at PIHS or Goin’ Postal in Presque Isle\, or purchased at the door.
URL:https://centralaroostookchamber.com/community-event/the-lightning-thief-a-percy-jackson-musical/2024-11-23/2/
LOCATION:Presque Isle High School Auditorium\, 16 Griffin Street\, Presque Isle\, 04769\, United States
ATTACH;FMTTYPE=image/webp:https://centralaroostookchamber.com/wp-content/uploads/2024/10/Full-Poster.webp
END:VEVENT
BEGIN:VEVENT
DTSTART;TZID=America/New_York:20241124T140000
DTEND;TZID=America/New_York:20241124T160000
DTSTAMP:20260423T194323
CREATED:20241025T164203Z
LAST-MODIFIED:20241025T164203Z
UID:10001495-1732456800-1732464000@centralaroostookchamber.com
SUMMARY:The Lightning Thief\, a Percy Jackson Musical
DESCRIPTION:Join us for the 2024 musical performance from the Presque Isle High School SHIPmates Playhouse team. This November we will be performing The Lightning Thief\, a Percy Jackson Musical\, based on the hit book series by Rick Riordan\, which has also seen a recent show adaptation by Disney. Tickets can be purchased ahead of the shows at PIHS or Goin’ Postal in Presque Isle\, or purchased at the door.
URL:https://centralaroostookchamber.com/community-event/the-lightning-thief-a-percy-jackson-musical/2024-11-24/
LOCATION:Presque Isle High School Auditorium\, 16 Griffin Street\, Presque Isle\, 04769\, United States
ATTACH;FMTTYPE=image/webp:https://centralaroostookchamber.com/wp-content/uploads/2024/10/Full-Poster.webp
END:VEVENT
BEGIN:VEVENT
DTSTART;TZID=America/New_York:20241126T143000
DTEND;TZID=America/New_York:20241126T160000
DTSTAMP:20260423T194323
CREATED:20240331T144456Z
LAST-MODIFIED:20240331T144456Z
UID:10000307-1732631400-1732636800@centralaroostookchamber.com
SUMMARY:Public Youth Art Group
DESCRIPTION:The Youth Peer Support Statewide Network (Youth Peer Support Statewide Network | Maine Behavioral Healthcare | Maine (mainehealth.org)) is a growing resource open to any Youth (ages 14 – 26) who reside in Maine and self-identify as having struggled with Mental Health challenges. \nThe YPSSN welcomes Aroostook County Youth to participate in the free\, weekly Art Group\, at the Mark and Emily Turner Memorial Library! You do not have to work with one of our Peer Partners to participate in this recurring event\, it’s free\, and we provide snacks! Just show up\, bring some curiosity\, and let’s make Art! \nArt Supplies and Snacks are provided for free when in attendance at the weekly Art Group. Parental supervision is not required\, but the participants must meet the following criteria:  \n\n1. Be between the ages of 14 – 26\n2. Self-identify as having Mental Health struggles. NO DIAGNOSIS needed.\n3. Be a Maine resident. If you’re an unhoused community member in Maine\, we have open arms and Welcome you! \nHope to see you at the next YPSSN Art Group! \n\nLocation Mark and Emily Turner Memorial Library
URL:https://centralaroostookchamber.com/community-event/public-youth-art-group/2024-11-26/
LOCATION:Mark and Emily Turner Memorial Library\, 39 2nd Street\, Presque Isle\, 04769\, United States
END:VEVENT
BEGIN:VEVENT
DTSTART;TZID=America/New_York:20241127T100000
DTEND;TZID=America/New_York:20241127T180000
DTSTAMP:20260423T194323
CREATED:20240331T183449Z
LAST-MODIFIED:20240331T190024Z
UID:10000723-1732701600-1732730400@centralaroostookchamber.com
SUMMARY:Caribou Farmer's Market
DESCRIPTION:
URL:https://centralaroostookchamber.com/community-event/caribou-farmers-market/2024-11-27/
LOCATION:Bennett Drive Plaza\, 159 Bennett Drive\, Caribou\, 04736\, United States
END:VEVENT
BEGIN:VEVENT
DTSTART;TZID=America/New_York:20241129T130000
DTEND;TZID=America/New_York:20241129T180000
DTSTAMP:20260423T194323
CREATED:20240331T184715Z
LAST-MODIFIED:20240331T190003Z
UID:10000878-1732885200-1732903200@centralaroostookchamber.com
SUMMARY:Riverside Park Farmer's Market
DESCRIPTION:
URL:https://centralaroostookchamber.com/community-event/riverside-park-farmers-market/2024-11-29/
LOCATION:Riverside Park\, Fort Kent\, East Main Street\, Fort Kent\, 04743\, United States
END:VEVENT
END:VCALENDAR