BEGIN:VCALENDAR
VERSION:2.0
PRODID:-//Central Aroostook Chamber of Commerce - ECPv6.15.20//NONSGML v1.0//EN
CALSCALE:GREGORIAN
METHOD:PUBLISH
X-WR-CALNAME:Central Aroostook Chamber of Commerce
X-ORIGINAL-URL:https://centralaroostookchamber.com
X-WR-CALDESC:Events for Central Aroostook Chamber of Commerce
REFRESH-INTERVAL;VALUE=DURATION:PT1H
X-Robots-Tag:noindex
X-PUBLISHED-TTL:PT1H
BEGIN:VTIMEZONE
TZID:America/New_York
BEGIN:DAYLIGHT
TZOFFSETFROM:-0500
TZOFFSETTO:-0400
TZNAME:EDT
DTSTART:20230312T070000
END:DAYLIGHT
BEGIN:STANDARD
TZOFFSETFROM:-0400
TZOFFSETTO:-0500
TZNAME:EST
DTSTART:20231105T060000
END:STANDARD
BEGIN:DAYLIGHT
TZOFFSETFROM:-0500
TZOFFSETTO:-0400
TZNAME:EDT
DTSTART:20240310T070000
END:DAYLIGHT
BEGIN:STANDARD
TZOFFSETFROM:-0400
TZOFFSETTO:-0500
TZNAME:EST
DTSTART:20241103T060000
END:STANDARD
BEGIN:DAYLIGHT
TZOFFSETFROM:-0500
TZOFFSETTO:-0400
TZNAME:EDT
DTSTART:20250309T070000
END:DAYLIGHT
BEGIN:STANDARD
TZOFFSETFROM:-0400
TZOFFSETTO:-0500
TZNAME:EST
DTSTART:20251102T060000
END:STANDARD
END:VTIMEZONE
BEGIN:VEVENT
DTSTART;TZID=America/New_York:20240914T140000
DTEND;TZID=America/New_York:20240914T170000
DTSTAMP:20260422T204433
CREATED:20240903T150109Z
LAST-MODIFIED:20240903T150109Z
UID:10001364-1726322400-1726333200@centralaroostookchamber.com
SUMMARY:The County's Oktoberfest
DESCRIPTION:The County’s 4th Annual Oktoberfest! \nSeptember 14th 2024\, from 2 p.m. – 5 p.m. VIP Hour 1 p.m. – 2 p.m. \nBeing held at the Caribou Municipal Airport\n12 Airport Dr Caribou\, ME 04736 \nFeaturing specialty brews from our local brewers\, First Mile\, Parkhurst Siding Pub\, Rodney’s at 436 Main and the Northern Maine Brewing Company alongside Orono Brewing Company\, Geaghan Brother’s Brewing Company\, Chester Gap Cellars\, Heart of Maine Winery\, Mason’s Brewing Company \nFood trucks! \nMusic!
URL:https://centralaroostookchamber.com/community-event/the-countys-oktoberfest/
LOCATION:Caribou Municipal Airport\, 12 Airport Dr\, Caribou\, 04736\, United States
ORGANIZER;CN="Central Aroostook Chamber of Commerce":MAILTO:info@centralaroostookchamber.com
END:VEVENT
BEGIN:VEVENT
DTSTART;VALUE=DATE:20240915
DTEND;VALUE=DATE:20240922
DTSTAMP:20260422T204433
CREATED:20240617T185400Z
LAST-MODIFIED:20240617T185400Z
UID:10001179-1726358400-1726963199@centralaroostookchamber.com
SUMMARY:UMPI Homecoming 2024
DESCRIPTION:Welcome Home Owls & Friends!\nWe are pleased to welcome you back to campus from September 9th – 15th for Spirit Week and Alumni\, Family\, and Friends Weekend! Save the date\, read on for the schedule of events\, and check back for more details and updates. We hope to see you this fall! \nUMPI Homecoming 2024\nofficial schedule of events\nAll events are free and open to the public unless otherwise noted. \nMonday\, September 9th\nSpirit Week Activity: UMPI Blue Day\nAll day\nWear your UMPI Blue today! All are encouraged to post photos on social media and use the “#umpispiritweek2024” hashtag. \nTuesday\, September 10th\nSpirit Week Activity: UMPI Gold Day\nAll day\nWear your UMPI Gold today! All are encouraged to post photos on social media and use the “#umpispiritweek2024” hashtag. \nWednesday\, September 11th\nSpirit Week Activity: UMPI Major Day\nAll day\nWear or share an item related to your major or take a photo of yourself working in the field! All are encouraged to post photos on social media and use the “#umpispiritweek2024” hashtag. \nThursday\, September 12th\nSpirit Week Activity: UMPI Sport Day\nAll day\nShow off your UMPI Spirit! Wear gear supporting your favorite UMPI Sports team (UMPI colors and/or sport item counts). All are encouraged to post photos on social media and use the “#umpispiritweek2024” hashtag. \nPreble Hall Open House\nAll day\, Preble Hall\nPlease stop by Preble Hall to visit the offices and staff. There will be goodies to eat and drink and a gift basket raffle. \nConvocation and BBQ Lunch\n11 a.m.-1:30 p.m.\, Wieden Hall\nJoin us for our annual Convocation event where we welcome our incoming class and celebrate all UMPI Owls. A BBQ lunch will follow\, outside Wieden Hall\, weather permitting. \nLawn games and Spirit Spin\n2-4 p.m.\, Campus Center (rain location: Owl’s Nest/Clubhouse)\nSpin the wheel for UMPI swag and enjoy games on the lawn. Everyone welcome! \nWomen’s Basketball Spaghetti Supper Fundraiser\n4:30-6 p.m.\, Campus Center MPR\nEnjoy delicious spaghetti\, salad\, rolls\, and homemade desserts. Cost is $10 per person and there will be a 50/50 raffle. \nLip Sync Battle\n6:30 p.m.\, Campus Center MPR\nCalling all music lovers! UMPI students\, faculty\, and staff will be competing for prizes and bragging rights during this third annual event. There is absolutely no singing allowed but dance moves and spot-on lip syncing are encouraged. Mark your calendars! \nFriday\, September 13th\nSpirit Week Activity: UMPI Memories Day\nAll day\nShare your favorite UMPI memory! All are encouraged to post photos on social media and use the “#umpispiritweek2024” hashtag. \nLawn games and Spirit Spin\n12-2 p.m.\, Campus Center (rain location: Owl’s Nest/Clubhouse)\nSpin the wheel for UMPI swag and enjoy games on the lawn. Everyone welcome! \nPunch and Paint event\n2-4 p.m.\, Campus Center – Student Clubhouse\nEnjoy a paint project while you sip a slushie. \nThe ‘UMPI Game’\n4-5 p.m\, Center for Innovative Learning\nA brand new event\, hosted by Allen Morrill. \nNacho Bingo\n5-7 p.m.\, Kelley Commons\nEnjoy an evening of Bingo with a twist–in addition to some great prizes\, there will be a full nacho bar available. \nWomen’s Volleyball vs. UMFK (Doubleheader)\n5 p.m. and 7 p.m.\, Wieden Gym \nRide the Cyclone (musical comedy)\nPerformance by Presque Isle Community Players\n7 p.m. (doors open at 6:30 p.m.)\, Wieden Hall – Gauvin Family Center for Cultural Arts\nThe Presque Isle Community Players present a brand new show for campus and the community. Tickets are $15; FREE for UMPI students with proper ID. \nSaturday\, September 14th\nFaculty Radio Interview\n9 a.m.\nTune in to WUPI 92.1 FM to hear Evan Zarkadas\, President of the UMPI Alumni Association\, talk with a faculty member and a student about their current research. \nGreenhouse Open House\n9-11 a.m.\, Zillman Family Greenhouse\nPlease stop by the Zillman Family Greenhouse to visit the offices and staff. There will be goodies to eat and drink\, a petting zoo\, and a fun family activity for all visitors to enjoy. \nSnowy Owl Marketplace\n9 a.m.-3 p.m.\, Gentile Hall\nThis Homecoming favorite returns! The Snowy Owl Marketplace will feature a full slate of crafters and artisans\, live music\, food\, and more. From 11 a.m.-12 p.m.\, enjoy a Snowy Owl Art Battle–prepare to bid on your favorite painting! \nMolly the Trolley across campus\n10 a.m.-12 p.m.\, Meeting location: Gentile Hall parking lot\nHistorical tour covering various aspects of UMPI’s history. Kim Smith will serve as tour guide. \nMen’s Soccer vs. Maine Maritime Academy\n1 p.m.\, Park Family Field \nWomen’s Soccer vs. Maine Maritime Academy\n3:30 p.m.\, Park Family Field \nBlue and Gold Alumni Awards Dinner\n5:30 p.m.\, Campus Center MPR\nFree social highlighting the 10th\, 25th\, 50th\, and 50+ classes at 5:30 p.m. Cash bar available (21 and older with proper ID). Buffet dinner at 6 p.m.\, followed by the program beginning at 6:45 p.m. Buffet dinner tickets are $40 per person; please RSVP to Laurie Boucher at 207-768-9512 or laurie.boucher@maine.edu. \nRide the Cyclone (musical comedy)\nPerformance by Presque Isle Community Players\n7 p.m. (doors open at 6:30 p.m.)\, Wieden Hall – Gauvin Family Center for Cultural Arts\nThe Presque Isle Community Players present a brand new show for campus and the community. Tickets are $15; FREE for UMPI students with proper ID. \nSunday\, September 15th\nAlumni Soccer Games\nTimes TBD\, Park Family Field \nRide the Cyclone (musical comedy)\nPerformance by Presque Isle Community Players\n2 p.m. (doors open at 1:30 p.m.)\, Wieden Hall – Gauvin Family Center for Cultural Arts\nThe Presque Isle Community Players present a brand new show for campus and the community. Tickets are $15; FREE for UMPI students with proper ID.
URL:https://centralaroostookchamber.com/community-event/umpi-homecoming-2024/2024-09-15/
LOCATION:University of Maine at Presque Isle\, 181 Main Street\, Presque Isle\, 04769\, United States
ATTACH;FMTTYPE=image/webp:https://centralaroostookchamber.com/wp-content/uploads/2024/06/UMPI-2024-Homecoming-Schedule-flyer-v06.webp
ORGANIZER;CN="University of Maine at Presque Isle (UMPI)":MAILTO:dylan.m.ouellette@maine.edu
END:VEVENT
BEGIN:VEVENT
DTSTART;VALUE=DATE:20240916
DTEND;VALUE=DATE:20240917
DTSTAMP:20260422T204433
CREATED:20240331T150020Z
LAST-MODIFIED:20240331T150020Z
UID:10000600-1726444800-1726531199@centralaroostookchamber.com
SUMMARY:American Legion Monthly Meeting - Skyway Industrial Park
DESCRIPTION:Supper with a business meeting to follow. \nAuxiliary Members\, Wives\, and Guests are always welcome.
URL:https://centralaroostookchamber.com/community-event/american-legion-monthly-meeting-skyway-industrial-park/2024-09-16/
END:VEVENT
BEGIN:VEVENT
DTSTART;TZID=America/New_York:20240917T143000
DTEND;TZID=America/New_York:20240917T160000
DTSTAMP:20260422T204433
CREATED:20240331T144456Z
LAST-MODIFIED:20240331T144456Z
UID:10000297-1726583400-1726588800@centralaroostookchamber.com
SUMMARY:Public Youth Art Group
DESCRIPTION:The Youth Peer Support Statewide Network (Youth Peer Support Statewide Network | Maine Behavioral Healthcare | Maine (mainehealth.org)) is a growing resource open to any Youth (ages 14 – 26) who reside in Maine and self-identify as having struggled with Mental Health challenges. \nThe YPSSN welcomes Aroostook County Youth to participate in the free\, weekly Art Group\, at the Mark and Emily Turner Memorial Library! You do not have to work with one of our Peer Partners to participate in this recurring event\, it’s free\, and we provide snacks! Just show up\, bring some curiosity\, and let’s make Art! \nArt Supplies and Snacks are provided for free when in attendance at the weekly Art Group. Parental supervision is not required\, but the participants must meet the following criteria:  \n\n1. Be between the ages of 14 – 26\n2. Self-identify as having Mental Health struggles. NO DIAGNOSIS needed.\n3. Be a Maine resident. If you’re an unhoused community member in Maine\, we have open arms and Welcome you! \nHope to see you at the next YPSSN Art Group! \n\nLocation Mark and Emily Turner Memorial Library
URL:https://centralaroostookchamber.com/community-event/public-youth-art-group/2024-09-17/
LOCATION:Mark and Emily Turner Memorial Library\, 39 2nd Street\, Presque Isle\, 04769\, United States
END:VEVENT
BEGIN:VEVENT
DTSTART;TZID=America/New_York:20240918T100000
DTEND;TZID=America/New_York:20240918T180000
DTSTAMP:20260422T204433
CREATED:20240331T183449Z
LAST-MODIFIED:20240331T190024Z
UID:10000713-1726653600-1726682400@centralaroostookchamber.com
SUMMARY:Caribou Farmer's Market
DESCRIPTION:
URL:https://centralaroostookchamber.com/community-event/caribou-farmers-market/2024-09-18/
LOCATION:Bennett Drive Plaza\, 159 Bennett Drive\, Caribou\, 04736\, United States
END:VEVENT
BEGIN:VEVENT
DTSTART;TZID=America/New_York:20240920T130000
DTEND;TZID=America/New_York:20240920T180000
DTSTAMP:20260422T204433
CREATED:20240331T184715Z
LAST-MODIFIED:20240331T190003Z
UID:10000868-1726837200-1726855200@centralaroostookchamber.com
SUMMARY:Riverside Park Farmer's Market
DESCRIPTION:
URL:https://centralaroostookchamber.com/community-event/riverside-park-farmers-market/2024-09-20/
LOCATION:Riverside Park\, Fort Kent\, East Main Street\, Fort Kent\, 04743\, United States
END:VEVENT
BEGIN:VEVENT
DTSTART;VALUE=DATE:20240921
DTEND;VALUE=DATE:20240923
DTSTAMP:20260422T204433
CREATED:20240904T200216Z
LAST-MODIFIED:20240904T200216Z
UID:10001366-1726876800-1727049599@centralaroostookchamber.com
SUMMARY:Fall Fest Community Wide Yard Sale
DESCRIPTION:Visit the towns of our coverage area from Cyr Plantation\, Frenchville\, Grand Isle\, Madawaska\, Sinclair\, St. Agatha\, St. David and Van Buren.\n$20 fee to host a yard/garage sale that includes the borrowing of a large\, yellow yard sale sign\, listing in our yard sale map\, and advertising.
URL:https://centralaroostookchamber.com/community-event/fall-fest-community-wide-yard-sale/
LOCATION:St. John Valley Chamber of Commerce & Tourism
ATTACH;FMTTYPE=image/webp:https://centralaroostookchamber.com/wp-content/uploads/2024/09/Flyer-Community-Wide-Yard-Sale-Fall-Fest-2024.webp
ORGANIZER;CN="St. John Valley Chamber of Commerce &amp%3B Tourism":MAILTO:info@stjohnvalleychamber.org
END:VEVENT
BEGIN:VEVENT
DTSTART;TZID=America/New_York:20240921T070000
DTEND;TZID=America/New_York:20240921T120000
DTSTAMP:20260422T204433
CREATED:20240331T185012Z
LAST-MODIFIED:20240331T185950Z
UID:10001026-1726902000-1726920000@centralaroostookchamber.com
SUMMARY:Riverside Park Farmer's Market
DESCRIPTION:
URL:https://centralaroostookchamber.com/community-event/riverside-park-farmers-market-2/2024-09-21/
LOCATION:Riverside Park\, Fort Kent\, East Main Street\, Fort Kent\, 04743\, United States
END:VEVENT
BEGIN:VEVENT
DTSTART;TZID=America/New_York:20240921T080000
DTEND;TZID=America/New_York:20240921T170000
DTSTAMP:20260422T204433
CREATED:20240331T185514Z
LAST-MODIFIED:20240331T185940Z
UID:10001102-1726905600-1726938000@centralaroostookchamber.com
SUMMARY:Houlton Community Farmer's Market
DESCRIPTION:
URL:https://centralaroostookchamber.com/community-event/houlton-community-farmers-market/2024-09-21/
LOCATION:Market Square\, Houlton\, Market Square\, Houlton\, 04730\, United States
END:VEVENT
BEGIN:VEVENT
DTSTART;TZID=America/New_York:20240921T083000
DTEND;TZID=America/New_York:20240921T123000
DTSTAMP:20260422T204433
CREATED:20240331T175429Z
LAST-MODIFIED:20240331T183526Z
UID:10000679-1726907400-1726921800@centralaroostookchamber.com
SUMMARY:Presque Isle Farmer's Market
DESCRIPTION:
URL:https://centralaroostookchamber.com/community-event/presque-isle-farmers-market/2024-09-21/
LOCATION:Riverside Pavillion\, Presque Isle\, 19 Riverside Drive\, Presque Isle\, 04769\, United States
END:VEVENT
BEGIN:VEVENT
DTSTART;TZID=America/New_York:20240924T143000
DTEND;TZID=America/New_York:20240924T160000
DTSTAMP:20260422T204433
CREATED:20240331T144456Z
LAST-MODIFIED:20240331T144456Z
UID:10000298-1727188200-1727193600@centralaroostookchamber.com
SUMMARY:Public Youth Art Group
DESCRIPTION:The Youth Peer Support Statewide Network (Youth Peer Support Statewide Network | Maine Behavioral Healthcare | Maine (mainehealth.org)) is a growing resource open to any Youth (ages 14 – 26) who reside in Maine and self-identify as having struggled with Mental Health challenges. \nThe YPSSN welcomes Aroostook County Youth to participate in the free\, weekly Art Group\, at the Mark and Emily Turner Memorial Library! You do not have to work with one of our Peer Partners to participate in this recurring event\, it’s free\, and we provide snacks! Just show up\, bring some curiosity\, and let’s make Art! \nArt Supplies and Snacks are provided for free when in attendance at the weekly Art Group. Parental supervision is not required\, but the participants must meet the following criteria:  \n\n1. Be between the ages of 14 – 26\n2. Self-identify as having Mental Health struggles. NO DIAGNOSIS needed.\n3. Be a Maine resident. If you’re an unhoused community member in Maine\, we have open arms and Welcome you! \nHope to see you at the next YPSSN Art Group! \n\nLocation Mark and Emily Turner Memorial Library
URL:https://centralaroostookchamber.com/community-event/public-youth-art-group/2024-09-24/
LOCATION:Mark and Emily Turner Memorial Library\, 39 2nd Street\, Presque Isle\, 04769\, United States
END:VEVENT
BEGIN:VEVENT
DTSTART;TZID=America/New_York:20240925T090000
DTEND;TZID=America/New_York:20240925T170000
DTSTAMP:20260422T204433
CREATED:20240903T145733Z
LAST-MODIFIED:20240903T145733Z
UID:10001363-1727254800-1727283600@centralaroostookchamber.com
SUMMARY:Apple Crisp Sale
DESCRIPTION:What better way to celebrate the first days of autumn than with some mouthwatering Apple Crisp! The Central Aroostook Chamber of Commerce will be offering Apple Crisps on September 25th\, 2024 for just $5.00 each. Come by the North Street Plaza from 9 a.m. until sold out!
URL:https://centralaroostookchamber.com/community-event/apple-crisp-sale/
LOCATION:North Street Plaza\, North St\, Presque Isle\, 04769\, United States
ORGANIZER;CN="Central Aroostook Chamber of Commerce":MAILTO:info@centralaroostookchamber.com
END:VEVENT
BEGIN:VEVENT
DTSTART;TZID=America/New_York:20240925T100000
DTEND;TZID=America/New_York:20240925T180000
DTSTAMP:20260422T204433
CREATED:20240331T183449Z
LAST-MODIFIED:20240331T190024Z
UID:10000714-1727258400-1727287200@centralaroostookchamber.com
SUMMARY:Caribou Farmer's Market
DESCRIPTION:
URL:https://centralaroostookchamber.com/community-event/caribou-farmers-market/2024-09-25/
LOCATION:Bennett Drive Plaza\, 159 Bennett Drive\, Caribou\, 04736\, United States
END:VEVENT
BEGIN:VEVENT
DTSTART;TZID=America/New_York:20240927T130000
DTEND;TZID=America/New_York:20240927T180000
DTSTAMP:20260422T204433
CREATED:20240331T184715Z
LAST-MODIFIED:20240331T190003Z
UID:10000869-1727442000-1727460000@centralaroostookchamber.com
SUMMARY:Riverside Park Farmer's Market
DESCRIPTION:
URL:https://centralaroostookchamber.com/community-event/riverside-park-farmers-market/2024-09-27/
LOCATION:Riverside Park\, Fort Kent\, East Main Street\, Fort Kent\, 04743\, United States
END:VEVENT
BEGIN:VEVENT
DTSTART;TZID=America/New_York:20240928T070000
DTEND;TZID=America/New_York:20240928T120000
DTSTAMP:20260422T204433
CREATED:20240331T185012Z
LAST-MODIFIED:20240331T185950Z
UID:10001027-1727506800-1727524800@centralaroostookchamber.com
SUMMARY:Riverside Park Farmer's Market
DESCRIPTION:
URL:https://centralaroostookchamber.com/community-event/riverside-park-farmers-market-2/2024-09-28/
LOCATION:Riverside Park\, Fort Kent\, East Main Street\, Fort Kent\, 04743\, United States
END:VEVENT
BEGIN:VEVENT
DTSTART;TZID=America/New_York:20240928T080000
DTEND;TZID=America/New_York:20240928T170000
DTSTAMP:20260422T204433
CREATED:20240331T185514Z
LAST-MODIFIED:20240331T185940Z
UID:10001103-1727510400-1727542800@centralaroostookchamber.com
SUMMARY:Houlton Community Farmer's Market
DESCRIPTION:
URL:https://centralaroostookchamber.com/community-event/houlton-community-farmers-market/2024-09-28/
LOCATION:Market Square\, Houlton\, Market Square\, Houlton\, 04730\, United States
END:VEVENT
BEGIN:VEVENT
DTSTART;TZID=America/New_York:20240928T083000
DTEND;TZID=America/New_York:20240928T123000
DTSTAMP:20260422T204433
CREATED:20240331T175429Z
LAST-MODIFIED:20240331T183526Z
UID:10000680-1727512200-1727526600@centralaroostookchamber.com
SUMMARY:Presque Isle Farmer's Market
DESCRIPTION:
URL:https://centralaroostookchamber.com/community-event/presque-isle-farmers-market/2024-09-28/
LOCATION:Riverside Pavillion\, Presque Isle\, 19 Riverside Drive\, Presque Isle\, 04769\, United States
END:VEVENT
BEGIN:VEVENT
DTSTART;TZID=America/New_York:20240930T080000
DTEND;TZID=America/New_York:20240930T170000
DTSTAMP:20260422T204433
CREATED:20240731T191659Z
LAST-MODIFIED:20240731T191659Z
UID:10001358-1727683200-1727715600@centralaroostookchamber.com
SUMMARY:Join the Maine Women’s Business List – Sign Up Event
DESCRIPTION:The CEI Women’s Business Center has relaunched the Maine Women’s Business List\, a free\, public\, searchable directory specifically for women owned businesses across the state! \nThis initiative aims to enhance your customer visibility\, networking opportunities\, and promote collaboration among female entrepreneurs like yourself. \nWe invite you to join the Maine Women’s Business List today! Registration is totally free\, and only takes 15 minutes. \nTo join\, please visit the Maine Women’s Business List and fill out the registration form! By joining\, you’ll not only increase your businesses visibility\, but also contribute to a growing community of women entrepreneurs in Maine. Submit Your Business – Woman Owned Businesses in Maine (mainewomensbusinesslist.com). \nBe a part of this initiative to empower and celebrate women in business in Maine. \nIf you run into any problems or have any questions\, we are here to help! Please contact WomanOwned@ceimaine.org. \nRegister for Free Today!
URL:https://centralaroostookchamber.com/community-event/join-the-maine-womens-business-list-sign-up-event/
ATTACH;FMTTYPE=image/webp:https://centralaroostookchamber.com/wp-content/uploads/2024/07/MWBL-Promo.webp
END:VEVENT
BEGIN:VEVENT
DTSTART;TZID=America/New_York:20241001T143000
DTEND;TZID=America/New_York:20241001T160000
DTSTAMP:20260422T204433
CREATED:20240331T144456Z
LAST-MODIFIED:20240331T144456Z
UID:10000299-1727793000-1727798400@centralaroostookchamber.com
SUMMARY:Public Youth Art Group
DESCRIPTION:The Youth Peer Support Statewide Network (Youth Peer Support Statewide Network | Maine Behavioral Healthcare | Maine (mainehealth.org)) is a growing resource open to any Youth (ages 14 – 26) who reside in Maine and self-identify as having struggled with Mental Health challenges. \nThe YPSSN welcomes Aroostook County Youth to participate in the free\, weekly Art Group\, at the Mark and Emily Turner Memorial Library! You do not have to work with one of our Peer Partners to participate in this recurring event\, it’s free\, and we provide snacks! Just show up\, bring some curiosity\, and let’s make Art! \nArt Supplies and Snacks are provided for free when in attendance at the weekly Art Group. Parental supervision is not required\, but the participants must meet the following criteria:  \n\n1. Be between the ages of 14 – 26\n2. Self-identify as having Mental Health struggles. NO DIAGNOSIS needed.\n3. Be a Maine resident. If you’re an unhoused community member in Maine\, we have open arms and Welcome you! \nHope to see you at the next YPSSN Art Group! \n\nLocation Mark and Emily Turner Memorial Library
URL:https://centralaroostookchamber.com/community-event/public-youth-art-group/2024-10-01/
LOCATION:Mark and Emily Turner Memorial Library\, 39 2nd Street\, Presque Isle\, 04769\, United States
END:VEVENT
BEGIN:VEVENT
DTSTART;TZID=America/New_York:20241002T100000
DTEND;TZID=America/New_York:20241002T180000
DTSTAMP:20260422T204433
CREATED:20240331T183449Z
LAST-MODIFIED:20240331T190024Z
UID:10000715-1727863200-1727892000@centralaroostookchamber.com
SUMMARY:Caribou Farmer's Market
DESCRIPTION:
URL:https://centralaroostookchamber.com/community-event/caribou-farmers-market/2024-10-02/
LOCATION:Bennett Drive Plaza\, 159 Bennett Drive\, Caribou\, 04736\, United States
END:VEVENT
BEGIN:VEVENT
DTSTART;TZID=America/New_York:20241004T130000
DTEND;TZID=America/New_York:20241004T180000
DTSTAMP:20260422T204433
CREATED:20240331T184715Z
LAST-MODIFIED:20240331T190003Z
UID:10000870-1728046800-1728064800@centralaroostookchamber.com
SUMMARY:Riverside Park Farmer's Market
DESCRIPTION:
URL:https://centralaroostookchamber.com/community-event/riverside-park-farmers-market/2024-10-04/
LOCATION:Riverside Park\, Fort Kent\, East Main Street\, Fort Kent\, 04743\, United States
END:VEVENT
BEGIN:VEVENT
DTSTART;TZID=America/New_York:20241005T070000
DTEND;TZID=America/New_York:20241005T120000
DTSTAMP:20260422T204433
CREATED:20240331T185012Z
LAST-MODIFIED:20240331T185950Z
UID:10001028-1728111600-1728129600@centralaroostookchamber.com
SUMMARY:Riverside Park Farmer's Market
DESCRIPTION:
URL:https://centralaroostookchamber.com/community-event/riverside-park-farmers-market-2/2024-10-05/
LOCATION:Riverside Park\, Fort Kent\, East Main Street\, Fort Kent\, 04743\, United States
END:VEVENT
BEGIN:VEVENT
DTSTART;TZID=America/New_York:20241005T080000
DTEND;TZID=America/New_York:20241005T170000
DTSTAMP:20260422T204433
CREATED:20240331T185514Z
LAST-MODIFIED:20240331T185940Z
UID:10001104-1728115200-1728147600@centralaroostookchamber.com
SUMMARY:Houlton Community Farmer's Market
DESCRIPTION:
URL:https://centralaroostookchamber.com/community-event/houlton-community-farmers-market/2024-10-05/
LOCATION:Market Square\, Houlton\, Market Square\, Houlton\, 04730\, United States
END:VEVENT
BEGIN:VEVENT
DTSTART;TZID=America/New_York:20241005T083000
DTEND;TZID=America/New_York:20241005T123000
DTSTAMP:20260422T204433
CREATED:20240331T175429Z
LAST-MODIFIED:20240331T183526Z
UID:10000681-1728117000-1728131400@centralaroostookchamber.com
SUMMARY:Presque Isle Farmer's Market
DESCRIPTION:
URL:https://centralaroostookchamber.com/community-event/presque-isle-farmers-market/2024-10-05/
LOCATION:Riverside Pavillion\, Presque Isle\, 19 Riverside Drive\, Presque Isle\, 04769\, United States
END:VEVENT
BEGIN:VEVENT
DTSTART;TZID=America/New_York:20241005T170000
DTEND;TZID=America/New_York:20241005T200000
DTSTAMP:20260422T204433
CREATED:20241011T184802Z
LAST-MODIFIED:20241011T184803Z
UID:10001289-1728147600-1728158400@centralaroostookchamber.com
SUMMARY:First Friday Art Walk
DESCRIPTION:Join us in Beautiful downtown Presque Isle Maine while we have our First Friday Art Walk! This event happens year-round\, on the first Friday of every month. Join our local businesses as they celebrate and display local artisans. Refreshments are usually served\, and a flyer is available to show you which business to hit next on your walk. This is a fun event and is open and free to the public.
URL:https://centralaroostookchamber.com/community-event/first-friday-art-walk-2-2/
LOCATION:Presque Isle Maine\, Main Street\, Presque Isle\, 04769\, United States
ORGANIZER;CN="Central Aroostook Chamber of Commerce":MAILTO:info@centralaroostookchamber.com
END:VEVENT
BEGIN:VEVENT
DTSTART;TZID=America/New_York:20241008T143000
DTEND;TZID=America/New_York:20241008T160000
DTSTAMP:20260422T204433
CREATED:20240331T144456Z
LAST-MODIFIED:20240331T144456Z
UID:10000300-1728397800-1728403200@centralaroostookchamber.com
SUMMARY:Public Youth Art Group
DESCRIPTION:The Youth Peer Support Statewide Network (Youth Peer Support Statewide Network | Maine Behavioral Healthcare | Maine (mainehealth.org)) is a growing resource open to any Youth (ages 14 – 26) who reside in Maine and self-identify as having struggled with Mental Health challenges. \nThe YPSSN welcomes Aroostook County Youth to participate in the free\, weekly Art Group\, at the Mark and Emily Turner Memorial Library! You do not have to work with one of our Peer Partners to participate in this recurring event\, it’s free\, and we provide snacks! Just show up\, bring some curiosity\, and let’s make Art! \nArt Supplies and Snacks are provided for free when in attendance at the weekly Art Group. Parental supervision is not required\, but the participants must meet the following criteria:  \n\n1. Be between the ages of 14 – 26\n2. Self-identify as having Mental Health struggles. NO DIAGNOSIS needed.\n3. Be a Maine resident. If you’re an unhoused community member in Maine\, we have open arms and Welcome you! \nHope to see you at the next YPSSN Art Group! \n\nLocation Mark and Emily Turner Memorial Library
URL:https://centralaroostookchamber.com/community-event/public-youth-art-group/2024-10-08/
LOCATION:Mark and Emily Turner Memorial Library\, 39 2nd Street\, Presque Isle\, 04769\, United States
END:VEVENT
BEGIN:VEVENT
DTSTART;TZID=America/New_York:20241009T100000
DTEND;TZID=America/New_York:20241009T180000
DTSTAMP:20260422T204433
CREATED:20240331T183449Z
LAST-MODIFIED:20240331T190024Z
UID:10000716-1728468000-1728496800@centralaroostookchamber.com
SUMMARY:Caribou Farmer's Market
DESCRIPTION:
URL:https://centralaroostookchamber.com/community-event/caribou-farmers-market/2024-10-09/
LOCATION:Bennett Drive Plaza\, 159 Bennett Drive\, Caribou\, 04736\, United States
END:VEVENT
BEGIN:VEVENT
DTSTART;TZID=America/New_York:20241011T130000
DTEND;TZID=America/New_York:20241011T180000
DTSTAMP:20260422T204433
CREATED:20240331T184715Z
LAST-MODIFIED:20240331T190003Z
UID:10000871-1728651600-1728669600@centralaroostookchamber.com
SUMMARY:Riverside Park Farmer's Market
DESCRIPTION:
URL:https://centralaroostookchamber.com/community-event/riverside-park-farmers-market/2024-10-11/
LOCATION:Riverside Park\, Fort Kent\, East Main Street\, Fort Kent\, 04743\, United States
END:VEVENT
BEGIN:VEVENT
DTSTART;TZID=America/New_York:20241012T070000
DTEND;TZID=America/New_York:20241012T120000
DTSTAMP:20260422T204433
CREATED:20240331T185012Z
LAST-MODIFIED:20240331T185950Z
UID:10001029-1728716400-1728734400@centralaroostookchamber.com
SUMMARY:Riverside Park Farmer's Market
DESCRIPTION:
URL:https://centralaroostookchamber.com/community-event/riverside-park-farmers-market-2/2024-10-12/
LOCATION:Riverside Park\, Fort Kent\, East Main Street\, Fort Kent\, 04743\, United States
END:VEVENT
BEGIN:VEVENT
DTSTART;TZID=America/New_York:20241012T080000
DTEND;TZID=America/New_York:20241012T170000
DTSTAMP:20260422T204433
CREATED:20240331T185514Z
LAST-MODIFIED:20240331T185940Z
UID:10001105-1728720000-1728752400@centralaroostookchamber.com
SUMMARY:Houlton Community Farmer's Market
DESCRIPTION:
URL:https://centralaroostookchamber.com/community-event/houlton-community-farmers-market/2024-10-12/
LOCATION:Market Square\, Houlton\, Market Square\, Houlton\, 04730\, United States
END:VEVENT
END:VCALENDAR