BEGIN:VCALENDAR
VERSION:2.0
PRODID:-//Central Aroostook Chamber of Commerce - ECPv6.15.20//NONSGML v1.0//EN
CALSCALE:GREGORIAN
METHOD:PUBLISH
X-WR-CALNAME:Central Aroostook Chamber of Commerce
X-ORIGINAL-URL:https://centralaroostookchamber.com
X-WR-CALDESC:Events for Central Aroostook Chamber of Commerce
REFRESH-INTERVAL;VALUE=DURATION:PT1H
X-Robots-Tag:noindex
X-PUBLISHED-TTL:PT1H
BEGIN:VTIMEZONE
TZID:America/New_York
BEGIN:DAYLIGHT
TZOFFSETFROM:-0500
TZOFFSETTO:-0400
TZNAME:EDT
DTSTART:20230312T070000
END:DAYLIGHT
BEGIN:STANDARD
TZOFFSETFROM:-0400
TZOFFSETTO:-0500
TZNAME:EST
DTSTART:20231105T060000
END:STANDARD
BEGIN:DAYLIGHT
TZOFFSETFROM:-0500
TZOFFSETTO:-0400
TZNAME:EDT
DTSTART:20240310T070000
END:DAYLIGHT
BEGIN:STANDARD
TZOFFSETFROM:-0400
TZOFFSETTO:-0500
TZNAME:EST
DTSTART:20241103T060000
END:STANDARD
BEGIN:DAYLIGHT
TZOFFSETFROM:-0500
TZOFFSETTO:-0400
TZNAME:EDT
DTSTART:20250309T070000
END:DAYLIGHT
BEGIN:STANDARD
TZOFFSETFROM:-0400
TZOFFSETTO:-0500
TZNAME:EST
DTSTART:20251102T060000
END:STANDARD
END:VTIMEZONE
BEGIN:VEVENT
DTSTART;TZID=America/New_York:20240719T180000
DTEND;TZID=America/New_York:20240719T180000
DTSTAMP:20260419T211553
CREATED:20240619T141043Z
LAST-MODIFIED:20240619T141043Z
UID:10001248-1721412000-1721412000@centralaroostookchamber.com
SUMMARY:Pizza Night
DESCRIPTION:Music by Roy Tweedie and Nick Norton
URL:https://centralaroostookchamber.com/community-event/pizza-night-4/
LOCATION:Portage Hills Country Club\, 98 Country Club Ave/\, Portage Lake\, United States
END:VEVENT
BEGIN:VEVENT
DTSTART;TZID=America/New_York:20240720T070000
DTEND;TZID=America/New_York:20240720T120000
DTSTAMP:20260419T211553
CREATED:20240331T185012Z
LAST-MODIFIED:20240331T185950Z
UID:10001017-1721458800-1721476800@centralaroostookchamber.com
SUMMARY:Riverside Park Farmer's Market
DESCRIPTION:
URL:https://centralaroostookchamber.com/community-event/riverside-park-farmers-market-2/2024-07-20/
LOCATION:Riverside Park\, Fort Kent\, East Main Street\, Fort Kent\, 04743\, United States
END:VEVENT
BEGIN:VEVENT
DTSTART;TZID=America/New_York:20240720T080000
DTEND;TZID=America/New_York:20240720T170000
DTSTAMP:20260419T211553
CREATED:20240619T142036Z
LAST-MODIFIED:20240619T142036Z
UID:10001249-1721462400-1721494800@centralaroostookchamber.com
SUMMARY:Arts and Craft Fair
DESCRIPTION:Apart of the Maine Potato Blossom Festival
URL:https://centralaroostookchamber.com/community-event/arts-and-craft-fair/
LOCATION:Fields Lane\, Fort Fairfield\, United States
END:VEVENT
BEGIN:VEVENT
DTSTART;TZID=America/New_York:20240720T080000
DTEND;TZID=America/New_York:20240720T170000
DTSTAMP:20260419T211553
CREATED:20240331T185514Z
LAST-MODIFIED:20240331T185940Z
UID:10001093-1721462400-1721494800@centralaroostookchamber.com
SUMMARY:Houlton Community Farmer's Market
DESCRIPTION:
URL:https://centralaroostookchamber.com/community-event/houlton-community-farmers-market/2024-07-20/
LOCATION:Market Square\, Houlton\, Market Square\, Houlton\, 04730\, United States
END:VEVENT
BEGIN:VEVENT
DTSTART;TZID=America/New_York:20240720T083000
DTEND;TZID=America/New_York:20240720T123000
DTSTAMP:20260419T211553
CREATED:20240619T131829Z
LAST-MODIFIED:20240619T131829Z
UID:10001222-1721464200-1721478600@centralaroostookchamber.com
SUMMARY:Presque Isle Farmer's Market
DESCRIPTION:Homemade goods\, fresh produce\, and local vendors!
URL:https://centralaroostookchamber.com/community-event/presque-isle-farmers-market-3/2024-07-20/
LOCATION:Riverside Pavillion\, 19 Riverside Dr\, Presque Isle\, ME\, 04769\, United States
END:VEVENT
BEGIN:VEVENT
DTSTART;TZID=America/New_York:20240720T083000
DTEND;TZID=America/New_York:20240720T123000
DTSTAMP:20260419T211553
CREATED:20240331T175429Z
LAST-MODIFIED:20240331T183526Z
UID:10000670-1721464200-1721478600@centralaroostookchamber.com
SUMMARY:Presque Isle Farmer's Market
DESCRIPTION:
URL:https://centralaroostookchamber.com/community-event/presque-isle-farmers-market/2024-07-20/
LOCATION:Riverside Pavillion\, Presque Isle\, 19 Riverside Drive\, Presque Isle\, 04769\, United States
END:VEVENT
BEGIN:VEVENT
DTSTART;TZID=America/New_York:20240720T090000
DTEND;TZID=America/New_York:20240720T130000
DTSTAMP:20260419T211553
CREATED:20240619T131815Z
LAST-MODIFIED:20240619T131815Z
UID:10001230-1721466000-1721480400@centralaroostookchamber.com
SUMMARY:Fort Fairfield Community Market
DESCRIPTION:Homemade goods\, fresh produce\, and local vendors!
URL:https://centralaroostookchamber.com/community-event/fort-fairfield-community-market-2/2024-07-20/
LOCATION:284 Main St\, Fort Fairfield\, 284 Main St.\, Fort Fairfield\, 04742\, United States
END:VEVENT
BEGIN:VEVENT
DTSTART;TZID=America/New_York:20240720T110000
DTEND;TZID=America/New_York:20240720T120000
DTSTAMP:20260419T211553
CREATED:20240619T141112Z
LAST-MODIFIED:20240619T141112Z
UID:10001250-1721473200-1721476800@centralaroostookchamber.com
SUMMARY:Peter Rabbit Garden Party
DESCRIPTION:Hop through the Children’s Garden for music and a reading of Peter Rabbit! Featuring the musical talents of Tim ​Scheidler. “Now run along and don’t get into mischief.” -Beatrix Potter
URL:https://centralaroostookchamber.com/community-event/peter-rabbit-garden-party/
LOCATION:Mark and Emily Turner Memorial Library\, 39 2nd Street\, Presque Isle\, 04769\, United States
END:VEVENT
BEGIN:VEVENT
DTSTART;TZID=America/New_York:20240722T090000
DTEND;TZID=America/New_York:20240726T120000
DTSTAMP:20260419T211553
CREATED:20240521T133411Z
LAST-MODIFIED:20240521T133411Z
UID:10001167-1721638800-1721995200@centralaroostookchamber.com
SUMMARY:Free Girls Who Code Summer Camp
DESCRIPTION:Girls Who Code is a nationwide organization dedicated to closing the gender gap in technology through after-school clubs for middle school students\, summer immersion programs for 10th and 11th graders\, and a college program to connect alumni. Project>Login\, a signature program of Educate Maine\, is Maine’s Community Partner for Girls Who Code. This summer Project>Login is putting on 16 camps throughout the state all of which are FREE! \nJoin us for an exciting week of coding exploration at our Girls Who Code Summer Camp! Throughout the week\, participants dive into the world of coding\, developing foundational skills in a fun and supportive environment. \nHighlights of the camp include:\nEngaging coding sessions designed to spark creativity and problem-solving.\nInteractive activities and projects that foster collaboration and critical thinking.\nA captivating mid-week field trip\, providing hands-on exposure to technology in action.\nA culminating showcase on the last day\, where students proudly present their projects and accomplishments.\nDon’t miss out on this opportunity for your child to explore the exciting world of coding with Girls Who Code! \nSpace is limited\, once seats are filled there will be a waiting list. \nStudents must provide their own transportation to camp and bring their own laptop\, iPad or device. If transportation or technology is a barrier\, please email Shelby at shelby@educatemaine.org. We are happy to help accommodate.
URL:https://centralaroostookchamber.com/community-event/free-girls-who-code-summer-camp-2/
LOCATION:University of Maine at Presque Isle\, 181 Main Street\, Presque Isle\, 04769\, United States
ATTACH;FMTTYPE=image/webp:https://centralaroostookchamber.com/wp-content/uploads/2024/05/Screenshot-2024-05-16-at-11.24.02 AM.webp
ORGANIZER;CN="Educate Maine":MAILTO:pl_intern@educatemaine.edu
END:VEVENT
BEGIN:VEVENT
DTSTART;TZID=America/New_York:20240723T090000
DTEND;TZID=America/New_York:20240723T113000
DTSTAMP:20260419T211553
CREATED:20240619T141141Z
LAST-MODIFIED:20240619T141141Z
UID:10001251-1721725200-1721734200@centralaroostookchamber.com
SUMMARY:Barbie Camp
DESCRIPTION:Alright Barbie fans… it’s your turn! We’ve got another fun filled camp with all things PINK! Claim your spot now for a morning filled with dancing to your favorite Barbie music\, some awesome Barbie games\, and a fun Barbie craft! You don’t want to miss it! \nRegister Now – https://forms.gle/KxkpR43nPkicRQns5
URL:https://centralaroostookchamber.com/community-event/barbie-camp/
LOCATION:Moondance Studios\, 15 North St\, Presque Isle\, ME\, 04769\, United States
END:VEVENT
BEGIN:VEVENT
DTSTART;TZID=America/New_York:20240723T100000
DTEND;TZID=America/New_York:20240723T113000
DTSTAMP:20260419T211553
CREATED:20240619T141334Z
LAST-MODIFIED:20240619T141334Z
UID:10001252-1721728800-1721734200@centralaroostookchamber.com
SUMMARY:Wonder Women in Science
DESCRIPTION:Three Days 10-1130am – During the Wonder Women in Science Camp\, get to know 15 superwomen from the world of ​science over the years and recreate their experiments! Find out how to interpret an Xray and learn about radiation with ​Marie Curie\, extract and observe DNA from real fruit while discovering some curiosities from Rosalind Franklin and learn ​how to make a binary code keychain inspired by programmer Ada Lovelace.
URL:https://centralaroostookchamber.com/community-event/wonder-women-in-science/
LOCATION:Imagination Station Fun Zone\, LLC\, 398 Main St\, Presque Isle\, 04769\, United States
END:VEVENT
BEGIN:VEVENT
DTSTART;TZID=America/New_York:20240723T143000
DTEND;TZID=America/New_York:20240723T160000
DTSTAMP:20260419T211553
CREATED:20240331T144456Z
LAST-MODIFIED:20240331T144456Z
UID:10000289-1721745000-1721750400@centralaroostookchamber.com
SUMMARY:Public Youth Art Group
DESCRIPTION:The Youth Peer Support Statewide Network (Youth Peer Support Statewide Network | Maine Behavioral Healthcare | Maine (mainehealth.org)) is a growing resource open to any Youth (ages 14 – 26) who reside in Maine and self-identify as having struggled with Mental Health challenges. \nThe YPSSN welcomes Aroostook County Youth to participate in the free\, weekly Art Group\, at the Mark and Emily Turner Memorial Library! You do not have to work with one of our Peer Partners to participate in this recurring event\, it’s free\, and we provide snacks! Just show up\, bring some curiosity\, and let’s make Art! \nArt Supplies and Snacks are provided for free when in attendance at the weekly Art Group. Parental supervision is not required\, but the participants must meet the following criteria:  \n\n1. Be between the ages of 14 – 26\n2. Self-identify as having Mental Health struggles. NO DIAGNOSIS needed.\n3. Be a Maine resident. If you’re an unhoused community member in Maine\, we have open arms and Welcome you! \nHope to see you at the next YPSSN Art Group! \n\nLocation Mark and Emily Turner Memorial Library
URL:https://centralaroostookchamber.com/community-event/public-youth-art-group/2024-07-23/
LOCATION:Mark and Emily Turner Memorial Library\, 39 2nd Street\, Presque Isle\, 04769\, United States
END:VEVENT
BEGIN:VEVENT
DTSTART;TZID=America/New_York:20240724T100000
DTEND;TZID=America/New_York:20240724T180000
DTSTAMP:20260419T211553
CREATED:20240331T183449Z
LAST-MODIFIED:20240331T190024Z
UID:10000705-1721815200-1721844000@centralaroostookchamber.com
SUMMARY:Caribou Farmer's Market
DESCRIPTION:
URL:https://centralaroostookchamber.com/community-event/caribou-farmers-market/2024-07-24/
LOCATION:Bennett Drive Plaza\, 159 Bennett Drive\, Caribou\, 04736\, United States
END:VEVENT
BEGIN:VEVENT
DTSTART;TZID=America/New_York:20240725T090000
DTEND;TZID=America/New_York:20240725T113000
DTSTAMP:20260419T211553
CREATED:20240619T141407Z
LAST-MODIFIED:20240619T141407Z
UID:10001253-1721898000-1721907000@centralaroostookchamber.com
SUMMARY:Jungle Safari Acro Camp (Ages 5-10)
DESCRIPTION:At our Jungle Safari Acro Camp we’ll jump\, roll\, flip\, and flop through the morning while working on tumbling skills\, playing some games\, conquering obstacle courses\, and we’ll even make a fun animal themed craft! This is the perfect camp to burn off some energy! \nThis Safari is only suited for 12 passengers\, so don’t wait! Register today! \nhttps://forms.gle/tQeSfms658Hu2dbR8
URL:https://centralaroostookchamber.com/community-event/jungle-safari-acro-camp-ages-5-10/
LOCATION:Moondance Studios\, 15 North St\, Presque Isle\, ME\, 04769\, United States
END:VEVENT
BEGIN:VEVENT
DTSTART;TZID=America/New_York:20240725T180000
DTEND;TZID=America/New_York:20240725T210000
DTSTAMP:20260419T211553
CREATED:20240619T141756Z
LAST-MODIFIED:20240619T141756Z
UID:10001254-1721930400-1721941200@centralaroostookchamber.com
SUMMARY:Thursdays on Sweden
DESCRIPTION:Outdoor Cafe by Northern Brewing Company\, music by Star City Syndicate \nCaribou Cares about Kids Kickoff at the Rec!
URL:https://centralaroostookchamber.com/community-event/thursdays-on-sweden-3/
LOCATION:Sweden Street\, Sweden Street\, Caribou\, 04736\, United States
END:VEVENT
BEGIN:VEVENT
DTSTART;TZID=America/New_York:20240726T130000
DTEND;TZID=America/New_York:20240726T180000
DTSTAMP:20260419T211553
CREATED:20240331T184715Z
LAST-MODIFIED:20240331T190003Z
UID:10000860-1721998800-1722016800@centralaroostookchamber.com
SUMMARY:Riverside Park Farmer's Market
DESCRIPTION:
URL:https://centralaroostookchamber.com/community-event/riverside-park-farmers-market/2024-07-26/
LOCATION:Riverside Park\, Fort Kent\, East Main Street\, Fort Kent\, 04743\, United States
END:VEVENT
BEGIN:VEVENT
DTSTART;TZID=America/New_York:20240726T180000
DTEND;TZID=America/New_York:20240726T180000
DTSTAMP:20260419T211553
CREATED:20240619T141739Z
LAST-MODIFIED:20240619T141739Z
UID:10001255-1722016800-1722016800@centralaroostookchamber.com
SUMMARY:Pre-Practico and Pizza Night
DESCRIPTION:Music by Weston Robinson
URL:https://centralaroostookchamber.com/community-event/pre-practico-and-pizza-night/
LOCATION:Portage Hills Country Club\, 98 Country Club Ave/\, Portage Lake\, United States
END:VEVENT
BEGIN:VEVENT
DTSTART;TZID=America/New_York:20240726T190000
DTEND;TZID=America/New_York:20240726T190000
DTSTAMP:20260419T211553
CREATED:20240619T141844Z
LAST-MODIFIED:20240619T141846Z
UID:10001256-1722020400-1722020400@centralaroostookchamber.com
SUMMARY:The Masked Performer
DESCRIPTION:Join us for a fun night with The Masked Singer! What a great way to showcase your talent
URL:https://centralaroostookchamber.com/community-event/the-masked-performer/
LOCATION:The Forum\, 84 Mechanic St.\, Presque Isle\, 04769\, United States
END:VEVENT
BEGIN:VEVENT
DTSTART;TZID=America/New_York:20240727T070000
DTEND;TZID=America/New_York:20240727T120000
DTSTAMP:20260419T211553
CREATED:20240331T185012Z
LAST-MODIFIED:20240331T185950Z
UID:10001018-1722063600-1722081600@centralaroostookchamber.com
SUMMARY:Riverside Park Farmer's Market
DESCRIPTION:
URL:https://centralaroostookchamber.com/community-event/riverside-park-farmers-market-2/2024-07-27/
LOCATION:Riverside Park\, Fort Kent\, East Main Street\, Fort Kent\, 04743\, United States
END:VEVENT
BEGIN:VEVENT
DTSTART;TZID=America/New_York:20240727T080000
DTEND;TZID=America/New_York:20240727T170000
DTSTAMP:20260419T211553
CREATED:20240331T185514Z
LAST-MODIFIED:20240331T185940Z
UID:10001094-1722067200-1722099600@centralaroostookchamber.com
SUMMARY:Houlton Community Farmer's Market
DESCRIPTION:
URL:https://centralaroostookchamber.com/community-event/houlton-community-farmers-market/2024-07-27/
LOCATION:Market Square\, Houlton\, Market Square\, Houlton\, 04730\, United States
END:VEVENT
BEGIN:VEVENT
DTSTART;TZID=America/New_York:20240727T083000
DTEND;TZID=America/New_York:20240727T123000
DTSTAMP:20260419T211553
CREATED:20240619T131829Z
LAST-MODIFIED:20240619T131829Z
UID:10001223-1722069000-1722083400@centralaroostookchamber.com
SUMMARY:Presque Isle Farmer's Market
DESCRIPTION:Homemade goods\, fresh produce\, and local vendors!
URL:https://centralaroostookchamber.com/community-event/presque-isle-farmers-market-3/2024-07-27/
LOCATION:Riverside Pavillion\, 19 Riverside Dr\, Presque Isle\, ME\, 04769\, United States
END:VEVENT
BEGIN:VEVENT
DTSTART;TZID=America/New_York:20240727T083000
DTEND;TZID=America/New_York:20240727T123000
DTSTAMP:20260419T211553
CREATED:20240331T175429Z
LAST-MODIFIED:20240331T183526Z
UID:10000671-1722069000-1722083400@centralaroostookchamber.com
SUMMARY:Presque Isle Farmer's Market
DESCRIPTION:
URL:https://centralaroostookchamber.com/community-event/presque-isle-farmers-market/2024-07-27/
LOCATION:Riverside Pavillion\, Presque Isle\, 19 Riverside Drive\, Presque Isle\, 04769\, United States
END:VEVENT
BEGIN:VEVENT
DTSTART;TZID=America/New_York:20240727T090000
DTEND;TZID=America/New_York:20240727T130000
DTSTAMP:20260419T211553
CREATED:20240619T131815Z
LAST-MODIFIED:20240619T131815Z
UID:10001231-1722070800-1722085200@centralaroostookchamber.com
SUMMARY:Fort Fairfield Community Market
DESCRIPTION:Homemade goods\, fresh produce\, and local vendors!
URL:https://centralaroostookchamber.com/community-event/fort-fairfield-community-market-2/2024-07-27/
LOCATION:284 Main St\, Fort Fairfield\, 284 Main St.\, Fort Fairfield\, 04742\, United States
END:VEVENT
BEGIN:VEVENT
DTSTART;TZID=America/New_York:20240727T100000
DTEND;TZID=America/New_York:20240727T130000
DTSTAMP:20260419T211553
CREATED:20240619T142017Z
LAST-MODIFIED:20240619T142017Z
UID:10001257-1722074400-1722085200@centralaroostookchamber.com
SUMMARY:Book Signing
DESCRIPTION:Please join us on July 27th from 10-1pm with Vaughn Hardacker for signings on his books! \nVaughn C. Hardacker has published seven novels and numerous short stories. Three times he has been a finalist in the Maine Literary Awards Crime Fiction category\, SNIPER in 2015\, THE FISHERMAN in 2016\, and WENDIGO for the 2018 award. The second installment of his Ed Traynor series\, MY BROTHER’S KEEPER\, was released in July 2019 and is available through all major booksellers.
URL:https://centralaroostookchamber.com/community-event/book-signing/
LOCATION:Neighborhood Books Maine\, 260 Main St. Suite C\, Presque Isle\, ME\, 04769\, United States
END:VEVENT
BEGIN:VEVENT
DTSTART;TZID=America/New_York:20240727T170000
DTEND;TZID=America/New_York:20240727T170000
DTSTAMP:20260419T211553
CREATED:20240619T142701Z
LAST-MODIFIED:20240619T142701Z
UID:10001258-1722099600-1722099600@centralaroostookchamber.com
SUMMARY:Back to the 90’s Party with DJ Scuba Steve
DESCRIPTION:21+\, $20 Cover\, Mechanical Bull\, Photo Booth\, Mobile Bar\, Food Trucks\, Best 90’s Outfit-$200 Prize
URL:https://centralaroostookchamber.com/community-event/back-to-the-90s-party-with-dj-scuba-steve/
LOCATION:The Forum\, 84 Mechanic St.\, Presque Isle\, 04769\, United States
END:VEVENT
BEGIN:VEVENT
DTSTART;TZID=America/New_York:20240729T090000
DTEND;TZID=America/New_York:20240729T120000
DTSTAMP:20260419T211553
CREATED:20240619T143032Z
LAST-MODIFIED:20240619T143032Z
UID:10001259-1722243600-1722254400@centralaroostookchamber.com
SUMMARY:Encanto Musical Theater Camp (Ages 6-10)
DESCRIPTION:Attention Encanto fans Spend the morning with us singing and learning dances to your favorite Encanto songs! Only 12 spots available\, don’t delay! \nRegister now – https://forms.gle/dkcyizY8CH8XyDSq7
URL:https://centralaroostookchamber.com/community-event/encanto-musical-theater-camp-ages-6-10/
LOCATION:Moondance Studios\, 15 North St\, Presque Isle\, ME\, 04769\, United States
END:VEVENT
BEGIN:VEVENT
DTSTART;TZID=America/New_York:20240730T090000
DTEND;TZID=America/New_York:20240730T113000
DTSTAMP:20260419T211553
CREATED:20240619T143016Z
LAST-MODIFIED:20240619T143016Z
UID:10001260-1722330000-1722339000@centralaroostookchamber.com
SUMMARY:Swiftie Camp
DESCRIPTION:Attention Swifties Look what you made us do! We know all too well that you’ll be looking for something bejeweled to do this cruel summer. You belong with us for these enchanted events! \nThese camps hit different so they’re filling up fast! Don’t delay\, only a few blank spaces remain! \nMini Swiftie Camp Registration (ages 4 & 5) – https://forms.gle/dMMyXCF6o9UsiY2u8 \nJunior Swiftie Camp Registration (ages 6 to 10) – https://forms.gle/c8rgACVKAy93s4RU7 \nTeen Swiftie Camp Registration (ages 11 to 18) – https://forms.gle/NgJwN8MgbHovmRLc7 \nAre you ready for it?!
URL:https://centralaroostookchamber.com/community-event/swiftie-camp-2/
LOCATION:Moondance Studios\, 15 North St\, Presque Isle\, ME\, 04769\, United States
END:VEVENT
BEGIN:VEVENT
DTSTART;TZID=America/New_York:20240730T100000
DTEND;TZID=America/New_York:20240730T113000
DTSTAMP:20260419T211553
CREATED:20240619T143054Z
LAST-MODIFIED:20240619T143054Z
UID:10001261-1722333600-1722339000@centralaroostookchamber.com
SUMMARY:Green Science Projects
DESCRIPTION:Three Days 10-1130am – Salt Powered Robot – Build a racer and make it go using only charcoal and salt water. Potato ​Clock – You may know potatoes as a good source of potassium\, but did you know they can be used to power an alarm ​clock? Green Rocket – Powered by green energy\, enjoy blasting rocket fun with two recycled drink bottles and a few old ​magazine pages. Stomp on the empty bottle and water your rocket fly up to 80 feet while learning about physics. ​Dynamo Torch – Turn a simple toy motor into a generator which coverts hand motion to electric energy and powers a ​light bulb without a battery!
URL:https://centralaroostookchamber.com/community-event/green-science-projects/
LOCATION:Imagination Station Fun Zone\, LLC\, 398 Main St\, Presque Isle\, 04769\, United States
END:VEVENT
BEGIN:VEVENT
DTSTART;TZID=America/New_York:20240730T143000
DTEND;TZID=America/New_York:20240730T160000
DTSTAMP:20260419T211553
CREATED:20240331T144456Z
LAST-MODIFIED:20240331T144456Z
UID:10000290-1722349800-1722355200@centralaroostookchamber.com
SUMMARY:Public Youth Art Group
DESCRIPTION:The Youth Peer Support Statewide Network (Youth Peer Support Statewide Network | Maine Behavioral Healthcare | Maine (mainehealth.org)) is a growing resource open to any Youth (ages 14 – 26) who reside in Maine and self-identify as having struggled with Mental Health challenges. \nThe YPSSN welcomes Aroostook County Youth to participate in the free\, weekly Art Group\, at the Mark and Emily Turner Memorial Library! You do not have to work with one of our Peer Partners to participate in this recurring event\, it’s free\, and we provide snacks! Just show up\, bring some curiosity\, and let’s make Art! \nArt Supplies and Snacks are provided for free when in attendance at the weekly Art Group. Parental supervision is not required\, but the participants must meet the following criteria:  \n\n1. Be between the ages of 14 – 26\n2. Self-identify as having Mental Health struggles. NO DIAGNOSIS needed.\n3. Be a Maine resident. If you’re an unhoused community member in Maine\, we have open arms and Welcome you! \nHope to see you at the next YPSSN Art Group! \n\nLocation Mark and Emily Turner Memorial Library
URL:https://centralaroostookchamber.com/community-event/public-youth-art-group/2024-07-30/
LOCATION:Mark and Emily Turner Memorial Library\, 39 2nd Street\, Presque Isle\, 04769\, United States
END:VEVENT
BEGIN:VEVENT
DTSTART;TZID=America/New_York:20240731T100000
DTEND;TZID=America/New_York:20240731T180000
DTSTAMP:20260419T211553
CREATED:20240331T183449Z
LAST-MODIFIED:20240331T190024Z
UID:10000706-1722420000-1722448800@centralaroostookchamber.com
SUMMARY:Caribou Farmer's Market
DESCRIPTION:
URL:https://centralaroostookchamber.com/community-event/caribou-farmers-market/2024-07-31/
LOCATION:Bennett Drive Plaza\, 159 Bennett Drive\, Caribou\, 04736\, United States
END:VEVENT
END:VCALENDAR