BEGIN:VCALENDAR
VERSION:2.0
PRODID:-//Central Aroostook Chamber of Commerce - ECPv6.15.20//NONSGML v1.0//EN
CALSCALE:GREGORIAN
METHOD:PUBLISH
X-WR-CALNAME:Central Aroostook Chamber of Commerce
X-ORIGINAL-URL:https://centralaroostookchamber.com
X-WR-CALDESC:Events for Central Aroostook Chamber of Commerce
REFRESH-INTERVAL;VALUE=DURATION:PT1H
X-Robots-Tag:noindex
X-PUBLISHED-TTL:PT1H
BEGIN:VTIMEZONE
TZID:America/New_York
BEGIN:DAYLIGHT
TZOFFSETFROM:-0500
TZOFFSETTO:-0400
TZNAME:EDT
DTSTART:20230312T070000
END:DAYLIGHT
BEGIN:STANDARD
TZOFFSETFROM:-0400
TZOFFSETTO:-0500
TZNAME:EST
DTSTART:20231105T060000
END:STANDARD
BEGIN:DAYLIGHT
TZOFFSETFROM:-0500
TZOFFSETTO:-0400
TZNAME:EDT
DTSTART:20240310T070000
END:DAYLIGHT
BEGIN:STANDARD
TZOFFSETFROM:-0400
TZOFFSETTO:-0500
TZNAME:EST
DTSTART:20241103T060000
END:STANDARD
BEGIN:DAYLIGHT
TZOFFSETFROM:-0500
TZOFFSETTO:-0400
TZNAME:EDT
DTSTART:20250309T070000
END:DAYLIGHT
BEGIN:STANDARD
TZOFFSETFROM:-0400
TZOFFSETTO:-0500
TZNAME:EST
DTSTART:20251102T060000
END:STANDARD
END:VTIMEZONE
BEGIN:VEVENT
DTSTART;TZID=America/New_York:20240711T180000
DTEND;TZID=America/New_York:20240711T210000
DTSTAMP:20260419T212029
CREATED:20240619T131929Z
LAST-MODIFIED:20240619T131929Z
UID:10001219-1720720800-1720731600@centralaroostookchamber.com
SUMMARY:Thursdays on Sweden
DESCRIPTION:Featuring live music by Jerry T\, a beer garden hosted by Geaghan Brothers\, food trucks\, and much more!
URL:https://centralaroostookchamber.com/community-event/thursdays-on-sweden-2/
LOCATION:Sweden Street\, Sweden Street\, Caribou\, 04736\, United States
END:VEVENT
BEGIN:VEVENT
DTSTART;TZID=America/New_York:20240712T130000
DTEND;TZID=America/New_York:20240712T180000
DTSTAMP:20260419T212029
CREATED:20240331T184715Z
LAST-MODIFIED:20240331T190003Z
UID:10000858-1720789200-1720807200@centralaroostookchamber.com
SUMMARY:Riverside Park Farmer's Market
DESCRIPTION:
URL:https://centralaroostookchamber.com/community-event/riverside-park-farmers-market/2024-07-12/
LOCATION:Riverside Park\, Fort Kent\, East Main Street\, Fort Kent\, 04743\, United States
END:VEVENT
BEGIN:VEVENT
DTSTART;TZID=America/New_York:20240712T170000
DTEND;TZID=America/New_York:20240712T200000
DTSTAMP:20260419T212029
CREATED:20240701T131528Z
LAST-MODIFIED:20240701T131529Z
UID:10000537-1720803600-1720814400@centralaroostookchamber.com
SUMMARY:First Friday Art Walk
DESCRIPTION:Join us in Beautiful downtown Presque Isle Maine while we have our First Friday Art Walk! This event happens year-round\, on the first Friday of every month. Join our local businesses as they celebrate and display local artisans. Refreshments are usually served\, and a flyer is available to show you which business to hit next on your walk. This is a fun event and is open and free to the public.
URL:https://centralaroostookchamber.com/community-event/first-friday-art-walk-2/2024-07-12/
LOCATION:Presque Isle Maine\, Main Street\, Presque Isle\, 04769\, United States
ORGANIZER;CN="Central Aroostook Chamber of Commerce":MAILTO:info@centralaroostookchamber.com
END:VEVENT
BEGIN:VEVENT
DTSTART;TZID=America/New_York:20240712T180000
DTEND;TZID=America/New_York:20240712T180000
DTSTAMP:20260419T212029
CREATED:20240619T131910Z
LAST-MODIFIED:20240619T131910Z
UID:10001220-1720807200-1720807200@centralaroostookchamber.com
SUMMARY:Pizza Night
DESCRIPTION:Music by Dan Rooney
URL:https://centralaroostookchamber.com/community-event/pizza-night/
LOCATION:Portage Hills Country Club\, 98 Country Club Ave/\, Portage Lake\, United States
END:VEVENT
BEGIN:VEVENT
DTSTART;VALUE=DATE:20240713
DTEND;VALUE=DATE:20240714
DTSTAMP:20260419T212029
CREATED:20240619T131849Z
LAST-MODIFIED:20240619T131849Z
UID:10001237-1720828800-1720915199@centralaroostookchamber.com
SUMMARY:Potato Blossom Festival
DESCRIPTION:See the town of Fort Fairfield’s website for more information
URL:https://centralaroostookchamber.com/community-event/potato-blossom-festival/
LOCATION:Caribou\, 209 Thompson Rd\, Caribou\, ME\, United States
END:VEVENT
BEGIN:VEVENT
DTSTART;TZID=America/New_York:20240713T070000
DTEND;TZID=America/New_York:20240713T120000
DTSTAMP:20260419T212030
CREATED:20240331T185012Z
LAST-MODIFIED:20240331T185950Z
UID:10001016-1720854000-1720872000@centralaroostookchamber.com
SUMMARY:Riverside Park Farmer's Market
DESCRIPTION:
URL:https://centralaroostookchamber.com/community-event/riverside-park-farmers-market-2/2024-07-13/
LOCATION:Riverside Park\, Fort Kent\, East Main Street\, Fort Kent\, 04743\, United States
END:VEVENT
BEGIN:VEVENT
DTSTART;TZID=America/New_York:20240713T080000
DTEND;TZID=America/New_York:20240713T170000
DTSTAMP:20260419T212030
CREATED:20240331T185514Z
LAST-MODIFIED:20240331T185940Z
UID:10001092-1720857600-1720890000@centralaroostookchamber.com
SUMMARY:Houlton Community Farmer's Market
DESCRIPTION:
URL:https://centralaroostookchamber.com/community-event/houlton-community-farmers-market/2024-07-13/
LOCATION:Market Square\, Houlton\, Market Square\, Houlton\, 04730\, United States
END:VEVENT
BEGIN:VEVENT
DTSTART;TZID=America/New_York:20240713T083000
DTEND;TZID=America/New_York:20240713T123000
DTSTAMP:20260419T212030
CREATED:20240619T131829Z
LAST-MODIFIED:20240619T131829Z
UID:10001221-1720859400-1720873800@centralaroostookchamber.com
SUMMARY:Presque Isle Farmer's Market
DESCRIPTION:Homemade goods\, fresh produce\, and local vendors!
URL:https://centralaroostookchamber.com/community-event/presque-isle-farmers-market-3/2024-07-13/
LOCATION:Riverside Pavillion\, 19 Riverside Dr\, Presque Isle\, ME\, 04769\, United States
END:VEVENT
BEGIN:VEVENT
DTSTART;TZID=America/New_York:20240713T083000
DTEND;TZID=America/New_York:20240713T123000
DTSTAMP:20260419T212030
CREATED:20240331T175429Z
LAST-MODIFIED:20240331T183526Z
UID:10000669-1720859400-1720873800@centralaroostookchamber.com
SUMMARY:Presque Isle Farmer's Market
DESCRIPTION:
URL:https://centralaroostookchamber.com/community-event/presque-isle-farmers-market/2024-07-13/
LOCATION:Riverside Pavillion\, Presque Isle\, 19 Riverside Drive\, Presque Isle\, 04769\, United States
END:VEVENT
BEGIN:VEVENT
DTSTART;TZID=America/New_York:20240713T090000
DTEND;TZID=America/New_York:20240713T130000
DTSTAMP:20260419T212030
CREATED:20240619T131815Z
LAST-MODIFIED:20240619T131815Z
UID:10001229-1720861200-1720875600@centralaroostookchamber.com
SUMMARY:Fort Fairfield Community Market
DESCRIPTION:Homemade goods\, fresh produce\, and local vendors!
URL:https://centralaroostookchamber.com/community-event/fort-fairfield-community-market-2/2024-07-13/
LOCATION:284 Main St\, Fort Fairfield\, 284 Main St.\, Fort Fairfield\, 04742\, United States
END:VEVENT
BEGIN:VEVENT
DTSTART;TZID=America/New_York:20240713T100000
DTEND;TZID=America/New_York:20240713T130000
DTSTAMP:20260419T212030
CREATED:20240619T133310Z
LAST-MODIFIED:20240619T133817Z
UID:10001238-1720864800-1720875600@centralaroostookchamber.com
SUMMARY:Book Signing with William Livezey
DESCRIPTION:Join us on Saturday\, July 13th for a book signing with William Livezey and his book Let’s Go for a Ride!
URL:https://centralaroostookchamber.com/community-event/book-signing-with-william-livezey/
LOCATION:Neighborhood Books Maine\, 260 Main St. Suite C\, Presque Isle\, ME\, 04769\, United States
END:VEVENT
BEGIN:VEVENT
DTSTART;TZID=America/New_York:20240713T110000
DTEND;TZID=America/New_York:20240713T200000
DTSTAMP:20260419T212030
CREATED:20240619T134814Z
LAST-MODIFIED:20240619T134814Z
UID:10001239-1720868400-1720900800@centralaroostookchamber.com
SUMMARY:Arootsakoostic
DESCRIPTION:Live Music Festival. Click on link for full lineup\, $30/person
URL:https://centralaroostookchamber.com/community-event/arootsakoostic/
LOCATION:Thomas Park\, New Sweden\, United States
END:VEVENT
BEGIN:VEVENT
DTSTART;TZID=America/New_York:20240713T210000
DTEND;TZID=America/New_York:20240713T210000
DTSTAMP:20260419T212030
CREATED:20240619T134444Z
LAST-MODIFIED:20240619T134444Z
UID:10001241-1720904400-1720904400@centralaroostookchamber.com
SUMMARY:No Pressure Live Music
DESCRIPTION:Come Party with No Pressure at Portage Hills Country Club! \n$5 cover charge. \nAges 21 and over.
URL:https://centralaroostookchamber.com/community-event/no-pressure-live-music/
LOCATION:Portage Hills Country Club\, 98 Country Club Ave/\, Portage Lake\, United States
END:VEVENT
BEGIN:VEVENT
DTSTART;VALUE=DATE:20240715
DTEND;VALUE=DATE:20240716
DTSTAMP:20260419T212030
CREATED:20240331T150020Z
LAST-MODIFIED:20240331T150020Z
UID:10000598-1721001600-1721087999@centralaroostookchamber.com
SUMMARY:American Legion Monthly Meeting - Skyway Industrial Park
DESCRIPTION:Supper with a business meeting to follow. \nAuxiliary Members\, Wives\, and Guests are always welcome.
URL:https://centralaroostookchamber.com/community-event/american-legion-monthly-meeting-skyway-industrial-park/2024-07-15/
LOCATION:ME
END:VEVENT
BEGIN:VEVENT
DTSTART;TZID=America/New_York:20240715T090000
DTEND;TZID=America/New_York:20240719T140000
DTSTAMP:20260419T212030
CREATED:20240521T133340Z
LAST-MODIFIED:20240521T133340Z
UID:10001168-1721034000-1721397600@centralaroostookchamber.com
SUMMARY:Free Girls Who Code Summer Camp
DESCRIPTION:Girls Who Code is a nationwide organization dedicated to closing the gender gap in technology through after-school clubs for middle school students\, summer immersion programs for 10th and 11th graders\, and a college program to connect alumni. Project>Login\, a signature program of Educate Maine\, is Maine’s Community Partner for Girls Who Code. This summer Project>Login is putting on 16 camps throughout the state all of which are FREE! \nJoin us for an exciting week of coding exploration at our Girls Who Code Summer Camp! Throughout the week\, participants dive into the world of coding\, developing foundational skills in a fun and supportive environment. \nHighlights of the camp include:\nEngaging coding sessions designed to spark creativity and problem-solving.\nInteractive activities and projects that foster collaboration and critical thinking.\nA captivating mid-week field trip\, providing hands-on exposure to technology in action.\nA culminating showcase on the last day\, where students proudly present their projects and accomplishments.\nDon’t miss out on this opportunity for your child to explore the exciting world of coding with Girls Who Code! \nStudents must provide their own transportation to camp and bring their own laptop\, iPad or device. If transportation or technology is a barrier\, please email Shelby at shelby@educatemaine.org. We are happy to help accommodate.
URL:https://centralaroostookchamber.com/community-event/free-girls-who-code-summer-camp/
LOCATION:Easton Recreation Department\, 3 Station Rd\, Easton\, ME\, 04740\, United States
ATTACH;FMTTYPE=image/webp:https://centralaroostookchamber.com/wp-content/uploads/2024/05/Screenshot-2024-05-16-at-11.34.07 AM.webp
ORGANIZER;CN="Educate Maine":MAILTO:pl_intern@educatemaine.edu
END:VEVENT
BEGIN:VEVENT
DTSTART;TZID=America/New_York:20240716T090000
DTEND;TZID=America/New_York:20240716T110000
DTSTAMP:20260419T212030
CREATED:20240619T134353Z
LAST-MODIFIED:20240619T134353Z
UID:10001242-1721120400-1721127600@centralaroostookchamber.com
SUMMARY:Swiftie Camp
DESCRIPTION:Attention Swifties Look what you made us do! We know all too well that you’ll be looking for something bejeweled to do this cruel summer. You belong with us for these enchanted events! \nThese camps hit different so they’re filling up fast! Don’t delay\, only a few blank spaces remain! \nMini Swiftie Camp Registration (ages 4 & 5) – https://forms.gle/dMMyXCF6o9UsiY2u8 \nJunior Swiftie Camp Registration (ages 6 to 10) – https://forms.gle/c8rgACVKAy93s4RU7 \nTeen Swiftie Camp Registration (ages 11 to 18) – https://forms.gle/NgJwN8MgbHovmRLc7 \nAre you ready for it?!
URL:https://centralaroostookchamber.com/community-event/swiftie-camp/
LOCATION:Moondance Studios\, 15 North St\, Presque Isle\, ME\, 04769\, United States
END:VEVENT
BEGIN:VEVENT
DTSTART;TZID=America/New_York:20240716T100000
DTEND;TZID=America/New_York:20240716T113000
DTSTAMP:20260419T212030
CREATED:20240619T134418Z
LAST-MODIFIED:20240619T134418Z
UID:10001243-1721124000-1721129400@centralaroostookchamber.com
SUMMARY:Robotic Workshop
DESCRIPTION:Three days 10-1130am – Traffic Light – Build this fantastic traffic light set. See how electronic circuits control the signals. ​Bring a fantastic Dragon robot to life through mechanical engineering – watch as it crawls along the floor opening and ​closing its fiery jaws! Make a spider robot scuttle up and down its string like a real spider on a silk thread. It even changes ​direction at the top and bottom. We will also build a robotic human hand that has realistic gripping movements.
URL:https://centralaroostookchamber.com/community-event/robotic-workshop/
LOCATION:Imagination Station Fun Zone\, LLC\, 398 Main St\, Presque Isle\, 04769\, United States
END:VEVENT
BEGIN:VEVENT
DTSTART;TZID=America/New_York:20240716T133000
DTEND;TZID=America/New_York:20240716T153000
DTSTAMP:20260419T212030
CREATED:20240619T134500Z
LAST-MODIFIED:20240619T134500Z
UID:10001244-1721136600-1721143800@centralaroostookchamber.com
SUMMARY:Teen Art Workshop w/ Charlene Lutz
DESCRIPTION:Explore printmaking using beeswax\, ink\, brushes\, stamps and assorted papers. Join us to learn this printmaking ​technique inspired by batik and create your own unique artwork! This workshop is for ages 13-17. All materials are ​provided – this workshop is FREE and open to the public. Learn more about Charlene Lutz and her work here: ​https://www.charlenelutz.com/
URL:https://centralaroostookchamber.com/community-event/teen-art-workshop-w-charlene-lutz/
LOCATION:Mark and Emily Turner Memorial Library\, 39 2nd Street\, Presque Isle\, 04769\, United States
END:VEVENT
BEGIN:VEVENT
DTSTART;TZID=America/New_York:20240716T143000
DTEND;TZID=America/New_York:20240716T160000
DTSTAMP:20260419T212030
CREATED:20240331T144456Z
LAST-MODIFIED:20240331T144456Z
UID:10000288-1721140200-1721145600@centralaroostookchamber.com
SUMMARY:Public Youth Art Group
DESCRIPTION:The Youth Peer Support Statewide Network (Youth Peer Support Statewide Network | Maine Behavioral Healthcare | Maine (mainehealth.org)) is a growing resource open to any Youth (ages 14 – 26) who reside in Maine and self-identify as having struggled with Mental Health challenges. \nThe YPSSN welcomes Aroostook County Youth to participate in the free\, weekly Art Group\, at the Mark and Emily Turner Memorial Library! You do not have to work with one of our Peer Partners to participate in this recurring event\, it’s free\, and we provide snacks! Just show up\, bring some curiosity\, and let’s make Art! \nArt Supplies and Snacks are provided for free when in attendance at the weekly Art Group. Parental supervision is not required\, but the participants must meet the following criteria:  \n\n1. Be between the ages of 14 – 26\n2. Self-identify as having Mental Health struggles. NO DIAGNOSIS needed.\n3. Be a Maine resident. If you’re an unhoused community member in Maine\, we have open arms and Welcome you! \nHope to see you at the next YPSSN Art Group! \n\nLocation Mark and Emily Turner Memorial Library
URL:https://centralaroostookchamber.com/community-event/public-youth-art-group/2024-07-16/
LOCATION:Mark and Emily Turner Memorial Library\, 39 2nd Street\, Presque Isle\, 04769\, United States
END:VEVENT
BEGIN:VEVENT
DTSTART;TZID=America/New_York:20240717T100000
DTEND;TZID=America/New_York:20240717T180000
DTSTAMP:20260419T212030
CREATED:20240331T183449Z
LAST-MODIFIED:20240331T190024Z
UID:10000704-1721210400-1721239200@centralaroostookchamber.com
SUMMARY:Caribou Farmer's Market
DESCRIPTION:
URL:https://centralaroostookchamber.com/community-event/caribou-farmers-market/2024-07-17/
LOCATION:Bennett Drive Plaza\, 159 Bennett Drive\, Caribou\, 04736\, United States
END:VEVENT
BEGIN:VEVENT
DTSTART;TZID=America/New_York:20240717T190000
DTEND;TZID=America/New_York:20240717T190000
DTSTAMP:20260419T212030
CREATED:20240619T140135Z
LAST-MODIFIED:20240619T140135Z
UID:10001245-1721242800-1721242800@centralaroostookchamber.com
SUMMARY:Little Miss & Jr. Miss Maine Potato Queen Pageant
DESCRIPTION:$10/person
URL:https://centralaroostookchamber.com/community-event/little-miss-jr-miss-maine-potato-queen-pageant/
LOCATION:Fort Fairfield High School\, 28 High School Dr\, Fort Fairfield\, United States
END:VEVENT
BEGIN:VEVENT
DTSTART;TZID=America/New_York:20240718T100000
DTEND;TZID=America/New_York:20240718T140000
DTSTAMP:20260419T212030
CREATED:20240619T140122Z
LAST-MODIFIED:20240619T140122Z
UID:10001246-1721296800-1721311200@centralaroostookchamber.com
SUMMARY:Soil Health Training
DESCRIPTION:Informative workshop on soil health. Learn how to strengthen the health of your soils with guidance from state and federal ​soil scientists.
URL:https://centralaroostookchamber.com/community-event/soil-health-training/
LOCATION:University of Maine at Presque Isle\, 181 Main Street\, Presque Isle\, 04769\, United States
END:VEVENT
BEGIN:VEVENT
DTSTART;TZID=America/New_York:20240718T180000
DTEND;TZID=America/New_York:20240718T203000
DTSTAMP:20260419T212030
CREATED:20240619T140539Z
LAST-MODIFIED:20240619T140539Z
UID:10001247-1721325600-1721334600@centralaroostookchamber.com
SUMMARY:Rockin on Riverside
DESCRIPTION:Take in live music by Aroostook County’s Premier Party Band\, Marionette! Playing hits from the 80’s\, 90’s\, and 00’s! Bring your dancing shoes! Food trucks\, vendors\, and beer garden will be on site!
URL:https://centralaroostookchamber.com/community-event/rockin-on-riverside/
LOCATION:Riverside Park\, 39 Chapman Rd\, Presque Isle\, ME\, 04769\, United States
END:VEVENT
BEGIN:VEVENT
DTSTART;TZID=America/New_York:20240719T130000
DTEND;TZID=America/New_York:20240719T180000
DTSTAMP:20260419T212030
CREATED:20240331T184715Z
LAST-MODIFIED:20240331T190003Z
UID:10000859-1721394000-1721412000@centralaroostookchamber.com
SUMMARY:Riverside Park Farmer's Market
DESCRIPTION:
URL:https://centralaroostookchamber.com/community-event/riverside-park-farmers-market/2024-07-19/
LOCATION:Riverside Park\, Fort Kent\, East Main Street\, Fort Kent\, 04743\, United States
END:VEVENT
BEGIN:VEVENT
DTSTART;TZID=America/New_York:20240719T180000
DTEND;TZID=America/New_York:20240719T180000
DTSTAMP:20260419T212030
CREATED:20240619T141043Z
LAST-MODIFIED:20240619T141043Z
UID:10001248-1721412000-1721412000@centralaroostookchamber.com
SUMMARY:Pizza Night
DESCRIPTION:Music by Roy Tweedie and Nick Norton
URL:https://centralaroostookchamber.com/community-event/pizza-night-4/
LOCATION:Portage Hills Country Club\, 98 Country Club Ave/\, Portage Lake\, United States
END:VEVENT
BEGIN:VEVENT
DTSTART;TZID=America/New_York:20240720T070000
DTEND;TZID=America/New_York:20240720T120000
DTSTAMP:20260419T212030
CREATED:20240331T185012Z
LAST-MODIFIED:20240331T185950Z
UID:10001017-1721458800-1721476800@centralaroostookchamber.com
SUMMARY:Riverside Park Farmer's Market
DESCRIPTION:
URL:https://centralaroostookchamber.com/community-event/riverside-park-farmers-market-2/2024-07-20/
LOCATION:Riverside Park\, Fort Kent\, East Main Street\, Fort Kent\, 04743\, United States
END:VEVENT
BEGIN:VEVENT
DTSTART;TZID=America/New_York:20240720T080000
DTEND;TZID=America/New_York:20240720T170000
DTSTAMP:20260419T212030
CREATED:20240619T142036Z
LAST-MODIFIED:20240619T142036Z
UID:10001249-1721462400-1721494800@centralaroostookchamber.com
SUMMARY:Arts and Craft Fair
DESCRIPTION:Apart of the Maine Potato Blossom Festival
URL:https://centralaroostookchamber.com/community-event/arts-and-craft-fair/
LOCATION:Fields Lane\, Fort Fairfield\, United States
END:VEVENT
BEGIN:VEVENT
DTSTART;TZID=America/New_York:20240720T080000
DTEND;TZID=America/New_York:20240720T170000
DTSTAMP:20260419T212030
CREATED:20240331T185514Z
LAST-MODIFIED:20240331T185940Z
UID:10001093-1721462400-1721494800@centralaroostookchamber.com
SUMMARY:Houlton Community Farmer's Market
DESCRIPTION:
URL:https://centralaroostookchamber.com/community-event/houlton-community-farmers-market/2024-07-20/
LOCATION:Market Square\, Houlton\, Market Square\, Houlton\, 04730\, United States
END:VEVENT
BEGIN:VEVENT
DTSTART;TZID=America/New_York:20240720T083000
DTEND;TZID=America/New_York:20240720T123000
DTSTAMP:20260419T212030
CREATED:20240619T131829Z
LAST-MODIFIED:20240619T131829Z
UID:10001222-1721464200-1721478600@centralaroostookchamber.com
SUMMARY:Presque Isle Farmer's Market
DESCRIPTION:Homemade goods\, fresh produce\, and local vendors!
URL:https://centralaroostookchamber.com/community-event/presque-isle-farmers-market-3/2024-07-20/
LOCATION:Riverside Pavillion\, 19 Riverside Dr\, Presque Isle\, ME\, 04769\, United States
END:VEVENT
BEGIN:VEVENT
DTSTART;TZID=America/New_York:20240720T083000
DTEND;TZID=America/New_York:20240720T123000
DTSTAMP:20260419T212030
CREATED:20240331T175429Z
LAST-MODIFIED:20240331T183526Z
UID:10000670-1721464200-1721478600@centralaroostookchamber.com
SUMMARY:Presque Isle Farmer's Market
DESCRIPTION:
URL:https://centralaroostookchamber.com/community-event/presque-isle-farmers-market/2024-07-20/
LOCATION:Riverside Pavillion\, Presque Isle\, 19 Riverside Drive\, Presque Isle\, 04769\, United States
END:VEVENT
END:VCALENDAR