BEGIN:VCALENDAR
VERSION:2.0
PRODID:-//Central Aroostook Chamber of Commerce - ECPv6.15.20//NONSGML v1.0//EN
CALSCALE:GREGORIAN
METHOD:PUBLISH
X-WR-CALNAME:Central Aroostook Chamber of Commerce
X-ORIGINAL-URL:https://centralaroostookchamber.com
X-WR-CALDESC:Events for Central Aroostook Chamber of Commerce
REFRESH-INTERVAL;VALUE=DURATION:PT1H
X-Robots-Tag:noindex
X-PUBLISHED-TTL:PT1H
BEGIN:VTIMEZONE
TZID:America/New_York
BEGIN:DAYLIGHT
TZOFFSETFROM:-0500
TZOFFSETTO:-0400
TZNAME:EDT
DTSTART:20240310T070000
END:DAYLIGHT
BEGIN:STANDARD
TZOFFSETFROM:-0400
TZOFFSETTO:-0500
TZNAME:EST
DTSTART:20241103T060000
END:STANDARD
BEGIN:DAYLIGHT
TZOFFSETFROM:-0500
TZOFFSETTO:-0400
TZNAME:EDT
DTSTART:20250309T070000
END:DAYLIGHT
BEGIN:STANDARD
TZOFFSETFROM:-0400
TZOFFSETTO:-0500
TZNAME:EST
DTSTART:20251102T060000
END:STANDARD
BEGIN:DAYLIGHT
TZOFFSETFROM:-0500
TZOFFSETTO:-0400
TZNAME:EDT
DTSTART:20260308T070000
END:DAYLIGHT
BEGIN:STANDARD
TZOFFSETFROM:-0400
TZOFFSETTO:-0500
TZNAME:EST
DTSTART:20261101T060000
END:STANDARD
END:VTIMEZONE
BEGIN:VEVENT
DTSTART;TZID=America/New_York:20250628T070000
DTEND;TZID=America/New_York:20250628T120000
DTSTAMP:20260420T115827
CREATED:20250214T024430Z
LAST-MODIFIED:20250214T024430Z
UID:10001066-1751094000-1751112000@centralaroostookchamber.com
SUMMARY:Riverside Park Farmer's Market
DESCRIPTION:
URL:https://centralaroostookchamber.com/community-event/riverside-park-farmers-market-2-2/2025-06-28/
LOCATION:Riverside Park\, Fort Kent\, East Main Street\, Fort Kent\, 04743\, United States
END:VEVENT
BEGIN:VEVENT
DTSTART;TZID=America/New_York:20250627T130000
DTEND;TZID=America/New_York:20250627T180000
DTSTAMP:20260420T115827
CREATED:20250214T024324Z
LAST-MODIFIED:20250214T024324Z
UID:10000908-1751029200-1751047200@centralaroostookchamber.com
SUMMARY:Riverside Park Farmer's Market
DESCRIPTION:
URL:https://centralaroostookchamber.com/community-event/riverside-park-farmers-market-3/2025-06-27/
LOCATION:Riverside Park\, Fort Kent\, East Main Street\, Fort Kent\, 04743\, United States
END:VEVENT
BEGIN:VEVENT
DTSTART;TZID=America/New_York:20250626T190000
DTEND;TZID=America/New_York:20250626T200000
DTSTAMP:20260420T115827
CREATED:20250506T145942Z
LAST-MODIFIED:20250506T145942Z
UID:10001671-1750964400-1750968000@centralaroostookchamber.com
SUMMARY:Haunted Hearse Tours
DESCRIPTION:Are there really ghosts and lingering spirits in Presque Isle? Seats limited. Tickets $10.00 each. Departs from Historic Fire Station at 11 Church Street. Reservation Required. RAIN or SHINE\nMay 22\, June 26\, July 24\, August 28\, September 25 and October 23 at 7:00pm. October 31 at 6:00pm\, 7:30pm and 9:00pm.
URL:https://centralaroostookchamber.com/community-event/haunted-hearse-tours/2025-06-26/
LOCATION:ME
END:VEVENT
BEGIN:VEVENT
DTSTART;TZID=America/New_York:20250626T100000
DTEND;TZID=America/New_York:20250626T180000
DTSTAMP:20260420T115827
CREATED:20250205T021530Z
LAST-MODIFIED:20250205T021540Z
UID:10001512-1750932000-1750960800@centralaroostookchamber.com
SUMMARY:Caribou Farmer's Market
DESCRIPTION:
URL:https://centralaroostookchamber.com/community-event/caribou-farmers-market-6/2025-06-26/
LOCATION:Bennett Drive Plaza\, 159 Bennett Drive\, Caribou\, 04736\, United States
END:VEVENT
BEGIN:VEVENT
DTSTART;TZID=America/New_York:20250624T143000
DTEND;TZID=America/New_York:20250624T160000
DTSTAMP:20260420T115827
CREATED:20240331T144456Z
LAST-MODIFIED:20240331T144456Z
UID:10000337-1750775400-1750780800@centralaroostookchamber.com
SUMMARY:Public Youth Art Group
DESCRIPTION:The Youth Peer Support Statewide Network (Youth Peer Support Statewide Network | Maine Behavioral Healthcare | Maine (mainehealth.org)) is a growing resource open to any Youth (ages 14 – 26) who reside in Maine and self-identify as having struggled with Mental Health challenges. \nThe YPSSN welcomes Aroostook County Youth to participate in the free\, weekly Art Group\, at the Mark and Emily Turner Memorial Library! You do not have to work with one of our Peer Partners to participate in this recurring event\, it’s free\, and we provide snacks! Just show up\, bring some curiosity\, and let’s make Art! \nArt Supplies and Snacks are provided for free when in attendance at the weekly Art Group. Parental supervision is not required\, but the participants must meet the following criteria:  \n\n1. Be between the ages of 14 – 26\n2. Self-identify as having Mental Health struggles. NO DIAGNOSIS needed.\n3. Be a Maine resident. If you’re an unhoused community member in Maine\, we have open arms and Welcome you! \nHope to see you at the next YPSSN Art Group! \n\nLocation Mark and Emily Turner Memorial Library
URL:https://centralaroostookchamber.com/community-event/public-youth-art-group/2025-06-24/
LOCATION:Mark and Emily Turner Memorial Library\, 39 2nd Street\, Presque Isle\, 04769\, United States
END:VEVENT
BEGIN:VEVENT
DTSTART;TZID=America/New_York:20250621T080000
DTEND;TZID=America/New_York:20250621T170000
DTSTAMP:20260420T115827
CREATED:20250214T024651Z
LAST-MODIFIED:20250214T024651Z
UID:10001141-1750492800-1750525200@centralaroostookchamber.com
SUMMARY:Houlton Community Farmer's Market
DESCRIPTION:
URL:https://centralaroostookchamber.com/community-event/houlton-community-farmers-market-2/2025-06-21/
LOCATION:Market Square\, Houlton\, Market Square\, Houlton\, 04730\, United States
END:VEVENT
BEGIN:VEVENT
DTSTART;TZID=America/New_York:20250621T070000
DTEND;TZID=America/New_York:20250621T120000
DTSTAMP:20260420T115827
CREATED:20250214T024430Z
LAST-MODIFIED:20250214T024430Z
UID:10001065-1750489200-1750507200@centralaroostookchamber.com
SUMMARY:Riverside Park Farmer's Market
DESCRIPTION:
URL:https://centralaroostookchamber.com/community-event/riverside-park-farmers-market-2-2/2025-06-21/
LOCATION:Riverside Park\, Fort Kent\, East Main Street\, Fort Kent\, 04743\, United States
END:VEVENT
BEGIN:VEVENT
DTSTART;TZID=America/New_York:20250620T130000
DTEND;TZID=America/New_York:20250620T180000
DTSTAMP:20260420T115827
CREATED:20250214T024324Z
LAST-MODIFIED:20250214T024324Z
UID:10000907-1750424400-1750442400@centralaroostookchamber.com
SUMMARY:Riverside Park Farmer's Market
DESCRIPTION:
URL:https://centralaroostookchamber.com/community-event/riverside-park-farmers-market-3/2025-06-20/
LOCATION:Riverside Park\, Fort Kent\, East Main Street\, Fort Kent\, 04743\, United States
END:VEVENT
BEGIN:VEVENT
DTSTART;TZID=America/New_York:20250619T100000
DTEND;TZID=America/New_York:20250619T180000
DTSTAMP:20260420T115827
CREATED:20250205T021530Z
LAST-MODIFIED:20250205T021540Z
UID:10001511-1750327200-1750356000@centralaroostookchamber.com
SUMMARY:Caribou Farmer's Market
DESCRIPTION:
URL:https://centralaroostookchamber.com/community-event/caribou-farmers-market-6/2025-06-19/
LOCATION:Bennett Drive Plaza\, 159 Bennett Drive\, Caribou\, 04736\, United States
END:VEVENT
BEGIN:VEVENT
DTSTART;TZID=America/New_York:20250617T143000
DTEND;TZID=America/New_York:20250617T160000
DTSTAMP:20260420T115827
CREATED:20240331T144456Z
LAST-MODIFIED:20240331T144456Z
UID:10000336-1750170600-1750176000@centralaroostookchamber.com
SUMMARY:Public Youth Art Group
DESCRIPTION:The Youth Peer Support Statewide Network (Youth Peer Support Statewide Network | Maine Behavioral Healthcare | Maine (mainehealth.org)) is a growing resource open to any Youth (ages 14 – 26) who reside in Maine and self-identify as having struggled with Mental Health challenges. \nThe YPSSN welcomes Aroostook County Youth to participate in the free\, weekly Art Group\, at the Mark and Emily Turner Memorial Library! You do not have to work with one of our Peer Partners to participate in this recurring event\, it’s free\, and we provide snacks! Just show up\, bring some curiosity\, and let’s make Art! \nArt Supplies and Snacks are provided for free when in attendance at the weekly Art Group. Parental supervision is not required\, but the participants must meet the following criteria:  \n\n1. Be between the ages of 14 – 26\n2. Self-identify as having Mental Health struggles. NO DIAGNOSIS needed.\n3. Be a Maine resident. If you’re an unhoused community member in Maine\, we have open arms and Welcome you! \nHope to see you at the next YPSSN Art Group! \n\nLocation Mark and Emily Turner Memorial Library
URL:https://centralaroostookchamber.com/community-event/public-youth-art-group/2025-06-17/
LOCATION:Mark and Emily Turner Memorial Library\, 39 2nd Street\, Presque Isle\, 04769\, United States
END:VEVENT
BEGIN:VEVENT
DTSTART;VALUE=DATE:20250616
DTEND;VALUE=DATE:20250617
DTSTAMP:20260420T115827
CREATED:20240331T150020Z
LAST-MODIFIED:20240331T150020Z
UID:10000609-1750032000-1750118399@centralaroostookchamber.com
SUMMARY:American Legion Monthly Meeting - Skyway Industrial Park
DESCRIPTION:Supper with a business meeting to follow. \nAuxiliary Members\, Wives\, and Guests are always welcome.
URL:https://centralaroostookchamber.com/community-event/american-legion-monthly-meeting-skyway-industrial-park/2025-06-16/
LOCATION:ME
END:VEVENT
BEGIN:VEVENT
DTSTART;TZID=America/New_York:20250614T080000
DTEND;TZID=America/New_York:20250614T170000
DTSTAMP:20260420T115827
CREATED:20250214T024651Z
LAST-MODIFIED:20250214T024651Z
UID:10001140-1749888000-1749920400@centralaroostookchamber.com
SUMMARY:Houlton Community Farmer's Market
DESCRIPTION:
URL:https://centralaroostookchamber.com/community-event/houlton-community-farmers-market-2/2025-06-14/
LOCATION:Market Square\, Houlton\, Market Square\, Houlton\, 04730\, United States
END:VEVENT
BEGIN:VEVENT
DTSTART;TZID=America/New_York:20250614T070000
DTEND;TZID=America/New_York:20250614T120000
DTSTAMP:20260420T115827
CREATED:20250214T024430Z
LAST-MODIFIED:20250214T024430Z
UID:10001064-1749884400-1749902400@centralaroostookchamber.com
SUMMARY:Riverside Park Farmer's Market
DESCRIPTION:
URL:https://centralaroostookchamber.com/community-event/riverside-park-farmers-market-2-2/2025-06-14/
LOCATION:Riverside Park\, Fort Kent\, East Main Street\, Fort Kent\, 04743\, United States
END:VEVENT
BEGIN:VEVENT
DTSTART;TZID=America/New_York:20250613T130000
DTEND;TZID=America/New_York:20250613T180000
DTSTAMP:20260420T115827
CREATED:20250214T024324Z
LAST-MODIFIED:20250214T024324Z
UID:10000906-1749819600-1749837600@centralaroostookchamber.com
SUMMARY:Riverside Park Farmer's Market
DESCRIPTION:
URL:https://centralaroostookchamber.com/community-event/riverside-park-farmers-market-3/2025-06-13/
LOCATION:Riverside Park\, Fort Kent\, East Main Street\, Fort Kent\, 04743\, United States
END:VEVENT
BEGIN:VEVENT
DTSTART;TZID=America/New_York:20250612T173000
DTEND;TZID=America/New_York:20250612T183000
DTSTAMP:20260420T115827
CREATED:20250506T150010Z
LAST-MODIFIED:20250506T150010Z
UID:10001687-1749749400-1749753000@centralaroostookchamber.com
SUMMARY:Guided Walking Tours of Historic Fairmount Cemetery
DESCRIPTION:The tours begin at 5:30pm at the Civil War Monument in Fairmount Cemetery on US Route 1 just south of the city proper. Parking is available across the street at the Chamber of Commerce. Tickets $5.00 each. Hear the history of the cemetery\, about its Victorian influences and the stories of some of Presque Isle’s interesting historical figures interred within. Reservations Required.\nJune 12\, July 10\, August 14\, and September 11.
URL:https://centralaroostookchamber.com/community-event/guided-walking-tours-of-historic-fairmount-cemetery/2025-06-12/
LOCATION:ME
END:VEVENT
BEGIN:VEVENT
DTSTART;TZID=America/New_York:20250612T100000
DTEND;TZID=America/New_York:20250612T180000
DTSTAMP:20260420T115827
CREATED:20250205T021530Z
LAST-MODIFIED:20250205T021540Z
UID:10001510-1749722400-1749751200@centralaroostookchamber.com
SUMMARY:Caribou Farmer's Market
DESCRIPTION:
URL:https://centralaroostookchamber.com/community-event/caribou-farmers-market-6/2025-06-12/
LOCATION:Bennett Drive Plaza\, 159 Bennett Drive\, Caribou\, 04736\, United States
END:VEVENT
BEGIN:VEVENT
DTSTART;TZID=America/New_York:20250610T143000
DTEND;TZID=America/New_York:20250610T160000
DTSTAMP:20260420T115827
CREATED:20240331T144456Z
LAST-MODIFIED:20240331T144456Z
UID:10000335-1749565800-1749571200@centralaroostookchamber.com
SUMMARY:Public Youth Art Group
DESCRIPTION:The Youth Peer Support Statewide Network (Youth Peer Support Statewide Network | Maine Behavioral Healthcare | Maine (mainehealth.org)) is a growing resource open to any Youth (ages 14 – 26) who reside in Maine and self-identify as having struggled with Mental Health challenges. \nThe YPSSN welcomes Aroostook County Youth to participate in the free\, weekly Art Group\, at the Mark and Emily Turner Memorial Library! You do not have to work with one of our Peer Partners to participate in this recurring event\, it’s free\, and we provide snacks! Just show up\, bring some curiosity\, and let’s make Art! \nArt Supplies and Snacks are provided for free when in attendance at the weekly Art Group. Parental supervision is not required\, but the participants must meet the following criteria:  \n\n1. Be between the ages of 14 – 26\n2. Self-identify as having Mental Health struggles. NO DIAGNOSIS needed.\n3. Be a Maine resident. If you’re an unhoused community member in Maine\, we have open arms and Welcome you! \nHope to see you at the next YPSSN Art Group! \n\nLocation Mark and Emily Turner Memorial Library
URL:https://centralaroostookchamber.com/community-event/public-youth-art-group/2025-06-10/
LOCATION:Mark and Emily Turner Memorial Library\, 39 2nd Street\, Presque Isle\, 04769\, United States
END:VEVENT
BEGIN:VEVENT
DTSTART;TZID=America/New_York:20250607T080000
DTEND;TZID=America/New_York:20250607T170000
DTSTAMP:20260420T115827
CREATED:20250214T024651Z
LAST-MODIFIED:20250214T024651Z
UID:10001139-1749283200-1749315600@centralaroostookchamber.com
SUMMARY:Houlton Community Farmer's Market
DESCRIPTION:
URL:https://centralaroostookchamber.com/community-event/houlton-community-farmers-market-2/2025-06-07/
LOCATION:Market Square\, Houlton\, Market Square\, Houlton\, 04730\, United States
END:VEVENT
BEGIN:VEVENT
DTSTART;TZID=America/New_York:20250607T070000
DTEND;TZID=America/New_York:20250607T120000
DTSTAMP:20260420T115827
CREATED:20250214T024430Z
LAST-MODIFIED:20250214T024430Z
UID:10001063-1749279600-1749297600@centralaroostookchamber.com
SUMMARY:Riverside Park Farmer's Market
DESCRIPTION:
URL:https://centralaroostookchamber.com/community-event/riverside-park-farmers-market-2-2/2025-06-07/
LOCATION:Riverside Park\, Fort Kent\, East Main Street\, Fort Kent\, 04743\, United States
END:VEVENT
BEGIN:VEVENT
DTSTART;VALUE=DATE:20250607
DTEND;VALUE=DATE:20250609
DTSTAMP:20260420T115827
CREATED:20250214T030745Z
LAST-MODIFIED:20250214T035642Z
UID:10001535-1749254400-1749427199@centralaroostookchamber.com
SUMMARY:Presque Isle Area Wide Yard Sale
DESCRIPTION:Our Annual Presque Isle Area-Wide Yard Sale is held the first weekend in June.  Being held on June 7 & 8\, 2025.The time has come! Join us for our Annual Area Wide Yard Sale! Household goods\, trinkets\, decor\, toys\, clothes and more!  Over 2\,000 maps are distributed in Presque Isle and surrounding communities with registrant’s address and categories of items they are selling.  Register by May 17\, 2025 to be included on our printed map!  After you register\, stop by the Chamber to pick up your “Official Participation Sign” to display on your property! Presque Isle and surrounding communities are invited to register for this event!
URL:https://centralaroostookchamber.com/community-event/presque-isle-area-wide-yard-sale/
LOCATION:ME
ATTACH;FMTTYPE=image/webp:https://centralaroostookchamber.com/wp-content/uploads/2024/03/YardSale_Logo.webp
ORGANIZER;CN="Central Aroostook Chamber of Commerce":MAILTO:info@centralaroostookchamber.com
END:VEVENT
BEGIN:VEVENT
DTSTART;TZID=America/New_York:20250606T170000
DTEND;TZID=America/New_York:20250606T200000
DTSTAMP:20260420T115827
CREATED:20241011T184945Z
LAST-MODIFIED:20250214T033744Z
UID:10001435-1749229200-1749240000@centralaroostookchamber.com
SUMMARY:First Friday Art Walk
DESCRIPTION:Join us in Beautiful downtown Presque Isle Maine while we have our First Friday Art Walk! This event happens year-round\, on the first Friday of every month. Join our local businesses as they celebrate and display local artisans. Refreshments are usually served\, and a flyer is available to show you which business to hit next on your walk. This is a fun event and is open and free to the public.
URL:https://centralaroostookchamber.com/community-event/first-friday-art-walk-2-2-2/2025-06-06/
LOCATION:Presque Isle Maine\, Main Street\, Presque Isle\, 04769\, United States
ATTACH;FMTTYPE=image/webp:https://centralaroostookchamber.com/wp-content/uploads/2024/03/firstfridayfoot-lg.webp
ORGANIZER;CN="Central Aroostook Chamber of Commerce":MAILTO:info@centralaroostookchamber.com
END:VEVENT
BEGIN:VEVENT
DTSTART;TZID=America/New_York:20250606T130000
DTEND;TZID=America/New_York:20250606T180000
DTSTAMP:20260420T115827
CREATED:20250214T024324Z
LAST-MODIFIED:20250214T024324Z
UID:10000905-1749214800-1749232800@centralaroostookchamber.com
SUMMARY:Riverside Park Farmer's Market
DESCRIPTION:
URL:https://centralaroostookchamber.com/community-event/riverside-park-farmers-market-3/2025-06-06/
LOCATION:Riverside Park\, Fort Kent\, East Main Street\, Fort Kent\, 04743\, United States
END:VEVENT
BEGIN:VEVENT
DTSTART;TZID=America/New_York:20250605T100000
DTEND;TZID=America/New_York:20250605T180000
DTSTAMP:20260420T115827
CREATED:20250205T021530Z
LAST-MODIFIED:20250205T021540Z
UID:10000733-1749117600-1749146400@centralaroostookchamber.com
SUMMARY:Caribou Farmer's Market
DESCRIPTION:
URL:https://centralaroostookchamber.com/community-event/caribou-farmers-market-6/2025-06-05/
LOCATION:Bennett Drive Plaza\, 159 Bennett Drive\, Caribou\, 04736\, United States
END:VEVENT
BEGIN:VEVENT
DTSTART;TZID=America/New_York:20250604T100000
DTEND;TZID=America/New_York:20250604T180000
DTSTAMP:20260420T115827
CREATED:20250214T025030Z
LAST-MODIFIED:20250214T025030Z
UID:10000732-1749031200-1749060000@centralaroostookchamber.com
SUMMARY:Caribou Farmer's Market
DESCRIPTION:
URL:https://centralaroostookchamber.com/community-event/caribou-farmers-market-7/
LOCATION:Bennett Drive Plaza\, 159 Bennett Drive\, Caribou\, 04736\, United States
END:VEVENT
BEGIN:VEVENT
DTSTART;TZID=America/New_York:20250603T143000
DTEND;TZID=America/New_York:20250603T160000
DTSTAMP:20260420T115827
CREATED:20240331T144456Z
LAST-MODIFIED:20240331T144456Z
UID:10000334-1748961000-1748966400@centralaroostookchamber.com
SUMMARY:Public Youth Art Group
DESCRIPTION:The Youth Peer Support Statewide Network (Youth Peer Support Statewide Network | Maine Behavioral Healthcare | Maine (mainehealth.org)) is a growing resource open to any Youth (ages 14 – 26) who reside in Maine and self-identify as having struggled with Mental Health challenges. \nThe YPSSN welcomes Aroostook County Youth to participate in the free\, weekly Art Group\, at the Mark and Emily Turner Memorial Library! You do not have to work with one of our Peer Partners to participate in this recurring event\, it’s free\, and we provide snacks! Just show up\, bring some curiosity\, and let’s make Art! \nArt Supplies and Snacks are provided for free when in attendance at the weekly Art Group. Parental supervision is not required\, but the participants must meet the following criteria:  \n\n1. Be between the ages of 14 – 26\n2. Self-identify as having Mental Health struggles. NO DIAGNOSIS needed.\n3. Be a Maine resident. If you’re an unhoused community member in Maine\, we have open arms and Welcome you! \nHope to see you at the next YPSSN Art Group! \n\nLocation Mark and Emily Turner Memorial Library
URL:https://centralaroostookchamber.com/community-event/public-youth-art-group/2025-06-03/
LOCATION:Mark and Emily Turner Memorial Library\, 39 2nd Street\, Presque Isle\, 04769\, United States
END:VEVENT
BEGIN:VEVENT
DTSTART;TZID=America/New_York:20250531T080000
DTEND;TZID=America/New_York:20250531T170000
DTSTAMP:20260420T115827
CREATED:20250214T024651Z
LAST-MODIFIED:20250214T024651Z
UID:10001138-1748678400-1748710800@centralaroostookchamber.com
SUMMARY:Houlton Community Farmer's Market
DESCRIPTION:
URL:https://centralaroostookchamber.com/community-event/houlton-community-farmers-market-2/2025-05-31/
LOCATION:Market Square\, Houlton\, Market Square\, Houlton\, 04730\, United States
END:VEVENT
BEGIN:VEVENT
DTSTART;TZID=America/New_York:20250531T070000
DTEND;TZID=America/New_York:20250531T120000
DTSTAMP:20260420T115827
CREATED:20250214T024430Z
LAST-MODIFIED:20250214T024430Z
UID:10001062-1748674800-1748692800@centralaroostookchamber.com
SUMMARY:Riverside Park Farmer's Market
DESCRIPTION:
URL:https://centralaroostookchamber.com/community-event/riverside-park-farmers-market-2-2/2025-05-31/
LOCATION:Riverside Park\, Fort Kent\, East Main Street\, Fort Kent\, 04743\, United States
END:VEVENT
BEGIN:VEVENT
DTSTART;TZID=America/New_York:20250530T130000
DTEND;TZID=America/New_York:20250530T180000
DTSTAMP:20260420T115827
CREATED:20250214T024324Z
LAST-MODIFIED:20250214T024324Z
UID:10000904-1748610000-1748628000@centralaroostookchamber.com
SUMMARY:Riverside Park Farmer's Market
DESCRIPTION:
URL:https://centralaroostookchamber.com/community-event/riverside-park-farmers-market-3/2025-05-30/
LOCATION:Riverside Park\, Fort Kent\, East Main Street\, Fort Kent\, 04743\, United States
END:VEVENT
BEGIN:VEVENT
DTSTART;TZID=America/New_York:20250527T143000
DTEND;TZID=America/New_York:20250527T160000
DTSTAMP:20260420T115827
CREATED:20240331T144456Z
LAST-MODIFIED:20240331T144456Z
UID:10000333-1748356200-1748361600@centralaroostookchamber.com
SUMMARY:Public Youth Art Group
DESCRIPTION:The Youth Peer Support Statewide Network (Youth Peer Support Statewide Network | Maine Behavioral Healthcare | Maine (mainehealth.org)) is a growing resource open to any Youth (ages 14 – 26) who reside in Maine and self-identify as having struggled with Mental Health challenges. \nThe YPSSN welcomes Aroostook County Youth to participate in the free\, weekly Art Group\, at the Mark and Emily Turner Memorial Library! You do not have to work with one of our Peer Partners to participate in this recurring event\, it’s free\, and we provide snacks! Just show up\, bring some curiosity\, and let’s make Art! \nArt Supplies and Snacks are provided for free when in attendance at the weekly Art Group. Parental supervision is not required\, but the participants must meet the following criteria:  \n\n1. Be between the ages of 14 – 26\n2. Self-identify as having Mental Health struggles. NO DIAGNOSIS needed.\n3. Be a Maine resident. If you’re an unhoused community member in Maine\, we have open arms and Welcome you! \nHope to see you at the next YPSSN Art Group! \n\nLocation Mark and Emily Turner Memorial Library
URL:https://centralaroostookchamber.com/community-event/public-youth-art-group/2025-05-27/
LOCATION:Mark and Emily Turner Memorial Library\, 39 2nd Street\, Presque Isle\, 04769\, United States
END:VEVENT
BEGIN:VEVENT
DTSTART;TZID=America/New_York:20250524T080000
DTEND;TZID=America/New_York:20250524T170000
DTSTAMP:20260420T115827
CREATED:20250214T024651Z
LAST-MODIFIED:20250214T024651Z
UID:10001121-1748073600-1748106000@centralaroostookchamber.com
SUMMARY:Houlton Community Farmer's Market
DESCRIPTION:
URL:https://centralaroostookchamber.com/community-event/houlton-community-farmers-market-2/2025-05-24/
LOCATION:Market Square\, Houlton\, Market Square\, Houlton\, 04730\, United States
END:VEVENT
END:VCALENDAR