BEGIN:VCALENDAR
VERSION:2.0
PRODID:-//Central Aroostook Chamber of Commerce - ECPv6.15.20//NONSGML v1.0//EN
CALSCALE:GREGORIAN
METHOD:PUBLISH
X-ORIGINAL-URL:https://centralaroostookchamber.com
X-WR-CALDESC:Events for Central Aroostook Chamber of Commerce
REFRESH-INTERVAL;VALUE=DURATION:PT1H
X-Robots-Tag:noindex
X-PUBLISHED-TTL:PT1H
BEGIN:VTIMEZONE
TZID:America/New_York
BEGIN:DAYLIGHT
TZOFFSETFROM:-0500
TZOFFSETTO:-0400
TZNAME:EDT
DTSTART:20250309T070000
END:DAYLIGHT
BEGIN:STANDARD
TZOFFSETFROM:-0400
TZOFFSETTO:-0500
TZNAME:EST
DTSTART:20251102T060000
END:STANDARD
BEGIN:DAYLIGHT
TZOFFSETFROM:-0500
TZOFFSETTO:-0400
TZNAME:EDT
DTSTART:20260308T070000
END:DAYLIGHT
BEGIN:STANDARD
TZOFFSETFROM:-0400
TZOFFSETTO:-0500
TZNAME:EST
DTSTART:20261101T060000
END:STANDARD
BEGIN:DAYLIGHT
TZOFFSETFROM:-0500
TZOFFSETTO:-0400
TZNAME:EDT
DTSTART:20270314T070000
END:DAYLIGHT
BEGIN:STANDARD
TZOFFSETFROM:-0400
TZOFFSETTO:-0500
TZNAME:EST
DTSTART:20271107T060000
END:STANDARD
END:VTIMEZONE
BEGIN:VEVENT
DTSTART;TZID=America/New_York:20260418T090000
DTEND;TZID=America/New_York:20260418T150000
DTSTAMP:20260420T111408
CREATED:20260306T150641Z
LAST-MODIFIED:20260306T150641Z
UID:10001817-1776502800-1776524400@centralaroostookchamber.com
SUMMARY:Ashland Spring Craft Fair
DESCRIPTION:Come on out and support our locals! We will be having a Craft Fair April 18th\, from 9am to 3pm\, at the Ashland Recreational Department. Build-A-Bear is back\, so bring your kids out!!! There will be a variety of crafters and a couple yard sale booths. We have Quilting\, Knitting\, Permant Jewelry\, Red Aspen Nails\, Zebra Sent Products\, Wood Working\, and more! There will be something for everyone. If your interested in a booth call/text/FB Message Lindsey Hafford (207) 554-0553. Full Booths are $25.00 and Half Booths are $12.50. Please feel free to share with all your family and friends. Thank You for all of the public support and a huge Thank You goes out to the Crafters/Vendors. We couldn’t make this possible without everyone involved. See everyone soon!!!
URL:https://centralaroostookchamber.com/community-event/ashland-spring-craft-fair/
LOCATION:Ashland Recreational Department\, Exchange Street\, Ashland\, M\, 04732\, United States
END:VEVENT
BEGIN:VEVENT
DTSTART;TZID=America/New_York:20260418T090000
DTEND;TZID=America/New_York:20260418T150000
DTSTAMP:20260420T111408
CREATED:20260325T152246Z
LAST-MODIFIED:20260325T152246Z
UID:10001828-1776502800-1776524400@centralaroostookchamber.com
SUMMARY:Craft Fair
DESCRIPTION:Come check out the Spring Craft Fair at the Ashland Recreational Center April 18th from 9am to 3pm. We have a bunch of different vendors. Build-A-Bear\, Zebra Products\, Aspen Nails\, Permanent Jewelry\, Quilting\, Crafts\, Wood Working\, and more.
URL:https://centralaroostookchamber.com/community-event/craft-fair/
LOCATION:Ashland Recreational Department\, Exchange Street\, Ashland\, M\, 04732\, United States
END:VEVENT
BEGIN:VEVENT
DTSTART;TZID=America/New_York:20260418T100000
DTEND;TZID=America/New_York:20260418T110000
DTSTAMP:20260420T111408
CREATED:20260219T193746Z
LAST-MODIFIED:20260219T193746Z
UID:10001813-1776506400-1776510000@centralaroostookchamber.com
SUMMARY:Poetry Reading - Longfellow's "Paul Revere's Ride"
DESCRIPTION:FREE – Akeley Gallery\, Turner Memorial Library\, 39 Second Street
URL:https://centralaroostookchamber.com/community-event/poetry-reading-longfellows-paul-reveres-ride/
LOCATION:Mark and Emily Turner Memorial Library\, 39 2nd Street\, Presque Isle\, 04769\, United States
END:VEVENT
BEGIN:VEVENT
DTSTART;TZID=America/New_York:20260418T170000
DTEND;TZID=America/New_York:20260418T210000
DTSTAMP:20260420T111408
CREATED:20260325T152109Z
LAST-MODIFIED:20260325T152109Z
UID:10001827-1776531600-1776546000@centralaroostookchamber.com
SUMMARY:1920's Murder Mystery Dining Experience
DESCRIPTION:Step back in time to the glitz and glamour of the Jazz Age for an unforgettable night of mystery\, mayhem\, and mouthwatering cuisine! Join us for “Murder at the Speakeasy”\, a fully immersive 1920s-themed murder mystery dining experience where YOU become part of the story. The champagne flows\, the jazz plays hot\, and secrets run deeper than a bathtub gin operation. But when someone turns up dead\, it’s up to you and your fellow guests to uncover the killer hiding in plain sight. ✨ What to Expect: A decadent 3-course dinner inspired by the flavors of the 1920s Live\, interactive entertainment featuring professional actors and unscripted twists A suspenseful\, fun-filled plot where guests can engage as much—or as little—as they like in solving the crime 🎩 Dress to Impress! Channel your inner flapper\, gangster\, or silent film star—dressing up is highly encouraged! Feathered headbands\, fedoras\, pearls\, pinstripes\, and all the razzle-dazzle of the era are welcome. There may even be a prize for Best Dressed!
URL:https://centralaroostookchamber.com/community-event/1920s-murder-mystery-dining-experience/
LOCATION:Anah Shriners Club\, 390 Houlton Road\, Presque Isle\, 04769\, United States
ATTACH;FMTTYPE=image/webp:https://centralaroostookchamber.com/wp-content/uploads/2026/03/WE-Events-and-Rentals-LLC.webp
ORGANIZER;CN="W&amp%3BE Events and Rentals LLC":MAILTO:w.e.eventsandrentals@gmail.com
END:VEVENT
END:VCALENDAR