BEGIN:VCALENDAR
VERSION:2.0
PRODID:-//Central Aroostook Chamber of Commerce - ECPv6.15.20//NONSGML v1.0//EN
CALSCALE:GREGORIAN
METHOD:PUBLISH
X-ORIGINAL-URL:https://centralaroostookchamber.com
X-WR-CALDESC:Events for Central Aroostook Chamber of Commerce
REFRESH-INTERVAL;VALUE=DURATION:PT1H
X-Robots-Tag:noindex
X-PUBLISHED-TTL:PT1H
BEGIN:VTIMEZONE
TZID:America/New_York
BEGIN:DAYLIGHT
TZOFFSETFROM:-0500
TZOFFSETTO:-0400
TZNAME:EDT
DTSTART:20250309T070000
END:DAYLIGHT
BEGIN:STANDARD
TZOFFSETFROM:-0400
TZOFFSETTO:-0500
TZNAME:EST
DTSTART:20251102T060000
END:STANDARD
BEGIN:DAYLIGHT
TZOFFSETFROM:-0500
TZOFFSETTO:-0400
TZNAME:EDT
DTSTART:20260308T070000
END:DAYLIGHT
BEGIN:STANDARD
TZOFFSETFROM:-0400
TZOFFSETTO:-0500
TZNAME:EST
DTSTART:20261101T060000
END:STANDARD
BEGIN:DAYLIGHT
TZOFFSETFROM:-0500
TZOFFSETTO:-0400
TZNAME:EDT
DTSTART:20270314T070000
END:DAYLIGHT
BEGIN:STANDARD
TZOFFSETFROM:-0400
TZOFFSETTO:-0500
TZNAME:EST
DTSTART:20271107T060000
END:STANDARD
END:VTIMEZONE
BEGIN:VEVENT
DTSTART;VALUE=DATE:20260420
DTEND;VALUE=DATE:20260421
DTSTAMP:20260419T094627
CREATED:20240331T150020Z
LAST-MODIFIED:20240331T150020Z
UID:10000619-1776643200-1776729599@centralaroostookchamber.com
SUMMARY:American Legion Monthly Meeting - Skyway Industrial Park
DESCRIPTION:Supper with a business meeting to follow. \nAuxiliary Members\, Wives\, and Guests are always welcome.
URL:https://centralaroostookchamber.com/community-event/american-legion-monthly-meeting-skyway-industrial-park/2026-04-20/
LOCATION:ME
END:VEVENT
BEGIN:VEVENT
DTSTART;TZID=America/New_York:20260421T143000
DTEND;TZID=America/New_York:20260421T160000
DTSTAMP:20260419T094627
CREATED:20240331T144456Z
LAST-MODIFIED:20240331T144456Z
UID:10000380-1776781800-1776787200@centralaroostookchamber.com
SUMMARY:Public Youth Art Group
DESCRIPTION:The Youth Peer Support Statewide Network (Youth Peer Support Statewide Network | Maine Behavioral Healthcare | Maine (mainehealth.org)) is a growing resource open to any Youth (ages 14 – 26) who reside in Maine and self-identify as having struggled with Mental Health challenges. \nThe YPSSN welcomes Aroostook County Youth to participate in the free\, weekly Art Group\, at the Mark and Emily Turner Memorial Library! You do not have to work with one of our Peer Partners to participate in this recurring event\, it’s free\, and we provide snacks! Just show up\, bring some curiosity\, and let’s make Art! \nArt Supplies and Snacks are provided for free when in attendance at the weekly Art Group. Parental supervision is not required\, but the participants must meet the following criteria:  \n\n1. Be between the ages of 14 – 26\n2. Self-identify as having Mental Health struggles. NO DIAGNOSIS needed.\n3. Be a Maine resident. If you’re an unhoused community member in Maine\, we have open arms and Welcome you! \nHope to see you at the next YPSSN Art Group! \n\nLocation Mark and Emily Turner Memorial Library
URL:https://centralaroostookchamber.com/community-event/public-youth-art-group/2026-04-21/
LOCATION:Mark and Emily Turner Memorial Library\, 39 2nd Street\, Presque Isle\, 04769\, United States
END:VEVENT
BEGIN:VEVENT
DTSTART;TZID=America/New_York:20260424T183000
DTEND;TZID=America/New_York:20260424T190000
DTSTAMP:20260419T094627
CREATED:20260212T154959Z
LAST-MODIFIED:20260212T154959Z
UID:10001806-1777055400-1777057200@centralaroostookchamber.com
SUMMARY:Planetarium Show: Unveiling the Invisible Universe
DESCRIPTION:Unveiling the Invisible Universe\nFor thousands of years\, humans observed the light coming from the night sky with their eyes. At the beginning of the 17th century\, Galileo’s invention of the telescope revolutionized our knowledge of the Universe. Finally\, in the 20th century\, with the advent of rockets\, it became possible to go above the Earth’s atmosphere and observe X-ray and gamma ray radiation\, which are the marks of the hot and violent universe. But it is not only light that can give us information about the cosmos. Neutrinos and cosmic rays also provide vital information. Finally\, the detection by the LIGO experiment of gravitational waves from two merging black holes opened a new window in astrophysics. This video presents images of the cosmos as revealed by all these different messengers. \nPreview at: https://www.youtube.com/watch?v=FF8mQ9raouE \nSpace is limited to 30 people; reservations are needed. Please call Jim Stepp at 207-554-7837 and leave a message containing your name\, the number of seats your party will need\, and your phone number. You will receive a call in the evening confirming your reservation. \nTickets are $5.00 per person. We are unable to take credit/Debit cards. Please bring exact cash.
URL:https://centralaroostookchamber.com/community-event/planetarium-show-unveiling-the-invisible-universe/
LOCATION:Francis Malcolm Science Center\, 776 Houlton Rd.\, Easton\, 04740\, United States
ATTACH;FMTTYPE=image/webp:https://centralaroostookchamber.com/wp-content/uploads/2026/02/Unveiling-the-Invisible-Universe-scaled.webp
END:VEVENT
BEGIN:VEVENT
DTSTART;TZID=America/New_York:20260425T150000
DTEND;TZID=America/New_York:20260425T153000
DTSTAMP:20260419T094627
CREATED:20260212T155206Z
LAST-MODIFIED:20260212T155206Z
UID:10001807-1777129200-1777131000@centralaroostookchamber.com
SUMMARY:Planetarium Show: Unveiling the Invisible Universe
DESCRIPTION:Unveiling the Invisible Universe\nFor thousands of years\, humans observed the light coming from the night sky with their eyes. At the beginning of the 17th century\, Galileo’s invention of the telescope revolutionized our knowledge of the Universe. Finally\, in the 20th century\, with the advent of rockets\, it became possible to go above the Earth’s atmosphere and observe X-ray and gamma ray radiation\, which are the marks of the hot and violent universe. But it is not only light that can give us information about the cosmos. Neutrinos and cosmic rays also provide vital information. Finally\, the detection by the LIGO experiment of gravitational waves from two merging black holes opened a new window in astrophysics. This video presents images of the cosmos as revealed by all these different messengers. \nPreview at: https://www.youtube.com/watch?v=FF8mQ9raouE \nSpace is limited to 30 people; reservations are needed. Please call Jim Stepp at 207-554-7837 and leave a message containing your name\, the number of seats your party will need\, and your phone number. You will receive a call in the evening confirming your reservation. \nTickets are $5.00 per person. We are unable to take credit/Debit cards. Please bring exact cash.
URL:https://centralaroostookchamber.com/community-event/planetarium-show-unveiling-the-invisible-universe-2/
LOCATION:Francis Malcolm Science Center\, 776 Houlton Rd.\, Easton\, 04740\, United States
ATTACH;FMTTYPE=image/webp:https://centralaroostookchamber.com/wp-content/uploads/2026/02/Unveiling-the-Invisible-Universe-1-scaled.webp
ORGANIZER;CN="Francis Malcolm Science Center":MAILTO:jimandbeckystepp@gmail.com
END:VEVENT
BEGIN:VEVENT
DTSTART;TZID=America/New_York:20260428T143000
DTEND;TZID=America/New_York:20260428T160000
DTSTAMP:20260419T094627
CREATED:20240331T144456Z
LAST-MODIFIED:20240331T144456Z
UID:10000381-1777386600-1777392000@centralaroostookchamber.com
SUMMARY:Public Youth Art Group
DESCRIPTION:The Youth Peer Support Statewide Network (Youth Peer Support Statewide Network | Maine Behavioral Healthcare | Maine (mainehealth.org)) is a growing resource open to any Youth (ages 14 – 26) who reside in Maine and self-identify as having struggled with Mental Health challenges. \nThe YPSSN welcomes Aroostook County Youth to participate in the free\, weekly Art Group\, at the Mark and Emily Turner Memorial Library! You do not have to work with one of our Peer Partners to participate in this recurring event\, it’s free\, and we provide snacks! Just show up\, bring some curiosity\, and let’s make Art! \nArt Supplies and Snacks are provided for free when in attendance at the weekly Art Group. Parental supervision is not required\, but the participants must meet the following criteria:  \n\n1. Be between the ages of 14 – 26\n2. Self-identify as having Mental Health struggles. NO DIAGNOSIS needed.\n3. Be a Maine resident. If you’re an unhoused community member in Maine\, we have open arms and Welcome you! \nHope to see you at the next YPSSN Art Group! \n\nLocation Mark and Emily Turner Memorial Library
URL:https://centralaroostookchamber.com/community-event/public-youth-art-group/2026-04-28/
LOCATION:Mark and Emily Turner Memorial Library\, 39 2nd Street\, Presque Isle\, 04769\, United States
END:VEVENT
END:VCALENDAR